Back to Multiple platform build/check report for BioC 3.12
A[B]CDEFGHIJKLMNOPQRSTUVWXYZ

INSTALL report for basilisk.utils on tokay1

This page was generated on 2020-09-27 10:18:40 -0400 (Sun, 27 Sep 2020).

TO THE DEVELOPERS/MAINTAINERS OF THE basilisk.utils PACKAGE: Please make sure to use the following settings in order to reproduce any error or warning you see on this page.
Package 116/1923HostnameOS / ArchINSTALLBUILDCHECKBUILD BIN
basilisk.utils 1.1.11
Aaron Lun
Snapshot Date: 2020-09-26 14:42:06 -0400 (Sat, 26 Sep 2020)
URL: https://git.bioconductor.org/packages/basilisk.utils
Branch: master
Last Commit: 279dbdd
Last Changed Date: 2020-09-21 23:45:59 -0400 (Mon, 21 Sep 2020)
malbec1 Linux (Ubuntu 18.04.4 LTS) / x86_64  OK  OK  OK UNNEEDED, same version exists in internal repository
nebbiolo1 Linux (Ubuntu 20.04.1 LTS) / x86_64  OK  OK  OK 
tokay1 Windows Server 2012 R2 Standard / x64 [ OK ] OK  OK  OK 
riesling1 Windows Server 2019 Standard / x64  OK  OK  OK  OK 
merida1 macOS 10.14.6 Mojave / x86_64  OK  OK  OK  OK UNNEEDED, same version exists in internal repository

Summary

Package: basilisk.utils
Version: 1.1.11
Command: C:\cygwin\bin\curl.exe -O https://malbec1.bioconductor.org/BBS/3.12/bioc/src/contrib/basilisk.utils_1.1.11.tar.gz && rm -rf basilisk.utils.buildbin-libdir && mkdir basilisk.utils.buildbin-libdir && C:\Users\biocbuild\bbs-3.12-bioc\R\bin\R.exe CMD INSTALL --merge-multiarch --build --library=basilisk.utils.buildbin-libdir basilisk.utils_1.1.11.tar.gz && C:\Users\biocbuild\bbs-3.12-bioc\R\bin\R.exe CMD INSTALL basilisk.utils_1.1.11.zip && rm basilisk.utils_1.1.11.tar.gz basilisk.utils_1.1.11.zip
StartedAt: 2020-09-26 16:41:12 -0400 (Sat, 26 Sep 2020)
EndedAt: 2020-09-26 16:41:46 -0400 (Sat, 26 Sep 2020)
EllapsedTime: 33.9 seconds
RetCode: 0
Status:  OK  

Command output

##############################################################################
##############################################################################
###
### Running command:
###
###   C:\cygwin\bin\curl.exe -O https://malbec1.bioconductor.org/BBS/3.12/bioc/src/contrib/basilisk.utils_1.1.11.tar.gz && rm -rf basilisk.utils.buildbin-libdir && mkdir basilisk.utils.buildbin-libdir && C:\Users\biocbuild\bbs-3.12-bioc\R\bin\R.exe CMD INSTALL --merge-multiarch --build --library=basilisk.utils.buildbin-libdir basilisk.utils_1.1.11.tar.gz && C:\Users\biocbuild\bbs-3.12-bioc\R\bin\R.exe CMD INSTALL basilisk.utils_1.1.11.zip && rm basilisk.utils_1.1.11.tar.gz basilisk.utils_1.1.11.zip
###
##############################################################################
##############################################################################


  % Total    % Received % Xferd  Average Speed   Time    Time     Time  Current
                                 Dload  Upload   Total   Spent    Left  Speed

  0     0    0     0    0     0      0      0 --:--:-- --:--:-- --:--:--     0
  0     0    0     0    0     0      0      0 --:--:-- --:--:-- --:--:--     0
100 14343  100 14343    0     0   592k      0 --:--:-- --:--:-- --:--:--  666k

install for i386

* installing *source* package 'basilisk.utils' ...
** using staged installation
** R
** inst
** byte-compile and prepare package for lazy loading
** help
*** installing help indices
  converting help for package 'basilisk.utils'
    finding HTML links ... done
    clearExternalDir                        html  
    destroyOldVersions                      html  
    dir.create2                             html  
    getBinaries                             html  
    getCondaDir                             html  
    getExternalDir                          html  
    finding level-2 HTML links ... done

    getSystemDir                            html  
    installConda                            html  
    isWindows                               html  
    lockExternalDir                         html  
    setVariable                             html  
    unlink2                                 html  
    useSystemDir                            html  
** building package indices
** installing vignettes
** testing if installed package can be loaded from temporary location
** testing if installed package can be loaded from final location
** testing if installed package keeps a record of temporary installation path

install for x64

* installing *source* package 'basilisk.utils' ...
** testing if installed package can be loaded
* MD5 sums
packaged installation of 'basilisk.utils' as basilisk.utils_1.1.11.zip
* DONE (basilisk.utils)
* installing to library 'C:/Users/biocbuild/bbs-3.12-bioc/R/library'
package 'basilisk.utils' successfully unpacked and MD5 sums checked