Back to Multiple platform build/check report for BioC 3.12
A[B]CDEFGHIJKLMNOPQRSTUVWXYZ

BUILD report for basilisk.utils on tokay1

This page was generated on 2021-02-22 12:37:02 -0500 (Mon, 22 Feb 2021).

To the developers/maintainers of the basilisk.utils package:
Please make sure to use the following settings in order to reproduce any error or warning you see on this page.
Package 122/1974HostnameOS / ArchINSTALLBUILDCHECKBUILD BIN
basilisk.utils 1.2.2
Aaron Lun
Snapshot Date: 2021-02-21 14:52:07 -0500 (Sun, 21 Feb 2021)
URL: https://git.bioconductor.org/packages/basilisk.utils
Branch: RELEASE_3_12
Last Commit: d4795d1
Last Changed Date: 2021-01-27 12:55:00 -0500 (Wed, 27 Jan 2021)
malbec1Linux (Ubuntu 18.04.5 LTS) / x86_64  OK    OK    OK  UNNEEDED, same version exists in internal repository
nebbiolo1Linux (Ubuntu 20.04.2 LTS) / x86_64  OK    OK    OK  
tokay1Windows Server 2012 R2 Standard / x64  OK    OK    OK    OK  UNNEEDED, same version exists in internal repository
merida1macOS 10.14.6 Mojave / x86_64  OK    OK    OK    OK  UNNEEDED, same version exists in internal repository

Summary

Package: basilisk.utils
Version: 1.2.2
Command: chmod a+r basilisk.utils -R && C:\Users\biocbuild\bbs-3.12-bioc\R\bin\R.exe CMD build --keep-empty-dirs --no-resave-data basilisk.utils
StartedAt: 2021-02-21 19:43:47 -0500 (Sun, 21 Feb 2021)
EndedAt: 2021-02-21 19:43:59 -0500 (Sun, 21 Feb 2021)
EllapsedTime: 11.7 seconds
RetCode: 0
Status:   OK   
PackageFile: basilisk.utils_1.2.2.tar.gz
PackageFileSize: 229.9 KiB

Command output

##############################################################################
##############################################################################
###
### Running command:
###
###   chmod a+r basilisk.utils -R && C:\Users\biocbuild\bbs-3.12-bioc\R\bin\R.exe CMD build --keep-empty-dirs --no-resave-data basilisk.utils
###
##############################################################################
##############################################################################


* checking for file 'basilisk.utils/DESCRIPTION' ... OK
* preparing 'basilisk.utils':
* checking DESCRIPTION meta-information ... OK
* installing the package to build vignettes
* creating vignettes ... OK
* checking for LF line-endings in source and make files and shell scripts
* checking for empty or unneeded directories
* building 'basilisk.utils_1.2.2.tar.gz'