Back to Multiple platform build/check report for BioC 3.12
A[B]CDEFGHIJKLMNOPQRSTUVWXYZ

BUILD BIN report for basilisk.utils on tokay1

This page was generated on 2020-11-27 11:56:30 -0500 (Fri, 27 Nov 2020).

TO THE DEVELOPERS/MAINTAINERS OF THE basilisk.utils PACKAGE: Please make sure to use the following settings in order to reproduce any error or warning you see on this page.
Package 122/1974HostnameOS / ArchINSTALLBUILDCHECKBUILD BIN
basilisk.utils 1.2.0
Aaron Lun
Snapshot Date: 2020-11-26 14:42:42 -0500 (Thu, 26 Nov 2020)
URL: https://git.bioconductor.org/packages/basilisk.utils
Branch: RELEASE_3_12
Last Commit: b213e3f
Last Changed Date: 2020-10-27 11:53:41 -0500 (Tue, 27 Oct 2020)
malbec1 Linux (Ubuntu 18.04.4 LTS) / x86_64  OK  OK  OK UNNEEDED, same version exists in internal repository
nebbiolo1 Linux (Ubuntu 20.04.1 LTS) / x86_64  OK  OK  OK 
tokay1 Windows Server 2012 R2 Standard / x64  OK  OK  OK [ OK ]UNNEEDED, same version exists in internal repository
merida1 macOS 10.14.6 Mojave / x86_64  OK  OK  OK  OK UNNEEDED, same version exists in internal repository

Summary

Package: basilisk.utils
Version: 1.2.0
Command: rm -rf basilisk.utils.buildbin-libdir && mkdir basilisk.utils.buildbin-libdir && C:\Users\biocbuild\bbs-3.12-bioc\R\bin\R.exe CMD INSTALL --merge-multiarch --build --library=basilisk.utils.buildbin-libdir basilisk.utils_1.2.0.tar.gz
StartedAt: 2020-11-27 08:46:52 -0500 (Fri, 27 Nov 2020)
EndedAt: 2020-11-27 08:47:15 -0500 (Fri, 27 Nov 2020)
EllapsedTime: 23.1 seconds
RetCode: 0
Status:  OK  
PackageFile: basilisk.utils_1.2.0.zip
PackageFileSize: 281.3 KiB

Command output

##############################################################################
##############################################################################
###
### Running command:
###
###   rm -rf basilisk.utils.buildbin-libdir && mkdir basilisk.utils.buildbin-libdir && C:\Users\biocbuild\bbs-3.12-bioc\R\bin\R.exe CMD INSTALL --merge-multiarch --build --library=basilisk.utils.buildbin-libdir basilisk.utils_1.2.0.tar.gz
###
##############################################################################
##############################################################################



install for i386

* installing *source* package 'basilisk.utils' ...
** using staged installation
** R
** inst
** byte-compile and prepare package for lazy loading
** help
*** installing help indices
  converting help for package 'basilisk.utils'
    finding HTML links ... done
    clearExternalDir                        html  
    destroyOldVersions                      html  
    dir.create2                             html  
    getBinaries                             html  
    getCondaDir                             html  
    getExternalDir                          html  
    finding level-2 HTML links ... done

    getSystemDir                            html  
    installConda                            html  
    isWindows                               html  
    lockExternalDir                         html  
    setVariable                             html  
    unlink2                                 html  
    useSystemDir                            html  
** building package indices
** installing vignettes
** testing if installed package can be loaded from temporary location
** testing if installed package can be loaded from final location
** testing if installed package keeps a record of temporary installation path

install for x64

* installing *source* package 'basilisk.utils' ...
** testing if installed package can be loaded
* MD5 sums
packaged installation of 'basilisk.utils' as basilisk.utils_1.2.0.zip
* DONE (basilisk.utils)