Back to Multiple platform build/check report for BioC 3.12
A[B]CDEFGHIJKLMNOPQRSTUVWXYZ

CHECK report for basilisk.utils on merida1

This page was generated on 2021-02-22 12:41:53 -0500 (Mon, 22 Feb 2021).

To the developers/maintainers of the basilisk.utils package:
Please make sure to use the following settings in order to reproduce any error or warning you see on this page.
Package 122/1974HostnameOS / ArchINSTALLBUILDCHECKBUILD BIN
basilisk.utils 1.2.2
Aaron Lun
Snapshot Date: 2021-02-21 14:52:07 -0500 (Sun, 21 Feb 2021)
URL: https://git.bioconductor.org/packages/basilisk.utils
Branch: RELEASE_3_12
Last Commit: d4795d1
Last Changed Date: 2021-01-27 12:55:00 -0500 (Wed, 27 Jan 2021)
malbec1Linux (Ubuntu 18.04.5 LTS) / x86_64  OK    OK    OK  UNNEEDED, same version exists in internal repository
nebbiolo1Linux (Ubuntu 20.04.2 LTS) / x86_64  OK    OK    OK  
tokay1Windows Server 2012 R2 Standard / x64  OK    OK    OK    OK  UNNEEDED, same version exists in internal repository
merida1macOS 10.14.6 Mojave / x86_64  OK    OK    OK    OK  UNNEEDED, same version exists in internal repository

Summary

Package: basilisk.utils
Version: 1.2.2
Command: /Library/Frameworks/R.framework/Versions/Current/Resources/bin/R CMD check --install=check:basilisk.utils.install-out.txt --library=/Library/Frameworks/R.framework/Versions/Current/Resources/library --no-vignettes --timings basilisk.utils_1.2.2.tar.gz
StartedAt: 2021-02-21 23:33:41 -0500 (Sun, 21 Feb 2021)
EndedAt: 2021-02-21 23:34:12 -0500 (Sun, 21 Feb 2021)
EllapsedTime: 31.1 seconds
RetCode: 0
Status:   OK  
CheckDir: basilisk.utils.Rcheck
Warnings: 0

Command output

##############################################################################
##############################################################################
###
### Running command:
###
###   /Library/Frameworks/R.framework/Versions/Current/Resources/bin/R CMD check --install=check:basilisk.utils.install-out.txt --library=/Library/Frameworks/R.framework/Versions/Current/Resources/library --no-vignettes --timings basilisk.utils_1.2.2.tar.gz
###
##############################################################################
##############################################################################


* using log directory ‘/Users/biocbuild/bbs-3.12-bioc/meat/basilisk.utils.Rcheck’
* using R version 4.0.3 (2020-10-10)
* using platform: x86_64-apple-darwin17.0 (64-bit)
* using session charset: UTF-8
* using option ‘--no-vignettes’
* checking for file ‘basilisk.utils/DESCRIPTION’ ... OK
* this is package ‘basilisk.utils’ version ‘1.2.2’
* checking package namespace information ... OK
* checking package dependencies ... OK
* checking if this is a source package ... OK
* checking if there is a namespace ... OK
* checking for hidden files and directories ... OK
* checking for portable file names ... OK
* checking for sufficient/correct file permissions ... OK
* checking whether package ‘basilisk.utils’ can be installed ... OK
* checking installed package size ... OK
* checking package directory ... OK
* checking ‘build’ directory ... OK
* checking DESCRIPTION meta-information ... OK
* checking top-level files ... OK
* checking for left-over files ... OK
* checking index information ... OK
* checking package subdirectories ... OK
* checking R files for non-ASCII characters ... OK
* checking R files for syntax errors ... OK
* checking whether the package can be loaded ... OK
* checking whether the package can be loaded with stated dependencies ... OK
* checking whether the package can be unloaded cleanly ... OK
* checking whether the namespace can be loaded with stated dependencies ... OK
* checking whether the namespace can be unloaded cleanly ... OK
* checking dependencies in R code ... OK
* checking S3 generic/method consistency ... OK
* checking replacement functions ... OK
* checking foreign function calls ... OK
* checking R code for possible problems ... OK
* checking Rd files ... OK
* checking Rd metadata ... OK
* checking Rd cross-references ... OK
* checking for missing documentation entries ... OK
* checking for code/documentation mismatches ... OK
* checking Rd \usage sections ... OK
* checking Rd contents ... OK
* checking for unstated dependencies in examples ... OK
* checking files in ‘vignettes’ ... OK
* checking examples ... OK
* checking for unstated dependencies in ‘tests’ ... OK
* checking tests ...
  Running ‘testthat.R’
 OK
* checking for unstated dependencies in vignettes ... OK
* checking package vignettes in ‘inst/doc’ ... OK
* checking running R code from vignettes ... SKIPPED
* checking re-building of vignette outputs ... SKIPPED
* checking PDF version of manual ... OK
* DONE

Status: OK


Installation output

basilisk.utils.Rcheck/00install.out

##############################################################################
##############################################################################
###
### Running command:
###
###   /Library/Frameworks/R.framework/Versions/Current/Resources/bin/R CMD INSTALL basilisk.utils
###
##############################################################################
##############################################################################


* installing to library ‘/Library/Frameworks/R.framework/Versions/4.0/Resources/library’
* installing *source* package ‘basilisk.utils’ ...
** using staged installation
** R
** inst
** byte-compile and prepare package for lazy loading
** help
*** installing help indices
** building package indices
** installing vignettes
** testing if installed package can be loaded from temporary location
** testing if installed package can be loaded from final location
** testing if installed package keeps a record of temporary installation path
* DONE (basilisk.utils)

Tests output

basilisk.utils.Rcheck/tests/testthat.Rout


R version 4.0.3 (2020-10-10) -- "Bunny-Wunnies Freak Out"
Copyright (C) 2020 The R Foundation for Statistical Computing
Platform: x86_64-apple-darwin17.0 (64-bit)

R is free software and comes with ABSOLUTELY NO WARRANTY.
You are welcome to redistribute it under certain conditions.
Type 'license()' or 'licence()' for distribution details.

R is a collaborative project with many contributors.
Type 'contributors()' for more information and
'citation()' on how to cite R or R packages in publications.

Type 'demo()' for some demos, 'help()' for on-line help, or
'help.start()' for an HTML browser interface to help.
Type 'q()' to quit R.

> library(testthat)
> library(basilisk.utils)
> test_check("basilisk.utils")
══ Skipped tests ═══════════════════════════════════════════════════════════════
● empty test (1)

[ FAIL 0 | WARN 1 | SKIP 1 | PASS 22 ]
> 
> proc.time()
   user  system elapsed 
  1.507   0.154   1.639 

Example timings

basilisk.utils.Rcheck/basilisk.utils-Ex.timings

nameusersystemelapsed
clearExternalDir0.0000.0010.001
dir.create20.0000.0010.002
getBinaries0.0010.0010.001
getCondaDir0.0000.0000.001
getExternalDir0.0000.0000.001
getSystemDir000
installConda000
isWindows0.0010.0010.003
lockExternalDir0.0040.0010.004
unlink20.0000.0010.001