Back to Multiple platform build/check report for BioC 3.12
A[B]CDEFGHIJKLMNOPQRSTUVWXYZ

BUILD BIN report for basilisk.utils on merida1

This page was generated on 2020-09-28 11:32:02 -0400 (Mon, 28 Sep 2020).

TO THE DEVELOPERS/MAINTAINERS OF THE basilisk.utils PACKAGE: Please make sure to use the following settings in order to reproduce any error or warning you see on this page.
Package 116/1923HostnameOS / ArchINSTALLBUILDCHECKBUILD BIN
basilisk.utils 1.1.11
Aaron Lun
Snapshot Date: 2020-09-27 14:41:58 -0400 (Sun, 27 Sep 2020)
URL: https://git.bioconductor.org/packages/basilisk.utils
Branch: master
Last Commit: 279dbdd
Last Changed Date: 2020-09-21 23:45:59 -0400 (Mon, 21 Sep 2020)
malbec1 Linux (Ubuntu 18.04.4 LTS) / x86_64  OK  OK  OK UNNEEDED, same version exists in internal repository
nebbiolo1 Linux (Ubuntu 20.04.1 LTS) / x86_64  OK  OK  OK 
tokay1 Windows Server 2012 R2 Standard / x64  OK  OK  OK  OK UNNEEDED, same version exists in internal repository
riesling1 Windows Server 2019 Standard / x64  OK  OK  OK  OK 
merida1 macOS 10.14.6 Mojave / x86_64  OK  OK  OK [ OK ]UNNEEDED, same version exists in internal repository

Summary

Package: basilisk.utils
Version: 1.1.11
Command: rm -rf basilisk.utils.buildbin-libdir && mkdir basilisk.utils.buildbin-libdir && /Users/biocbuild/BBS/utils/build-universal.sh basilisk.utils_1.1.11.tar.gz /Library/Frameworks/R.framework/Versions/Current/Resources/bin/R basilisk.utils.buildbin-libdir
StartedAt: 2020-09-28 10:16:43 -0400 (Mon, 28 Sep 2020)
EndedAt: 2020-09-28 10:17:57 -0400 (Mon, 28 Sep 2020)
EllapsedTime: 73.8 seconds
RetCode: 0
Status:  OK 
PackageFile: basilisk.utils_1.1.11.tgz
PackageFileSize: 261.9 KiB

Command output

##############################################################################
##############################################################################
###
### Running command:
###
###   rm -rf basilisk.utils.buildbin-libdir && mkdir basilisk.utils.buildbin-libdir && /Users/biocbuild/BBS/utils/build-universal.sh basilisk.utils_1.1.11.tar.gz /Library/Frameworks/R.framework/Versions/Current/Resources/bin/R basilisk.utils.buildbin-libdir
###
##############################################################################
##############################################################################


>>>>>>> 
>>>>>>> INSTALLATION WITH 'R CMD INSTALL --preclean --no-multiarch --library=basilisk.utils.buildbin-libdir basilisk.utils_1.1.11.tar.gz'
>>>>>>> 

* installing *source* package ‘basilisk.utils’ ...
** using staged installation
** R
** inst
** byte-compile and prepare package for lazy loading
** help
*** installing help indices
** building package indices
** installing vignettes
** testing if installed package can be loaded from temporary location
** testing if installed package can be loaded from final location
** testing if installed package keeps a record of temporary installation path
* DONE (basilisk.utils)