Back to Multiple platform build/check report for BioC 3.12
A[B]CDEFGHIJKLMNOPQRSTUVWXYZ

BUILD report for basilisk.utils on malbec1

This page was generated on 2021-01-25 11:48:04 -0500 (Mon, 25 Jan 2021).

TO THE DEVELOPERS/MAINTAINERS OF THE basilisk.utils PACKAGE: Please make sure to use the following settings in order to reproduce any error or warning you see on this page.
Package 122/1974HostnameOS / ArchINSTALLBUILDCHECKBUILD BIN
basilisk.utils 1.2.1
Aaron Lun
Snapshot Date: 2021-01-24 14:40:16 -0500 (Sun, 24 Jan 2021)
URL: https://git.bioconductor.org/packages/basilisk.utils
Branch: RELEASE_3_12
Last Commit: 78c68ac
Last Changed Date: 2020-12-16 13:38:44 -0500 (Wed, 16 Dec 2020)
malbec1 Linux (Ubuntu 18.04.5 LTS) / x86_64  OK [ OK ] OK UNNEEDED, same version exists in internal repository
nebbiolo1 Linux (Ubuntu 20.04.1 LTS) / x86_64  OK  OK  OK 
tokay1 Windows Server 2012 R2 Standard / x64  OK  OK  OK  OK UNNEEDED, same version exists in internal repository
merida1 macOS 10.14.6 Mojave / x86_64  OK  OK  OK  OK UNNEEDED, same version exists in internal repository

Summary

Package: basilisk.utils
Version: 1.2.1
Command: /home/biocbuild/bbs-3.12-bioc/R/bin/R CMD build --keep-empty-dirs --no-resave-data basilisk.utils
StartedAt: 2021-01-24 17:50:10 -0500 (Sun, 24 Jan 2021)
EndedAt: 2021-01-24 17:50:15 -0500 (Sun, 24 Jan 2021)
EllapsedTime: 4.9 seconds
RetCode: 0
Status:  OK 
PackageFile: basilisk.utils_1.2.1.tar.gz
PackageFileSize: 229.8 KiB

Command output

##############################################################################
##############################################################################
###
### Running command:
###
###   /home/biocbuild/bbs-3.12-bioc/R/bin/R CMD build --keep-empty-dirs --no-resave-data basilisk.utils
###
##############################################################################
##############################################################################


* checking for file ‘basilisk.utils/DESCRIPTION’ ... OK
* preparing ‘basilisk.utils’:
* checking DESCRIPTION meta-information ... OK
* installing the package to build vignettes
* creating vignettes ... OK
* checking for LF line-endings in source and make files and shell scripts
* checking for empty or unneeded directories
* building ‘basilisk.utils_1.2.1.tar.gz’