Back to Multiple platform build/check report for BioC 3.12
A[B]CDEFGHIJKLMNOPQRSTUVWXYZ

BUILD report for ballgown on nebbiolo1

This page was generated on 2020-11-24 11:55:24 -0500 (Tue, 24 Nov 2020).

TO THE DEVELOPERS/MAINTAINERS OF THE ballgown PACKAGE: Please make sure to use the following settings in order to reproduce any error or warning you see on this page.
Package 111/1974HostnameOS / ArchINSTALLBUILDCHECKBUILD BIN
ballgown 2.22.0
Jack Fu
Snapshot Date: 2020-11-23 14:42:42 -0500 (Mon, 23 Nov 2020)
URL: https://git.bioconductor.org/packages/ballgown
Branch: RELEASE_3_12
Last Commit: 3bb5d43
Last Changed Date: 2020-10-27 10:57:50 -0500 (Tue, 27 Oct 2020)
malbec1 Linux (Ubuntu 18.04.4 LTS) / x86_64  OK  OK  OK UNNEEDED, same version exists in internal repository
nebbiolo1 Linux (Ubuntu 20.04.1 LTS) / x86_64  OK [ OK ] OK 
tokay1 Windows Server 2012 R2 Standard / x64  OK  OK  OK  OK UNNEEDED, same version exists in internal repository
merida1 macOS 10.14.6 Mojave / x86_64  OK  OK  OK  OK UNNEEDED, same version exists in internal repository

Summary

Package: ballgown
Version: 2.22.0
Command: /home/biocbuild/bbs-3.12-bioc/R/bin/R CMD build --keep-empty-dirs --no-resave-data ballgown
StartedAt: 2020-11-23 17:37:03 -0500 (Mon, 23 Nov 2020)
EndedAt: 2020-11-23 17:38:08 -0500 (Mon, 23 Nov 2020)
EllapsedTime: 64.5 seconds
RetCode: 0
Status:  OK 
PackageFile: ballgown_2.22.0.tar.gz
PackageFileSize: 3.035 MiB

Command output

##############################################################################
##############################################################################
###
### Running command:
###
###   /home/biocbuild/bbs-3.12-bioc/R/bin/R CMD build --keep-empty-dirs --no-resave-data ballgown
###
##############################################################################
##############################################################################


* checking for file ‘ballgown/DESCRIPTION’ ... OK
* preparing ‘ballgown’:
* checking DESCRIPTION meta-information ... OK
* installing the package to build vignettes
* creating vignettes ... OK
* checking for LF line-endings in source and make files and shell scripts
* checking for empty or unneeded directories
* looking to see if a ‘data/datalist’ file should be added
* building ‘ballgown_2.22.0.tar.gz’