Back to Multiple platform build/check report for BioC 3.12
[A]BCDEFGHIJKLMNOPQRSTUVWXYZ

BUILD report for artMS on merida1

This page was generated on 2020-10-01 11:03:13 -0400 (Thu, 01 Oct 2020).

TO THE DEVELOPERS/MAINTAINERS OF THE artMS PACKAGE: Please make sure to use the following settings in order to reproduce any error or warning you see on this page.
Package 84/1923HostnameOS / ArchINSTALLBUILDCHECKBUILD BIN
artMS 1.7.5
David Jimenez-Morales
Snapshot Date: 2020-09-30 14:42:00 -0400 (Wed, 30 Sep 2020)
URL: https://git.bioconductor.org/packages/artMS
Branch: master
Last Commit: 4ab9bd7
Last Changed Date: 2020-05-21 01:16:54 -0400 (Thu, 21 May 2020)
malbec1 Linux (Ubuntu 18.04.4 LTS) / x86_64  OK  OK  WARNINGS UNNEEDED, same version exists in internal repository
nebbiolo1 Linux (Ubuntu 20.04.1 LTS) / x86_64  OK  OK  WARNINGS 
tokay1 Windows Server 2012 R2 Standard / x64  OK  OK  WARNINGS  OK UNNEEDED, same version exists in internal repository
riesling1 Windows Server 2019 Standard / x64  OK  OK  WARNINGS  OK 
merida1 macOS 10.14.6 Mojave / x86_64  OK [ OK ] WARNINGS  NA 

Summary

Package: artMS
Version: 1.7.5
Command: /Library/Frameworks/R.framework/Versions/Current/Resources/bin/R CMD build --keep-empty-dirs --no-resave-data artMS
StartedAt: 2020-09-30 21:47:11 -0400 (Wed, 30 Sep 2020)
EndedAt: 2020-09-30 21:48:41 -0400 (Wed, 30 Sep 2020)
EllapsedTime: 89.7 seconds
RetCode: 0
Status:  OK 
PackageFile: artMS_1.7.5.tar.gz
PackageFileSize: 7.133 MiB

Command output

##############################################################################
##############################################################################
###
### Running command:
###
###   /Library/Frameworks/R.framework/Versions/Current/Resources/bin/R CMD build --keep-empty-dirs --no-resave-data artMS
###
##############################################################################
##############################################################################


* checking for file ‘artMS/DESCRIPTION’ ... OK
* preparing ‘artMS’:
* checking DESCRIPTION meta-information ... OK
* installing the package to build vignettes
* creating vignettes ... OK
* checking for LF line-endings in source and make files and shell scripts
* checking for empty or unneeded directories
* building ‘artMS_1.7.5.tar.gz’