Back to Multiple platform build/check report for BioC 3.12
[A]BCDEFGHIJKLMNOPQRSTUVWXYZ

INSTALL report for arrayQuality on nebbiolo1

This page was generated on 2020-11-24 11:55:23 -0500 (Tue, 24 Nov 2020).

TO THE DEVELOPERS/MAINTAINERS OF THE arrayQuality PACKAGE: Please make sure to use the following settings in order to reproduce any error or warning you see on this page.
Package 84/1974HostnameOS / ArchINSTALLBUILDCHECKBUILD BIN
arrayQuality 1.68.0
Agnes Paquet
Snapshot Date: 2020-11-23 14:42:42 -0500 (Mon, 23 Nov 2020)
URL: https://git.bioconductor.org/packages/arrayQuality
Branch: RELEASE_3_12
Last Commit: e40f17d
Last Changed Date: 2020-10-27 10:23:48 -0500 (Tue, 27 Oct 2020)
malbec1 Linux (Ubuntu 18.04.4 LTS) / x86_64  OK  OK  WARNINGS UNNEEDED, same version exists in internal repository
nebbiolo1 Linux (Ubuntu 20.04.1 LTS) / x86_64 [ OK ] OK  WARNINGS 
tokay1 Windows Server 2012 R2 Standard / x64  OK  OK  WARNINGS  OK UNNEEDED, same version exists in internal repository
merida1 macOS 10.14.6 Mojave / x86_64  OK  OK  WARNINGS  OK UNNEEDED, same version exists in internal repository

Summary

Package: arrayQuality
Version: 1.68.0
Command: /home/biocbuild/bbs-3.12-bioc/R/bin/R CMD INSTALL arrayQuality
StartedAt: 2020-11-23 16:11:40 -0500 (Mon, 23 Nov 2020)
EndedAt: 2020-11-23 16:13:00 -0500 (Mon, 23 Nov 2020)
EllapsedTime: 80.9 seconds
RetCode: 0
Status:  OK 

Command output

##############################################################################
##############################################################################
###
### Running command:
###
###   /home/biocbuild/bbs-3.12-bioc/R/bin/R CMD INSTALL arrayQuality
###
##############################################################################
##############################################################################


* installing to library ‘/home/biocbuild/bbs-3.12-bioc/R/library’
* installing *source* package ‘arrayQuality’ ...
** using staged installation
** R
** data
** inst
** byte-compile and prepare package for lazy loading
** help
*** installing help indices
** building package indices
** installing vignettes
** testing if installed package can be loaded from temporary location
** testing if installed package can be loaded from final location
** testing if installed package keeps a record of temporary installation path
* DONE (arrayQuality)