Back to Multiple platform build/check report for BioC 3.12
[A]BCDEFGHIJKLMNOPQRSTUVWXYZ

BUILD BIN report for annotatr on tokay1

This page was generated on 2020-11-24 11:57:28 -0500 (Tue, 24 Nov 2020).

TO THE DEVELOPERS/MAINTAINERS OF THE annotatr PACKAGE: Please make sure to use the following settings in order to reproduce any error or warning you see on this page.
Package 69/1974HostnameOS / ArchINSTALLBUILDCHECKBUILD BIN
annotatr 1.16.0
Raymond G. Cavalcante
Snapshot Date: 2020-11-23 14:42:42 -0500 (Mon, 23 Nov 2020)
URL: https://git.bioconductor.org/packages/annotatr
Branch: RELEASE_3_12
Last Commit: e5b2b37
Last Changed Date: 2020-10-27 11:18:54 -0500 (Tue, 27 Oct 2020)
malbec1 Linux (Ubuntu 18.04.4 LTS) / x86_64  OK  OK  OK UNNEEDED, same version exists in internal repository
nebbiolo1 Linux (Ubuntu 20.04.1 LTS) / x86_64  OK  OK  OK 
tokay1 Windows Server 2012 R2 Standard / x64  OK  OK  OK [ OK ]UNNEEDED, same version exists in internal repository
merida1 macOS 10.14.6 Mojave / x86_64  OK  OK  OK  OK UNNEEDED, same version exists in internal repository

Summary

Package: annotatr
Version: 1.16.0
Command: rm -rf annotatr.buildbin-libdir && mkdir annotatr.buildbin-libdir && C:\Users\biocbuild\bbs-3.12-bioc\R\bin\R.exe CMD INSTALL --merge-multiarch --build --library=annotatr.buildbin-libdir annotatr_1.16.0.tar.gz
StartedAt: 2020-11-24 08:50:40 -0500 (Tue, 24 Nov 2020)
EndedAt: 2020-11-24 08:52:24 -0500 (Tue, 24 Nov 2020)
EllapsedTime: 104.1 seconds
RetCode: 0
Status:  OK  
PackageFile: annotatr_1.16.0.zip
PackageFileSize: 2.226 MiB

Command output

##############################################################################
##############################################################################
###
### Running command:
###
###   rm -rf annotatr.buildbin-libdir && mkdir annotatr.buildbin-libdir && C:\Users\biocbuild\bbs-3.12-bioc\R\bin\R.exe CMD INSTALL --merge-multiarch --build --library=annotatr.buildbin-libdir annotatr_1.16.0.tar.gz
###
##############################################################################
##############################################################################



install for i386

* installing *source* package 'annotatr' ...
** using staged installation
** R
** data
*** moving datasets to lazyload DB
** inst
** byte-compile and prepare package for lazy loading
** help
*** installing help indices
  converting help for package 'annotatr'
    finding HTML links ... done
    annotate_regions                        html  
    annotations                             html  
    annotatr                                html  
    annotatr_cache                          html  
    build_ah_annots                         html  
    build_annotations                       html  
    build_cpg_annots                        html  
    build_enhancer_annots                   html  
    build_gene_annots                       html  
    build_hmm_annots                        html  
    build_lncrna_annots                     html  
    builtin_annotations                     html  
    builtin_genomes                         html  
    check_annotations                       html  
    expand_annotations                      html  
    get_cellline_from_code                  html  
    get_cellline_from_shortcut              html  
    get_orgdb_name                          html  
    get_txdb_name                           html  
    plot_annotation                         html  
    plot_categorical                        html  
    plot_coannotations                      html  
    plot_numerical                          html  
    plot_numerical_coannotations            html  
    randomize_regions                       html  
    read_annotations                        html  
    read_regions                            html  
    reformat_hmm_codes                      html  
    subset_order_tbl                        html  
    summarize_annotations                   html  
    summarize_categorical                   html  
    summarize_numerical                     html  
    tidy_annotations                        html  
** building package indices
** installing vignettes
** testing if installed package can be loaded from temporary location
** testing if installed package can be loaded from final location
** testing if installed package keeps a record of temporary installation path

install for x64

* installing *source* package 'annotatr' ...
** testing if installed package can be loaded
* MD5 sums
packaged installation of 'annotatr' as annotatr_1.16.0.zip
* DONE (annotatr)