Back to Multiple platform build/check report for BioC 3.12
[A]BCDEFGHIJKLMNOPQRSTUVWXYZ

BUILD report for annotate on nebbiolo1

This page was generated on 2020-09-27 10:13:42 -0400 (Sun, 27 Sep 2020).

TO THE DEVELOPERS/MAINTAINERS OF THE annotate PACKAGE: Please make sure to use the following settings in order to reproduce any error or warning you see on this page.
Package 58/1923HostnameOS / ArchINSTALLBUILDCHECKBUILD BIN
annotate 1.67.1
Bioconductor Package Maintainer
Snapshot Date: 2020-09-26 14:42:06 -0400 (Sat, 26 Sep 2020)
URL: https://git.bioconductor.org/packages/annotate
Branch: master
Last Commit: 3848892
Last Changed Date: 2020-08-13 20:29:29 -0400 (Thu, 13 Aug 2020)
malbec1 Linux (Ubuntu 18.04.4 LTS) / x86_64  OK  OK  OK UNNEEDED, same version exists in internal repository
nebbiolo1 Linux (Ubuntu 20.04.1 LTS) / x86_64  OK [ OK ] OK 
tokay1 Windows Server 2012 R2 Standard / x64  OK  OK  ERROR  OK 
riesling1 Windows Server 2019 Standard / x64  OK  OK  ERROR  OK 
merida1 macOS 10.14.6 Mojave / x86_64  OK  OK  OK  OK UNNEEDED, same version exists in internal repository

Summary

Package: annotate
Version: 1.67.1
Command: /home/biocbuild/bbs-3.12-bioc/R/bin/R CMD build --keep-empty-dirs --no-resave-data annotate
StartedAt: 2020-09-26 17:27:31 -0400 (Sat, 26 Sep 2020)
EndedAt: 2020-09-26 17:28:48 -0400 (Sat, 26 Sep 2020)
EllapsedTime: 77.4 seconds
RetCode: 0
Status:  OK 
PackageFile: annotate_1.67.1.tar.gz
PackageFileSize: 1.766 MiB

Command output

##############################################################################
##############################################################################
###
### Running command:
###
###   /home/biocbuild/bbs-3.12-bioc/R/bin/R CMD build --keep-empty-dirs --no-resave-data annotate
###
##############################################################################
##############################################################################


* checking for file ‘annotate/DESCRIPTION’ ... OK
* preparing ‘annotate’:
* checking DESCRIPTION meta-information ... OK
* installing the package to build vignettes
* creating vignettes ... OK
* checking for LF line-endings in source and make files and shell scripts
* checking for empty or unneeded directories
* looking to see if a ‘data/datalist’ file should be added
* building ‘annotate_1.67.1.tar.gz’