Back to Multiple platform build/check report for BioC 3.12
[A]BCDEFGHIJKLMNOPQRSTUVWXYZ

BUILD report for annaffy on nebbiolo1

This page was generated on 2020-12-01 11:55:47 -0500 (Tue, 01 Dec 2020).

TO THE DEVELOPERS/MAINTAINERS OF THE annaffy PACKAGE: Please make sure to use the following settings in order to reproduce any error or warning you see on this page.
Package 59/1974HostnameOS / ArchINSTALLBUILDCHECKBUILD BIN
annaffy 1.62.0
Colin A. Smith
Snapshot Date: 2020-11-30 14:42:56 -0500 (Mon, 30 Nov 2020)
URL: https://git.bioconductor.org/packages/annaffy
Branch: RELEASE_3_12
Last Commit: ad9c37e
Last Changed Date: 2020-10-27 10:22:41 -0500 (Tue, 27 Oct 2020)
malbec1 Linux (Ubuntu 18.04.4 LTS) / x86_64  OK  OK  WARNINGS UNNEEDED, same version exists in internal repository
nebbiolo1 Linux (Ubuntu 20.04.1 LTS) / x86_64  OK [ OK ] WARNINGS 
tokay1 Windows Server 2012 R2 Standard / x64  OK  OK  WARNINGS  OK UNNEEDED, same version exists in internal repository
merida1 macOS 10.14.6 Mojave / x86_64  OK  OK  WARNINGS  OK UNNEEDED, same version exists in internal repository

Summary

Package: annaffy
Version: 1.62.0
Command: /home/biocbuild/bbs-3.12-bioc/R/bin/R CMD build --keep-empty-dirs --no-resave-data annaffy
StartedAt: 2020-11-30 17:31:47 -0500 (Mon, 30 Nov 2020)
EndedAt: 2020-11-30 17:33:01 -0500 (Mon, 30 Nov 2020)
EllapsedTime: 74.6 seconds
RetCode: 0
Status:  OK 
PackageFile: annaffy_1.62.0.tar.gz
PackageFileSize: 232.9 KiB

Command output

##############################################################################
##############################################################################
###
### Running command:
###
###   /home/biocbuild/bbs-3.12-bioc/R/bin/R CMD build --keep-empty-dirs --no-resave-data annaffy
###
##############################################################################
##############################################################################


* checking for file ‘annaffy/DESCRIPTION’ ... OK
* preparing ‘annaffy’:
* checking DESCRIPTION meta-information ... OK
* installing the package to build vignettes
* creating vignettes ... OK
* checking for LF line-endings in source and make files and shell scripts
* checking for empty or unneeded directories
* looking to see if a ‘data/datalist’ file should be added
* building ‘annaffy_1.62.0.tar.gz’