Back to Multiple platform build/check report for BioC 3.12
[A]BCDEFGHIJKLMNOPQRSTUVWXYZ

CHECK report for animalcules on nebbiolo1

This page was generated on 2021-01-24 11:51:23 -0500 (Sun, 24 Jan 2021).

TO THE DEVELOPERS/MAINTAINERS OF THE animalcules PACKAGE: Please make sure to use the following settings in order to reproduce any error or warning you see on this page.
Package 58/1974HostnameOS / ArchINSTALLBUILDCHECKBUILD BIN
animalcules 1.6.0
Yue Zhao
Snapshot Date: 2021-01-23 14:40:16 -0500 (Sat, 23 Jan 2021)
URL: https://git.bioconductor.org/packages/animalcules
Branch: RELEASE_3_12
Last Commit: a95d2e8
Last Changed Date: 2020-12-06 22:41:49 -0500 (Sun, 06 Dec 2020)
malbec1 Linux (Ubuntu 18.04.5 LTS) / x86_64  OK  OK  OK UNNEEDED, same version exists in internal repository
nebbiolo1 Linux (Ubuntu 20.04.1 LTS) / x86_64  OK  OK [ OK ]
tokay1 Windows Server 2012 R2 Standard / x64  OK  OK  OK  OK UNNEEDED, same version exists in internal repository
merida1 macOS 10.14.6 Mojave / x86_64  OK  OK  OK  OK UNNEEDED, same version exists in internal repository

Summary

Package: animalcules
Version: 1.6.0
Command: /home/biocbuild/bbs-3.12-bioc/R/bin/R CMD check --install=check:animalcules.install-out.txt --library=/home/biocbuild/bbs-3.12-bioc/R/library --no-vignettes --timings animalcules_1.6.0.tar.gz
StartedAt: 2021-01-23 20:12:06 -0500 (Sat, 23 Jan 2021)
EndedAt: 2021-01-23 20:15:59 -0500 (Sat, 23 Jan 2021)
EllapsedTime: 233.4 seconds
RetCode: 0
Status:  OK 
CheckDir: animalcules.Rcheck
Warnings: 0

Command output

##############################################################################
##############################################################################
###
### Running command:
###
###   /home/biocbuild/bbs-3.12-bioc/R/bin/R CMD check --install=check:animalcules.install-out.txt --library=/home/biocbuild/bbs-3.12-bioc/R/library --no-vignettes --timings animalcules_1.6.0.tar.gz
###
##############################################################################
##############################################################################


* using log directory ‘/home/biocbuild/bbs-3.12-bioc/meat/animalcules.Rcheck’
* using R version 4.0.3 (2020-10-10)
* using platform: x86_64-pc-linux-gnu (64-bit)
* using session charset: UTF-8
* using option ‘--no-vignettes’
* checking for file ‘animalcules/DESCRIPTION’ ... OK
* this is package ‘animalcules’ version ‘1.6.0’
* package encoding: UTF-8
* checking package namespace information ... OK
* checking package dependencies ... OK
* checking if this is a source package ... OK
* checking if there is a namespace ... OK
* checking for hidden files and directories ... OK
* checking for portable file names ... OK
* checking for sufficient/correct file permissions ... OK
* checking whether package ‘animalcules’ can be installed ... OK
* checking installed package size ... OK
* checking package directory ... OK
* checking ‘build’ directory ... OK
* checking DESCRIPTION meta-information ... OK
* checking top-level files ... OK
* checking for left-over files ... OK
* checking index information ... OK
* checking package subdirectories ... OK
* checking R files for non-ASCII characters ... OK
* checking R files for syntax errors ... OK
* checking whether the package can be loaded ... OK
* checking whether the package can be loaded with stated dependencies ... OK
* checking whether the package can be unloaded cleanly ... OK
* checking whether the namespace can be loaded with stated dependencies ... OK
* checking whether the namespace can be unloaded cleanly ... OK
* checking dependencies in R code ... NOTE
Namespace in Imports field not imported from: ‘reactable’
  All declared Imports should be used.
* checking S3 generic/method consistency ... OK
* checking replacement functions ... OK
* checking foreign function calls ... OK
* checking R code for possible problems ... NOTE
alpha_div_boxplot: no visible binding for global variable ‘richness’
differential_abundance: no visible binding for global variable ‘padj’
differential_abundance: no visible binding for global variable ‘pValue’
differential_abundance: no visible binding for global variable
  ‘log2FoldChange’
diversities_help: no visible binding for global variable ‘x’
find_biomarker: no visible binding for global variable ‘rowname’
find_biomarker: no visible binding for global variable ‘importance’
find_biomarker: no visible binding for global variable ‘.’
find_biomarker: no visible binding for global variable ‘Overall’
find_biomarker: no visible binding for global variable ‘y’
find_biomarker: no visible binding for global variable ‘m’
find_biomarker: no visible binding for global variable ‘d’
relabu_barplot: no visible binding for global variable ‘.’
relabu_boxplot: no visible binding for global variable ‘.’
relabu_heatmap: no visible binding for global variable ‘.’
upsample_counts: no visible binding for global variable ‘.’
Undefined global functions or variables:
  . Overall d importance log2FoldChange m pValue padj richness rowname
  x y
* checking Rd files ... OK
* checking Rd metadata ... OK
* checking Rd cross-references ... OK
* checking for missing documentation entries ... OK
* checking for code/documentation mismatches ... OK
* checking Rd \usage sections ... OK
* checking Rd contents ... OK
* checking for unstated dependencies in examples ... OK
* checking files in ‘vignettes’ ... OK
* checking examples ... OK
Examples with CPU (user + system) or elapsed time > 5s
                        user system elapsed
find_biomarker         8.198  0.103   8.302
dimred_tsne            5.907  0.072   5.979
differential_abundance 5.334  0.144   5.479
* checking for unstated dependencies in ‘tests’ ... OK
* checking tests ...
  Running ‘testthat.R’
 OK
* checking for unstated dependencies in vignettes ... OK
* checking package vignettes in ‘inst/doc’ ... OK
* checking running R code from vignettes ... SKIPPED
* checking re-building of vignette outputs ... SKIPPED
* checking PDF version of manual ... OK
* DONE

Status: 2 NOTEs
See
  ‘/home/biocbuild/bbs-3.12-bioc/meat/animalcules.Rcheck/00check.log’
for details.



Installation output

animalcules.Rcheck/00install.out

##############################################################################
##############################################################################
###
### Running command:
###
###   /home/biocbuild/bbs-3.12-bioc/R/bin/R CMD INSTALL animalcules
###
##############################################################################
##############################################################################


* installing to library ‘/home/biocbuild/bbs-3.12-bioc/R/library’
* installing *source* package ‘animalcules’ ...
** using staged installation
** R
** inst
** byte-compile and prepare package for lazy loading
** help
*** installing help indices
** building package indices
** installing vignettes
** testing if installed package can be loaded from temporary location
** testing if installed package can be loaded from final location
** testing if installed package keeps a record of temporary installation path
* DONE (animalcules)

Tests output

animalcules.Rcheck/tests/testthat.Rout


R version 4.0.3 (2020-10-10) -- "Bunny-Wunnies Freak Out"
Copyright (C) 2020 The R Foundation for Statistical Computing
Platform: x86_64-pc-linux-gnu (64-bit)

R is free software and comes with ABSOLUTELY NO WARRANTY.
You are welcome to redistribute it under certain conditions.
Type 'license()' or 'licence()' for distribution details.

R is a collaborative project with many contributors.
Type 'contributors()' for more information and
'citation()' on how to cite R or R packages in publications.

Type 'demo()' for some demos, 'help()' for on-line help, or
'help.start()' for an HTML browser interface to help.
Type 'q()' to quit R.

> library(testthat)
> library(animalcules)
> 
> test_check("animalcules")
══ Warnings ════════════════════════════════════════════════════════════════════
── Warning (test-examples.R:148:5): dimred_tsne() is working ───────────────────
the condition has length > 1 and only the first element will be used
Backtrace:
 1. animalcules::dimred_tsne(...) test-examples.R:148:4
 2. tsne::tsne(scale(df), k = k, initial_dims = initial_dims, perplexity = perplexity)
 3. tsne:::.x2p(X, perplexity, 1e-05)

[ FAIL 0 | WARN 1 | SKIP 0 | PASS 39 ]
> 
> proc.time()
   user  system elapsed 
 30.474   1.141  32.215 

Example timings

animalcules.Rcheck/animalcules-Ex.timings

nameusersystemelapsed
alpha_div_boxplot0.4800.0280.509
alpha_div_test0.0040.0000.004
counts_to_logcpm0.0010.0000.002
counts_to_relabu0.0020.0000.002
df_char_to_factor0.0010.0000.001
differential_abundance5.3340.1445.479
dimred_pca0.1440.0120.156
dimred_pcoa0.1110.0120.123
dimred_tsne5.9070.0725.979
dimred_umap0.2790.0120.292
diversities0.0000.0000.001
diversities_help0.0000.0000.001
diversity_beta_boxplot0.1910.0100.201
diversity_beta_heatmap0.1950.0040.199
diversity_beta_test0.1130.0000.113
do_alpha_div_test0.0450.0000.045
filter_categorize0.2830.0400.323
filter_summary_bar_density0.3040.0040.308
filter_summary_pie_box0.1740.0120.185
find_biomarker8.1980.1038.302
find_taxon_mat0.1460.0020.817
find_taxonomy0.0310.0010.605
find_taxonomy_3000.0300.0000.542
gini_simpson0.0010.0000.001
grep_tid000
inverse_simpson000
is_categorical000
is_integer0000
is_integer1000
mae_pick_organisms0.1690.0000.168
mae_pick_samples0.1320.0000.133
pct2str0.0010.0000.001
percent000
relabu_barplot1.0080.0841.092
relabu_boxplot0.1110.0040.115
relabu_heatmap0.1330.0320.165
run_animalcules000
shannon0.0010.0000.000
simpson_index000
upsample_counts0.0070.0070.014