Back to Multiple platform build/check report for BioC 3.12
[A]BCDEFGHIJKLMNOPQRSTUVWXYZ

INSTALL report for animalcules on merida1

This page was generated on 2021-01-17 11:55:03 -0500 (Sun, 17 Jan 2021).

TO THE DEVELOPERS/MAINTAINERS OF THE animalcules PACKAGE: Please make sure to use the following settings in order to reproduce any error or warning you see on this page.
Package 58/1974HostnameOS / ArchINSTALLBUILDCHECKBUILD BIN
animalcules 1.6.0
Yue Zhao
Snapshot Date: 2021-01-16 14:41:12 -0500 (Sat, 16 Jan 2021)
URL: https://git.bioconductor.org/packages/animalcules
Branch: RELEASE_3_12
Last Commit: a95d2e8
Last Changed Date: 2020-12-06 22:41:49 -0500 (Sun, 06 Dec 2020)
malbec1 Linux (Ubuntu 18.04.5 LTS) / x86_64  OK  OK  OK UNNEEDED, same version exists in internal repository
nebbiolo1 Linux (Ubuntu 20.04.1 LTS) / x86_64  OK  OK  OK 
tokay1 Windows Server 2012 R2 Standard / x64  OK  OK  OK  OK UNNEEDED, same version exists in internal repository
merida1 macOS 10.14.6 Mojave / x86_64 [ OK ] OK  OK  OK UNNEEDED, same version exists in internal repository

Summary

Package: animalcules
Version: 1.6.0
Command: /Library/Frameworks/R.framework/Versions/Current/Resources/bin/R CMD INSTALL animalcules
StartedAt: 2021-01-16 17:33:45 -0500 (Sat, 16 Jan 2021)
EndedAt: 2021-01-16 17:34:37 -0500 (Sat, 16 Jan 2021)
EllapsedTime: 52.3 seconds
RetCode: 0
Status:  OK 

Command output

##############################################################################
##############################################################################
###
### Running command:
###
###   /Library/Frameworks/R.framework/Versions/Current/Resources/bin/R CMD INSTALL animalcules
###
##############################################################################
##############################################################################


* installing to library ‘/Library/Frameworks/R.framework/Versions/4.0/Resources/library’
* installing *source* package ‘animalcules’ ...
** using staged installation
** R
** inst
** byte-compile and prepare package for lazy loading
** help
*** installing help indices
** building package indices
** installing vignettes
** testing if installed package can be loaded from temporary location
** testing if installed package can be loaded from final location
** testing if installed package keeps a record of temporary installation path
* DONE (animalcules)