Back to Multiple platform build/check report for BioC 3.12
[A]BCDEFGHIJKLMNOPQRSTUVWXYZ

CHECK report for alsace on tokay1

This page was generated on 2020-11-27 11:56:25 -0500 (Fri, 27 Nov 2020).

TO THE DEVELOPERS/MAINTAINERS OF THE alsace PACKAGE: Please make sure to use the following settings in order to reproduce any error or warning you see on this page.
Package 49/1974HostnameOS / ArchINSTALLBUILDCHECKBUILD BIN
alsace 1.26.0
Ron Wehrens
Snapshot Date: 2020-11-26 14:42:42 -0500 (Thu, 26 Nov 2020)
URL: https://git.bioconductor.org/packages/alsace
Branch: RELEASE_3_12
Last Commit: 40a7640
Last Changed Date: 2020-10-27 10:55:09 -0500 (Tue, 27 Oct 2020)
malbec1 Linux (Ubuntu 18.04.4 LTS) / x86_64  OK  OK  OK UNNEEDED, same version exists in internal repository
nebbiolo1 Linux (Ubuntu 20.04.1 LTS) / x86_64  OK  OK  OK 
tokay1 Windows Server 2012 R2 Standard / x64  OK  OK [ OK ] OK UNNEEDED, same version exists in internal repository
merida1 macOS 10.14.6 Mojave / x86_64  OK  OK  OK  OK UNNEEDED, same version exists in internal repository

Summary

Package: alsace
Version: 1.26.0
Command: C:\Users\biocbuild\bbs-3.12-bioc\R\bin\R.exe CMD check --force-multiarch --install=check:alsace.install-out.txt --library=C:\Users\biocbuild\bbs-3.12-bioc\R\library --no-vignettes --timings alsace_1.26.0.tar.gz
StartedAt: 2020-11-27 00:16:42 -0500 (Fri, 27 Nov 2020)
EndedAt: 2020-11-27 00:18:32 -0500 (Fri, 27 Nov 2020)
EllapsedTime: 109.9 seconds
RetCode: 0
Status:  OK  
CheckDir: alsace.Rcheck
Warnings: 0

Command output

##############################################################################
##############################################################################
###
### Running command:
###
###   C:\Users\biocbuild\bbs-3.12-bioc\R\bin\R.exe CMD check --force-multiarch --install=check:alsace.install-out.txt --library=C:\Users\biocbuild\bbs-3.12-bioc\R\library --no-vignettes --timings alsace_1.26.0.tar.gz
###
##############################################################################
##############################################################################


* using log directory 'C:/Users/biocbuild/bbs-3.12-bioc/meat/alsace.Rcheck'
* using R version 4.0.3 (2020-10-10)
* using platform: x86_64-w64-mingw32 (64-bit)
* using session charset: ISO8859-1
* using option '--no-vignettes'
* checking for file 'alsace/DESCRIPTION' ... OK
* checking extension type ... Package
* this is package 'alsace' version '1.26.0'
* checking package namespace information ... OK
* checking package dependencies ... OK
* checking if this is a source package ... OK
* checking if there is a namespace ... OK
* checking for hidden files and directories ... OK
* checking for portable file names ... OK
* checking whether package 'alsace' can be installed ... OK
* checking installed package size ... OK
* checking package directory ... OK
* checking 'build' directory ... OK
* checking DESCRIPTION meta-information ... OK
* checking top-level files ... OK
* checking for left-over files ... OK
* checking index information ... OK
* checking package subdirectories ... OK
* checking R files for non-ASCII characters ... OK
* checking R files for syntax errors ... OK
* loading checks for arch 'i386'
** checking whether the package can be loaded ... OK
** checking whether the package can be loaded with stated dependencies ... OK
** checking whether the package can be unloaded cleanly ... OK
** checking whether the namespace can be loaded with stated dependencies ... OK
** checking whether the namespace can be unloaded cleanly ... OK
* loading checks for arch 'x64'
** checking whether the package can be loaded ... OK
** checking whether the package can be loaded with stated dependencies ... OK
** checking whether the package can be unloaded cleanly ... OK
** checking whether the namespace can be loaded with stated dependencies ... OK
** checking whether the namespace can be unloaded cleanly ... OK
* checking dependencies in R code ... NOTE
'library' or 'require' call to 'lattice' in package code.
  Please use :: or requireNamespace() instead.
  See section 'Suggested packages' in the 'Writing R Extensions' manual.
* checking S3 generic/method consistency ... OK
* checking replacement functions ... OK
* checking foreign function calls ... OK
* checking R code for possible problems ... NOTE
getPeakTable : clusterPeaks: no visible global function definition for
  'stripplot'
getPeakTable : clusterPeaks : <anonymous>: no visible global function
  definition for 'panel.stripplot'
getPeakTable : clusterPeaks : <anonymous>: no visible global function
  definition for 'panel.abline'
Undefined global functions or variables:
  panel.abline panel.stripplot stripplot
* checking Rd files ... OK
* checking Rd metadata ... OK
* checking Rd cross-references ... OK
* checking for missing documentation entries ... OK
* checking for code/documentation mismatches ... OK
* checking Rd \usage sections ... OK
* checking Rd contents ... OK
* checking for unstated dependencies in examples ... OK
* checking contents of 'data' directory ... OK
* checking data for non-ASCII characters ... OK
* checking data for ASCII and uncompressed saves ... OK
* checking files in 'vignettes' ... OK
* checking examples ...
** running examples for arch 'i386' ... OK
Examples with CPU (user + system) or elapsed time > 5s
            user system elapsed
components 12.36   0.08   12.44
teaMerged   5.83   0.00    5.83
** running examples for arch 'x64' ... OK
Examples with CPU (user + system) or elapsed time > 5s
              user system elapsed
components   11.42   0.01   11.44
teaMerged     7.88   0.02    7.90
correctPeaks  5.37   0.00    5.37
doALS         5.33   0.01    5.34
fitpeaks      5.22   0.00    5.22
* checking for unstated dependencies in vignettes ... OK
* checking package vignettes in 'inst/doc' ... OK
* checking running R code from vignettes ... SKIPPED
* checking re-building of vignette outputs ... SKIPPED
* checking PDF version of manual ... OK
* DONE

Status: 2 NOTEs
See
  'C:/Users/biocbuild/bbs-3.12-bioc/meat/alsace.Rcheck/00check.log'
for details.



Installation output

alsace.Rcheck/00install.out

##############################################################################
##############################################################################
###
### Running command:
###
###   C:\cygwin\bin\curl.exe -O https://malbec1.bioconductor.org/BBS/3.12/bioc/src/contrib/alsace_1.26.0.tar.gz && rm -rf alsace.buildbin-libdir && mkdir alsace.buildbin-libdir && C:\Users\biocbuild\bbs-3.12-bioc\R\bin\R.exe CMD INSTALL --merge-multiarch --build --library=alsace.buildbin-libdir alsace_1.26.0.tar.gz && C:\Users\biocbuild\bbs-3.12-bioc\R\bin\R.exe CMD INSTALL alsace_1.26.0.zip && rm alsace_1.26.0.tar.gz alsace_1.26.0.zip
###
##############################################################################
##############################################################################


  % Total    % Received % Xferd  Average Speed   Time    Time     Time  Current
                                 Dload  Upload   Total   Spent    Left  Speed

  0     0    0     0    0     0      0      0 --:--:-- --:--:-- --:--:--     0
100 1067k  100 1067k    0     0  30.6M      0 --:--:-- --:--:-- --:--:-- 34.7M

install for i386

* installing *source* package 'alsace' ...
** using staged installation
** R
** data
** byte-compile and prepare package for lazy loading
** help
*** installing help indices
  converting help for package 'alsace'
    finding HTML links ... done
    alsace-package                          html  
    components                              html  
    correctPeaks                            html  
    correctRT                               html  
    finding level-2 HTML links ... done

    doALS                                   html  
    filterPeaks                             html  
    fitpeaks                                html  
    getAllPeaks                             html  
    getPeakTable                            html  
    opa                                     html  
    preprocess                              html  
    showALSresult                           html  
    tea                                     html  
    teaMerged                               html  
    windows                                 html  
** building package indices
** installing vignettes
** testing if installed package can be loaded from temporary location
** testing if installed package can be loaded from final location
** testing if installed package keeps a record of temporary installation path

install for x64

* installing *source* package 'alsace' ...
** testing if installed package can be loaded
* MD5 sums
packaged installation of 'alsace' as alsace_1.26.0.zip
* DONE (alsace)
* installing to library 'C:/Users/biocbuild/bbs-3.12-bioc/R/library'
package 'alsace' successfully unpacked and MD5 sums checked

Tests output


Example timings

alsace.Rcheck/examples_i386/alsace-Ex.timings

nameusersystemelapsed
components12.36 0.0812.44
correctPeaks3.750.003.75
correctRT1.90.01.9
doALS4.280.024.30
filterPeaks0.050.000.05
fitpeaks4.280.004.28
getAllPeaks0.030.000.03
getPeakTable1.890.001.89
opa1.180.001.17
preprocess0.120.000.13
showALSresult0.130.000.12
tea0.120.010.14
teaMerged5.830.005.83
windows0.160.000.16

alsace.Rcheck/examples_x64/alsace-Ex.timings

nameusersystemelapsed
components11.42 0.0111.44
correctPeaks5.370.005.37
correctRT2.220.022.24
doALS5.330.015.34
filterPeaks0.060.000.06
fitpeaks5.220.005.22
getAllPeaks0.030.000.03
getPeakTable2.920.022.94
opa1.830.011.84
preprocess0.150.020.17
showALSresult0.170.000.17
tea0.160.010.17
teaMerged7.880.027.90
windows0.100.030.13