Back to Multiple platform build/check report for BioC 3.12
[A]BCDEFGHIJKLMNOPQRSTUVWXYZ

BUILD report for agilp on nebbiolo1

This page was generated on 2020-11-27 11:54:27 -0500 (Fri, 27 Nov 2020).

TO THE DEVELOPERS/MAINTAINERS OF THE agilp PACKAGE: Please make sure to use the following settings in order to reproduce any error or warning you see on this page.
Package 39/1974HostnameOS / ArchINSTALLBUILDCHECKBUILD BIN
agilp 3.22.0
Benny Chain
Snapshot Date: 2020-11-26 14:42:42 -0500 (Thu, 26 Nov 2020)
URL: https://git.bioconductor.org/packages/agilp
Branch: RELEASE_3_12
Last Commit: 7d089d5
Last Changed Date: 2020-10-27 10:47:29 -0500 (Tue, 27 Oct 2020)
malbec1 Linux (Ubuntu 18.04.4 LTS) / x86_64  OK  OK  OK UNNEEDED, same version exists in internal repository
nebbiolo1 Linux (Ubuntu 20.04.1 LTS) / x86_64  OK [ OK ] OK 
tokay1 Windows Server 2012 R2 Standard / x64  OK  OK  OK  OK UNNEEDED, same version exists in internal repository
merida1 macOS 10.14.6 Mojave / x86_64  OK  OK  OK  OK UNNEEDED, same version exists in internal repository

Summary

Package: agilp
Version: 3.22.0
Command: /home/biocbuild/bbs-3.12-bioc/R/bin/R CMD build --keep-empty-dirs --no-resave-data agilp
StartedAt: 2020-11-26 17:28:29 -0500 (Thu, 26 Nov 2020)
EndedAt: 2020-11-26 17:29:42 -0500 (Thu, 26 Nov 2020)
EllapsedTime: 72.7 seconds
RetCode: 0
Status:  OK 
PackageFile: agilp_3.22.0.tar.gz
PackageFileSize: 395.5 KiB

Command output

##############################################################################
##############################################################################
###
### Running command:
###
###   /home/biocbuild/bbs-3.12-bioc/R/bin/R CMD build --keep-empty-dirs --no-resave-data agilp
###
##############################################################################
##############################################################################


* checking for file ‘agilp/DESCRIPTION’ ... OK
* preparing ‘agilp’:
* checking DESCRIPTION meta-information ... OK
* installing the package to build vignettes
* creating vignettes ... OK
* checking for LF line-endings in source and make files and shell scripts
* checking for empty or unneeded directories
* building ‘agilp_3.22.0.tar.gz’