Back to Multiple platform build/check report for BioC 3.12
[A]BCDEFGHIJKLMNOPQRSTUVWXYZ

BUILD BIN report for aggregateBioVar on riesling1

This page was generated on 2020-10-28 13:27:33 -0400 (Wed, 28 Oct 2020).

TO THE DEVELOPERS/MAINTAINERS OF THE aggregateBioVar PACKAGE: Please make sure to use the following settings in order to reproduce any error or warning you see on this page.
Package 38/1974HostnameOS / ArchINSTALLBUILDCHECKBUILD BIN
aggregateBioVar 1.0.0
Jason Ratcliff
Snapshot Date: 2020-10-27 13:12:07 -0400 (Tue, 27 Oct 2020)
URL: https://git.bioconductor.org/packages/aggregateBioVar
Branch: RELEASE_3_12
Last Commit: ca130de
Last Changed Date: 2020-10-27 12:01:49 -0400 (Tue, 27 Oct 2020)
malbec1 Linux (Ubuntu 18.04.4 LTS) / x86_64  OK  OK  OK YES, new version is higher than in internal repository
nebbiolo1 Linux (Ubuntu 20.04.1 LTS) / x86_64  OK  OK  OK 
tokay1 Windows Server 2012 R2 Standard / x64  OK  OK  OK  OK YES, new version is higher than in internal repository
riesling1 Windows Server 2019 Standard / x64  OK  OK  OK [ OK ]
merida1 macOS 10.14.6 Mojave / x86_64  OK  OK  OK  OK YES, new version is higher than in internal repository

Summary

Package: aggregateBioVar
Version: 1.0.0
Command: rm -rf aggregateBioVar.buildbin-libdir && mkdir aggregateBioVar.buildbin-libdir && D:\biocbuild\bbs-3.12-bioc\R\bin\R.exe CMD INSTALL --merge-multiarch --build --library=aggregateBioVar.buildbin-libdir aggregateBioVar_1.0.0.tar.gz
StartedAt: 2020-10-27 23:11:14 -0400 (Tue, 27 Oct 2020)
EndedAt: 2020-10-27 23:13:11 -0400 (Tue, 27 Oct 2020)
EllapsedTime: 117.5 seconds
RetCode: 0
Status:  OK  
PackageFile: aggregateBioVar_1.0.0.zip
PackageFileSize: 1.545 MiB

Command output

##############################################################################
##############################################################################
###
### Running command:
###
###   rm -rf aggregateBioVar.buildbin-libdir && mkdir aggregateBioVar.buildbin-libdir && D:\biocbuild\bbs-3.12-bioc\R\bin\R.exe CMD INSTALL --merge-multiarch --build --library=aggregateBioVar.buildbin-libdir aggregateBioVar_1.0.0.tar.gz
###
##############################################################################
##############################################################################



install for i386

* installing *source* package 'aggregateBioVar' ...
** using staged installation
** R
** data
*** moving datasets to lazyload DB
** inst
** byte-compile and prepare package for lazy loading
** help
*** installing help indices
  converting help for package 'aggregateBioVar'
    finding HTML links ... done
    aggregateBioVar                         html  
    finding level-2 HTML links ... done

    countsByCell                            html  
    countsBySubject                         html  
    scSubjects                              html  
    small_airway                            html  
    subjectMetaData                         html  
    summarizedCounts                        html  
*** copying figures
** building package indices
** installing vignettes
** testing if installed package can be loaded from temporary location
** testing if installed package can be loaded from final location
** testing if installed package keeps a record of temporary installation path

install for x64

* installing *source* package 'aggregateBioVar' ...
** testing if installed package can be loaded
* MD5 sums
packaged installation of 'aggregateBioVar' as aggregateBioVar_1.0.0.zip
* DONE (aggregateBioVar)