Back to Multiple platform build/check report for BioC 3.12
[A]BCDEFGHIJKLMNOPQRSTUVWXYZ

BUILD report for affycoretools on riesling1

This page was generated on 2020-10-28 13:27:30 -0400 (Wed, 28 Oct 2020).

TO THE DEVELOPERS/MAINTAINERS OF THE affycoretools PACKAGE: Please make sure to use the following settings in order to reproduce any error or warning you see on this page.
Package 28/1974HostnameOS / ArchINSTALLBUILDCHECKBUILD BIN
affycoretools 1.62.0
James W. MacDonald
Snapshot Date: 2020-10-27 13:12:07 -0400 (Tue, 27 Oct 2020)
URL: https://git.bioconductor.org/packages/affycoretools
Branch: RELEASE_3_12
Last Commit: c9779e4
Last Changed Date: 2020-10-27 10:27:23 -0400 (Tue, 27 Oct 2020)
malbec1 Linux (Ubuntu 18.04.4 LTS) / x86_64  OK  OK  OK YES, new version is higher than in internal repository
nebbiolo1 Linux (Ubuntu 20.04.1 LTS) / x86_64  OK  OK  OK 
tokay1 Windows Server 2012 R2 Standard / x64  OK  OK  WARNINGS  OK YES, new version is higher than in internal repository
riesling1 Windows Server 2019 Standard / x64  OK [ OK ] WARNINGS  OK 
merida1 macOS 10.14.6 Mojave / x86_64  OK  OK  OK  OK YES, new version is higher than in internal repository

Summary

Package: affycoretools
Version: 1.62.0
Command: chmod a+r affycoretools -R && D:\biocbuild\bbs-3.12-bioc\R\bin\R.exe CMD build --keep-empty-dirs --no-resave-data affycoretools
StartedAt: 2020-10-27 17:49:49 -0400 (Tue, 27 Oct 2020)
EndedAt: 2020-10-27 17:51:41 -0400 (Tue, 27 Oct 2020)
EllapsedTime: 112.6 seconds
RetCode: 0
Status:  OK  
PackageFile: affycoretools_1.62.0.tar.gz
PackageFileSize: 6.575 MiB

Command output

##############################################################################
##############################################################################
###
### Running command:
###
###   chmod a+r affycoretools -R && D:\biocbuild\bbs-3.12-bioc\R\bin\R.exe CMD build --keep-empty-dirs --no-resave-data affycoretools
###
##############################################################################
##############################################################################


* checking for file 'affycoretools/DESCRIPTION' ... OK
* preparing 'affycoretools':
* checking DESCRIPTION meta-information ... OK
* installing the package to build vignettes
* creating vignettes ... OK
* checking for LF line-endings in source and make files and shell scripts
* checking for empty or unneeded directories
* building 'affycoretools_1.62.0.tar.gz'