Back to Multiple platform build/check report for BioC 3.12
[A]BCDEFGHIJKLMNOPQRSTUVWXYZ

BUILD report for affycomp on nebbiolo1

This page was generated on 2020-11-26 12:15:50 -0500 (Thu, 26 Nov 2020).

TO THE DEVELOPERS/MAINTAINERS OF THE affycomp PACKAGE: Please make sure to use the following settings in order to reproduce any error or warning you see on this page.
Package 25/1974HostnameOS / ArchINSTALLBUILDCHECKBUILD BIN
affycomp 1.66.0
Rafael A. Irizarry
Snapshot Date: 2020-11-25 14:42:33 -0500 (Wed, 25 Nov 2020)
URL: https://git.bioconductor.org/packages/affycomp
Branch: RELEASE_3_12
Last Commit: 388d01a
Last Changed Date: 2020-10-27 10:22:30 -0500 (Tue, 27 Oct 2020)
malbec1 Linux (Ubuntu 18.04.4 LTS) / x86_64  OK  OK  OK UNNEEDED, same version exists in internal repository
nebbiolo1 Linux (Ubuntu 20.04.1 LTS) / x86_64  OK [ OK ] OK 
tokay1 Windows Server 2012 R2 Standard / x64  OK  OK  WARNINGS  OK UNNEEDED, same version exists in internal repository
merida1 macOS 10.14.6 Mojave / x86_64  OK  OK  OK  OK UNNEEDED, same version exists in internal repository

Summary

Package: affycomp
Version: 1.66.0
Command: /home/biocbuild/bbs-3.12-bioc/R/bin/R CMD build --keep-empty-dirs --no-resave-data affycomp
StartedAt: 2020-11-25 17:28:28 -0500 (Wed, 25 Nov 2020)
EndedAt: 2020-11-25 17:28:40 -0500 (Wed, 25 Nov 2020)
EllapsedTime: 11.6 seconds
RetCode: 0
Status:  OK 
PackageFile: affycomp_1.66.0.tar.gz
PackageFileSize: 7.867 MiB

Command output

##############################################################################
##############################################################################
###
### Running command:
###
###   /home/biocbuild/bbs-3.12-bioc/R/bin/R CMD build --keep-empty-dirs --no-resave-data affycomp
###
##############################################################################
##############################################################################


* checking for file ‘affycomp/DESCRIPTION’ ... OK
* preparing ‘affycomp’:
* checking DESCRIPTION meta-information ... OK
* installing the package to build vignettes
* creating vignettes ... OK
* checking for LF line-endings in source and make files and shell scripts
* checking for empty or unneeded directories
* looking to see if a ‘data/datalist’ file should be added
* building ‘affycomp_1.66.0.tar.gz’