Back to Multiple platform build/check report for BioC 3.12
[A]BCDEFGHIJKLMNOPQRSTUVWXYZ

BUILD report for affyILM on nebbiolo1

This page was generated on 2020-12-01 11:55:46 -0500 (Tue, 01 Dec 2020).

TO THE DEVELOPERS/MAINTAINERS OF THE affyILM PACKAGE: Please make sure to use the following settings in order to reproduce any error or warning you see on this page.
Package 30/1974HostnameOS / ArchINSTALLBUILDCHECKBUILD BIN
affyILM 1.42.0
Myriam Kroll and Fabrice Berger
Snapshot Date: 2020-11-30 14:42:56 -0500 (Mon, 30 Nov 2020)
URL: https://git.bioconductor.org/packages/affyILM
Branch: RELEASE_3_12
Last Commit: b97b297
Last Changed Date: 2020-10-27 10:38:21 -0500 (Tue, 27 Oct 2020)
malbec1 Linux (Ubuntu 18.04.4 LTS) / x86_64  OK  OK  OK UNNEEDED, same version exists in internal repository
nebbiolo1 Linux (Ubuntu 20.04.1 LTS) / x86_64  OK [ OK ] OK 
tokay1 Windows Server 2012 R2 Standard / x64  OK  OK  OK  OK UNNEEDED, same version exists in internal repository
merida1 macOS 10.14.6 Mojave / x86_64  OK  OK  OK  OK UNNEEDED, same version exists in internal repository

Summary

Package: affyILM
Version: 1.42.0
Command: /home/biocbuild/bbs-3.12-bioc/R/bin/R CMD build --keep-empty-dirs --no-resave-data affyILM
StartedAt: 2020-11-30 17:29:48 -0500 (Mon, 30 Nov 2020)
EndedAt: 2020-11-30 17:30:45 -0500 (Mon, 30 Nov 2020)
EllapsedTime: 57.0 seconds
RetCode: 0
Status:  OK 
PackageFile: affyILM_1.42.0.tar.gz
PackageFileSize: 124 KiB

Command output

##############################################################################
##############################################################################
###
### Running command:
###
###   /home/biocbuild/bbs-3.12-bioc/R/bin/R CMD build --keep-empty-dirs --no-resave-data affyILM
###
##############################################################################
##############################################################################


* checking for file ‘affyILM/DESCRIPTION’ ... OK
* preparing ‘affyILM’:
* checking DESCRIPTION meta-information ... OK
* installing the package to build vignettes
* creating vignettes ... OK
* checking for LF line-endings in source and make files and shell scripts
* checking for empty or unneeded directories
* building ‘affyILM_1.42.0.tar.gz’