Back to Multiple platform build/check report for BioC 3.12
[A]BCDEFGHIJKLMNOPQRSTUVWXYZ

INSTALL report for affxparser on nebbiolo1

This page was generated on 2020-11-26 12:15:50 -0500 (Thu, 26 Nov 2020).

TO THE DEVELOPERS/MAINTAINERS OF THE affxparser PACKAGE: Please make sure to use the following settings in order to reproduce any error or warning you see on this page.
Package 23/1974HostnameOS / ArchINSTALLBUILDCHECKBUILD BIN
affxparser 1.62.0
Kasper Daniel Hansen
Snapshot Date: 2020-11-25 14:42:33 -0500 (Wed, 25 Nov 2020)
URL: https://git.bioconductor.org/packages/affxparser
Branch: RELEASE_3_12
Last Commit: b3e988e
Last Changed Date: 2020-10-27 10:26:49 -0500 (Tue, 27 Oct 2020)
malbec1 Linux (Ubuntu 18.04.4 LTS) / x86_64  OK  OK  WARNINGS UNNEEDED, same version exists in internal repository
nebbiolo1 Linux (Ubuntu 20.04.1 LTS) / x86_64 [ OK ] OK  WARNINGS 
tokay1 Windows Server 2012 R2 Standard / x64  OK  OK  WARNINGS  OK UNNEEDED, same version exists in internal repository
merida1 macOS 10.14.6 Mojave / x86_64  OK  OK  WARNINGS  OK UNNEEDED, same version exists in internal repository

Summary

Package: affxparser
Version: 1.62.0
Command: /home/biocbuild/bbs-3.12-bioc/R/bin/R CMD INSTALL affxparser
StartedAt: 2020-11-25 16:08:37 -0500 (Wed, 25 Nov 2020)
EndedAt: 2020-11-25 16:09:51 -0500 (Wed, 25 Nov 2020)
EllapsedTime: 74.3 seconds
RetCode: 0
Status:  OK 

Command output

##############################################################################
##############################################################################
###
### Running command:
###
###   /home/biocbuild/bbs-3.12-bioc/R/bin/R CMD INSTALL affxparser
###
##############################################################################
##############################################################################


* installing to library ‘/home/biocbuild/bbs-3.12-bioc/R/library’
* installing *source* package ‘affxparser’ ...
** using staged installation
** libs
rm -f fusion_sdk/calvin_files/data/src/CDFData.o fusion_sdk/calvin_files/data/src/CDFProbeGroupInformation.o fusion_sdk/calvin_files/data/src/CDFProbeInformation.o fusion_sdk/calvin_files/data/src/CDFProbeSetInformation.o fusion_sdk/calvin_files/data/src/CDFQCProbeInformation.o fusion_sdk/calvin_files/data/src/CDFQCProbeSetInformation.o fusion_sdk/calvin_files/data/src/CELData.o fusion_sdk/calvin_files/data/src/CHPBackgroundZone.o fusion_sdk/calvin_files/data/src/CHPData.o fusion_sdk/calvin_files/data/src/CHPExpressionEntry.o fusion_sdk/calvin_files/data/src/CHPMultiDataData.o fusion_sdk/calvin_files/data/src/CHPTilingData.o fusion_sdk/calvin_files/data/src/CHPQuantificationData.o fusion_sdk/calvin_files/data/src/CHPQuantificationDetectionData.o fusion_sdk/calvin_files/data/src/CHPGenotypeEntry.o fusion_sdk/calvin_files/data/src/CHPUniversalEntry.o fusion_sdk/calvin_files/data/src/ColumnInfo.o fusion_sdk/calvin_files/data/src/DataGroup.o fusion_sdk/calvin_files/data/src/DataGroupHeader.o fusion_sdk/calvin_files/data/src/DataSet.o fusion_sdk/calvin_files/data/src/DataSetHeader.o fusion_sdk/calvin_files/data/src/FileHeader.o fusion_sdk/calvin_files/data/src/GenericData.o fusion_sdk/calvin_files/data/src/GenericDataHeader.o fusion_sdk/calvin_files/exception/src/ExceptionBase.o fusion_sdk/calvin_files/fusion/src/CalvinAdapter/CalvinCELDataAdapter.o fusion_sdk/calvin_files/fusion/src/CalvinAdapter/CalvinCHPDataAdapter.o fusion_sdk/calvin_files/fusion/src/FusionBPMAPData.o fusion_sdk/calvin_files/fusion/src/FusionCDFData.o fusion_sdk/calvin_files/fusion/src/FusionCDFQCProbeSetNames.o fusion_sdk/calvin_files/fusion/src/FusionCELData.o fusion_sdk/calvin_files/fusion/src/FusionCHPData.o fusion_sdk/calvin_files/fusion/src/FusionProbeSetResults.o fusion_sdk/calvin_files/fusion/src/GCOSAdapter/GCOSCELDataAdapter.o fusion_sdk/calvin_files/fusion/src/GCOSAdapter/GCOSCHPDataAdapter.o fusion_sdk/calvin_files/fusion/src/FusionCHPLegacyData.o fusion_sdk/calvin_files/fusion/src/FusionCHPMultiDataAccessor.o fusion_sdk/calvin_files/fusion/src/FusionCHPMultiDataData.o fusion_sdk/calvin_files/fusion/src/FusionCHPTilingData.o fusion_sdk/calvin_files/fusion/src/FusionCHPGenericData.o fusion_sdk/calvin_files/fusion/src/FusionCHPQuantificationData.o fusion_sdk/calvin_files/fusion/src/FusionCHPQuantificationDetectionData.o fusion_sdk/calvin_files/parameter/src/ParameterNameValueType.o fusion_sdk/calvin_files/parsers/src/CDFFileReader.o fusion_sdk/calvin_files/parsers/src/CelFileReader.o fusion_sdk/calvin_files/parsers/src/CHPFileReader.o fusion_sdk/calvin_files/parsers/src/CHPMultiDataFileReader.o fusion_sdk/calvin_files/parsers/src/CHPTilingFileReader.o fusion_sdk/calvin_files/parsers/src/CHPQuantificationFileReader.o fusion_sdk/calvin_files/parsers/src/CHPQuantificationDetectionFileReader.o fusion_sdk/calvin_files/parsers/src/DataGroupHeaderReader.o fusion_sdk/calvin_files/parsers/src/DataGroupReader.o fusion_sdk/calvin_files/parsers/src/DataSetHeaderReader.o fusion_sdk/calvin_files/parsers/src/DataSetReader.o fusion_sdk/calvin_files/parsers/src/FileHeaderReader.o fusion_sdk/calvin_files/parsers/src/FileInput.o fusion_sdk/calvin_files/parsers/src/GenericDataHeaderReader.o fusion_sdk/calvin_files/parsers/src/GenericFileReader.o fusion_sdk/calvin_files/utils/src/AffymetrixGuid.o fusion_sdk/calvin_files/utils/src/DateTime.o fusion_sdk/calvin_files/utils/src/FileUtils.o fusion_sdk/calvin_files/utils/src/StringUtils.o fusion_sdk/calvin_files/utils/src/checksum.o fusion_sdk/file/BPMAPFileData.o fusion_sdk/file/BPMAPFileWriter.o fusion_sdk/file/CDFFileData.o fusion_sdk/file/CELFileData.o fusion_sdk/file/CHPFileData.o fusion_sdk/file/FileIO.o fusion_sdk/file/FileWriter.o fusion_sdk/file/TsvFile/ClfFile.o fusion_sdk/file/TsvFile/PgfFile.o fusion_sdk/file/TsvFile/TsvFile.o fusion_sdk/util/AffxByteArray.o fusion_sdk/util/AffxConv.o fusion_sdk/util/MsgStream.o fusion_sdk/util/Util.o fusion_sdk/util/Err.o fusion_sdk/util/Fs.o fusion_sdk/util/Verbose.o fusion_sdk/util/RowFile.o fusion_sdk/util/TableFile.o fusion_sdk/util/Convert.o R_affx_cel_parser.o R_affx_cdf_parser.o R_affx_cdf_extras.o R_affx_bpmap_parser.o R_affx_clf_pgf_parser.o R_affx_chp_parser.o
g++ -std=gnu++11 -I"/home/biocbuild/bbs-3.12-bioc/R/include" -DNDEBUG -I. -Ifusion_sdk/calvin_files/array/src -Ifusion_sdk/calvin_files/data/src -Ifusion_sdk/calvin_files/exception/src -Ifusion_sdk/calvin_files/fusion/src -Ifusion_sdk/calvin_files/fusion/src/GCOSAdapter -Ifusion_sdk/calvin_files/fusion/src/CalvinAdapter -Ifusion_sdk/calvin_files/parameter/src -Ifusion_sdk/calvin_files/parsers/src -Ifusion_sdk/calvin_files/portability/src -Ifusion_sdk/calvin_files/template/src -Ifusion_sdk/calvin_files/utils/src -Ifusion_sdk/calvin_files/writers/src -Ifusion_sdk/file -Ifusion_sdk/file/TsvFile -Ifusion_sdk/portability -Ifusion_sdk/util -Ifusion_sdk -D_USE_MEM_MAPPING_  -I/usr/local/include   -fpic  -g -O2  -Wall -Wno-sign-compare -O0 -c fusion_sdk/calvin_files/data/src/CDFData.cpp -o fusion_sdk/calvin_files/data/src/CDFData.o
g++ -std=gnu++11 -I"/home/biocbuild/bbs-3.12-bioc/R/include" -DNDEBUG -I. -Ifusion_sdk/calvin_files/array/src -Ifusion_sdk/calvin_files/data/src -Ifusion_sdk/calvin_files/exception/src -Ifusion_sdk/calvin_files/fusion/src -Ifusion_sdk/calvin_files/fusion/src/GCOSAdapter -Ifusion_sdk/calvin_files/fusion/src/CalvinAdapter -Ifusion_sdk/calvin_files/parameter/src -Ifusion_sdk/calvin_files/parsers/src -Ifusion_sdk/calvin_files/portability/src -Ifusion_sdk/calvin_files/template/src -Ifusion_sdk/calvin_files/utils/src -Ifusion_sdk/calvin_files/writers/src -Ifusion_sdk/file -Ifusion_sdk/file/TsvFile -Ifusion_sdk/portability -Ifusion_sdk/util -Ifusion_sdk -D_USE_MEM_MAPPING_  -I/usr/local/include   -fpic  -g -O2  -Wall -Wno-sign-compare -O0 -c fusion_sdk/calvin_files/data/src/CDFProbeGroupInformation.cpp -o fusion_sdk/calvin_files/data/src/CDFProbeGroupInformation.o
g++ -std=gnu++11 -I"/home/biocbuild/bbs-3.12-bioc/R/include" -DNDEBUG -I. -Ifusion_sdk/calvin_files/array/src -Ifusion_sdk/calvin_files/data/src -Ifusion_sdk/calvin_files/exception/src -Ifusion_sdk/calvin_files/fusion/src -Ifusion_sdk/calvin_files/fusion/src/GCOSAdapter -Ifusion_sdk/calvin_files/fusion/src/CalvinAdapter -Ifusion_sdk/calvin_files/parameter/src -Ifusion_sdk/calvin_files/parsers/src -Ifusion_sdk/calvin_files/portability/src -Ifusion_sdk/calvin_files/template/src -Ifusion_sdk/calvin_files/utils/src -Ifusion_sdk/calvin_files/writers/src -Ifusion_sdk/file -Ifusion_sdk/file/TsvFile -Ifusion_sdk/portability -Ifusion_sdk/util -Ifusion_sdk -D_USE_MEM_MAPPING_  -I/usr/local/include   -fpic  -g -O2  -Wall -Wno-sign-compare -O0 -c fusion_sdk/calvin_files/data/src/CDFProbeInformation.cpp -o fusion_sdk/calvin_files/data/src/CDFProbeInformation.o
g++ -std=gnu++11 -I"/home/biocbuild/bbs-3.12-bioc/R/include" -DNDEBUG -I. -Ifusion_sdk/calvin_files/array/src -Ifusion_sdk/calvin_files/data/src -Ifusion_sdk/calvin_files/exception/src -Ifusion_sdk/calvin_files/fusion/src -Ifusion_sdk/calvin_files/fusion/src/GCOSAdapter -Ifusion_sdk/calvin_files/fusion/src/CalvinAdapter -Ifusion_sdk/calvin_files/parameter/src -Ifusion_sdk/calvin_files/parsers/src -Ifusion_sdk/calvin_files/portability/src -Ifusion_sdk/calvin_files/template/src -Ifusion_sdk/calvin_files/utils/src -Ifusion_sdk/calvin_files/writers/src -Ifusion_sdk/file -Ifusion_sdk/file/TsvFile -Ifusion_sdk/portability -Ifusion_sdk/util -Ifusion_sdk -D_USE_MEM_MAPPING_  -I/usr/local/include   -fpic  -g -O2  -Wall -Wno-sign-compare -O0 -c fusion_sdk/calvin_files/data/src/CDFProbeSetInformation.cpp -o fusion_sdk/calvin_files/data/src/CDFProbeSetInformation.o
g++ -std=gnu++11 -I"/home/biocbuild/bbs-3.12-bioc/R/include" -DNDEBUG -I. -Ifusion_sdk/calvin_files/array/src -Ifusion_sdk/calvin_files/data/src -Ifusion_sdk/calvin_files/exception/src -Ifusion_sdk/calvin_files/fusion/src -Ifusion_sdk/calvin_files/fusion/src/GCOSAdapter -Ifusion_sdk/calvin_files/fusion/src/CalvinAdapter -Ifusion_sdk/calvin_files/parameter/src -Ifusion_sdk/calvin_files/parsers/src -Ifusion_sdk/calvin_files/portability/src -Ifusion_sdk/calvin_files/template/src -Ifusion_sdk/calvin_files/utils/src -Ifusion_sdk/calvin_files/writers/src -Ifusion_sdk/file -Ifusion_sdk/file/TsvFile -Ifusion_sdk/portability -Ifusion_sdk/util -Ifusion_sdk -D_USE_MEM_MAPPING_  -I/usr/local/include   -fpic  -g -O2  -Wall -Wno-sign-compare -O0 -c fusion_sdk/calvin_files/data/src/CDFQCProbeInformation.cpp -o fusion_sdk/calvin_files/data/src/CDFQCProbeInformation.o
g++ -std=gnu++11 -I"/home/biocbuild/bbs-3.12-bioc/R/include" -DNDEBUG -I. -Ifusion_sdk/calvin_files/array/src -Ifusion_sdk/calvin_files/data/src -Ifusion_sdk/calvin_files/exception/src -Ifusion_sdk/calvin_files/fusion/src -Ifusion_sdk/calvin_files/fusion/src/GCOSAdapter -Ifusion_sdk/calvin_files/fusion/src/CalvinAdapter -Ifusion_sdk/calvin_files/parameter/src -Ifusion_sdk/calvin_files/parsers/src -Ifusion_sdk/calvin_files/portability/src -Ifusion_sdk/calvin_files/template/src -Ifusion_sdk/calvin_files/utils/src -Ifusion_sdk/calvin_files/writers/src -Ifusion_sdk/file -Ifusion_sdk/file/TsvFile -Ifusion_sdk/portability -Ifusion_sdk/util -Ifusion_sdk -D_USE_MEM_MAPPING_  -I/usr/local/include   -fpic  -g -O2  -Wall -Wno-sign-compare -O0 -c fusion_sdk/calvin_files/data/src/CDFQCProbeSetInformation.cpp -o fusion_sdk/calvin_files/data/src/CDFQCProbeSetInformation.o
g++ -std=gnu++11 -I"/home/biocbuild/bbs-3.12-bioc/R/include" -DNDEBUG -I. -Ifusion_sdk/calvin_files/array/src -Ifusion_sdk/calvin_files/data/src -Ifusion_sdk/calvin_files/exception/src -Ifusion_sdk/calvin_files/fusion/src -Ifusion_sdk/calvin_files/fusion/src/GCOSAdapter -Ifusion_sdk/calvin_files/fusion/src/CalvinAdapter -Ifusion_sdk/calvin_files/parameter/src -Ifusion_sdk/calvin_files/parsers/src -Ifusion_sdk/calvin_files/portability/src -Ifusion_sdk/calvin_files/template/src -Ifusion_sdk/calvin_files/utils/src -Ifusion_sdk/calvin_files/writers/src -Ifusion_sdk/file -Ifusion_sdk/file/TsvFile -Ifusion_sdk/portability -Ifusion_sdk/util -Ifusion_sdk -D_USE_MEM_MAPPING_  -I/usr/local/include   -fpic  -g -O2  -Wall -Wno-sign-compare -O0 -c fusion_sdk/calvin_files/data/src/CELData.cpp -o fusion_sdk/calvin_files/data/src/CELData.o
g++ -std=gnu++11 -I"/home/biocbuild/bbs-3.12-bioc/R/include" -DNDEBUG -I. -Ifusion_sdk/calvin_files/array/src -Ifusion_sdk/calvin_files/data/src -Ifusion_sdk/calvin_files/exception/src -Ifusion_sdk/calvin_files/fusion/src -Ifusion_sdk/calvin_files/fusion/src/GCOSAdapter -Ifusion_sdk/calvin_files/fusion/src/CalvinAdapter -Ifusion_sdk/calvin_files/parameter/src -Ifusion_sdk/calvin_files/parsers/src -Ifusion_sdk/calvin_files/portability/src -Ifusion_sdk/calvin_files/template/src -Ifusion_sdk/calvin_files/utils/src -Ifusion_sdk/calvin_files/writers/src -Ifusion_sdk/file -Ifusion_sdk/file/TsvFile -Ifusion_sdk/portability -Ifusion_sdk/util -Ifusion_sdk -D_USE_MEM_MAPPING_  -I/usr/local/include   -fpic  -g -O2  -Wall -Wno-sign-compare -O0 -c fusion_sdk/calvin_files/data/src/CHPBackgroundZone.cpp -o fusion_sdk/calvin_files/data/src/CHPBackgroundZone.o
g++ -std=gnu++11 -I"/home/biocbuild/bbs-3.12-bioc/R/include" -DNDEBUG -I. -Ifusion_sdk/calvin_files/array/src -Ifusion_sdk/calvin_files/data/src -Ifusion_sdk/calvin_files/exception/src -Ifusion_sdk/calvin_files/fusion/src -Ifusion_sdk/calvin_files/fusion/src/GCOSAdapter -Ifusion_sdk/calvin_files/fusion/src/CalvinAdapter -Ifusion_sdk/calvin_files/parameter/src -Ifusion_sdk/calvin_files/parsers/src -Ifusion_sdk/calvin_files/portability/src -Ifusion_sdk/calvin_files/template/src -Ifusion_sdk/calvin_files/utils/src -Ifusion_sdk/calvin_files/writers/src -Ifusion_sdk/file -Ifusion_sdk/file/TsvFile -Ifusion_sdk/portability -Ifusion_sdk/util -Ifusion_sdk -D_USE_MEM_MAPPING_  -I/usr/local/include   -fpic  -g -O2  -Wall -Wno-sign-compare -O0 -c fusion_sdk/calvin_files/data/src/CHPData.cpp -o fusion_sdk/calvin_files/data/src/CHPData.o
g++ -std=gnu++11 -I"/home/biocbuild/bbs-3.12-bioc/R/include" -DNDEBUG -I. -Ifusion_sdk/calvin_files/array/src -Ifusion_sdk/calvin_files/data/src -Ifusion_sdk/calvin_files/exception/src -Ifusion_sdk/calvin_files/fusion/src -Ifusion_sdk/calvin_files/fusion/src/GCOSAdapter -Ifusion_sdk/calvin_files/fusion/src/CalvinAdapter -Ifusion_sdk/calvin_files/parameter/src -Ifusion_sdk/calvin_files/parsers/src -Ifusion_sdk/calvin_files/portability/src -Ifusion_sdk/calvin_files/template/src -Ifusion_sdk/calvin_files/utils/src -Ifusion_sdk/calvin_files/writers/src -Ifusion_sdk/file -Ifusion_sdk/file/TsvFile -Ifusion_sdk/portability -Ifusion_sdk/util -Ifusion_sdk -D_USE_MEM_MAPPING_  -I/usr/local/include   -fpic  -g -O2  -Wall -Wno-sign-compare -O0 -c fusion_sdk/calvin_files/data/src/CHPExpressionEntry.cpp -o fusion_sdk/calvin_files/data/src/CHPExpressionEntry.o
g++ -std=gnu++11 -I"/home/biocbuild/bbs-3.12-bioc/R/include" -DNDEBUG -I. -Ifusion_sdk/calvin_files/array/src -Ifusion_sdk/calvin_files/data/src -Ifusion_sdk/calvin_files/exception/src -Ifusion_sdk/calvin_files/fusion/src -Ifusion_sdk/calvin_files/fusion/src/GCOSAdapter -Ifusion_sdk/calvin_files/fusion/src/CalvinAdapter -Ifusion_sdk/calvin_files/parameter/src -Ifusion_sdk/calvin_files/parsers/src -Ifusion_sdk/calvin_files/portability/src -Ifusion_sdk/calvin_files/template/src -Ifusion_sdk/calvin_files/utils/src -Ifusion_sdk/calvin_files/writers/src -Ifusion_sdk/file -Ifusion_sdk/file/TsvFile -Ifusion_sdk/portability -Ifusion_sdk/util -Ifusion_sdk -D_USE_MEM_MAPPING_  -I/usr/local/include   -fpic  -g -O2  -Wall -Wno-sign-compare -O0 -c fusion_sdk/calvin_files/data/src/CHPMultiDataData.cpp -o fusion_sdk/calvin_files/data/src/CHPMultiDataData.o
fusion_sdk/calvin_files/data/src/CHPMultiDataData.cpp: In member function ‘void affymetrix_calvin_io::CHPMultiDataData::SetEntryCount(affymetrix_calvin_io::MultiDataType, int32_t, int32_t, const std::vector<affymetrix_calvin_io::ColumnInfo>&, const wstring&)’:
fusion_sdk/calvin_files/data/src/CHPMultiDataData.cpp:427:5: warning: this ‘else’ clause does not guard... [-Wmisleading-indentation]
  427 |     else
      |     ^~~~
fusion_sdk/calvin_files/data/src/CHPMultiDataData.cpp:429:2: note: ...this statement, but the latter is misleadingly indented as if it were guarded by the ‘else’
  429 |  DataGroupHeader* dgHdr = GetDataGroupHeader(dataTypeGroupNames[dataType]);
      |  ^~~~~~~~~~~~~~~
fusion_sdk/calvin_files/data/src/CHPMultiDataData.cpp: In member function ‘void affymetrix_calvin_io::CHPMultiDataData::SetEntryCount(affymetrix_calvin_io::MultiDataType, int32_t, int, int, int, const wstring&)’:
fusion_sdk/calvin_files/data/src/CHPMultiDataData.cpp:457:5: warning: this ‘else’ clause does not guard... [-Wmisleading-indentation]
  457 |     else
      |     ^~~~
fusion_sdk/calvin_files/data/src/CHPMultiDataData.cpp:459:2: note: ...this statement, but the latter is misleadingly indented as if it were guarded by the ‘else’
  459 |  DataGroupHeader* dgHdr = GetDataGroupHeader(dataTypeGroupNames[dataType]);
      |  ^~~~~~~~~~~~~~~
fusion_sdk/calvin_files/data/src/CHPMultiDataData.cpp: In member function ‘void affymetrix_calvin_io::CHPMultiDataData::SetEntryCount(affymetrix_calvin_io::MultiDataType, int32_t, int, int, int, int, const wstring&)’:
fusion_sdk/calvin_files/data/src/CHPMultiDataData.cpp:482:5: warning: this ‘else’ clause does not guard... [-Wmisleading-indentation]
  482 |     else
      |     ^~~~
fusion_sdk/calvin_files/data/src/CHPMultiDataData.cpp:484:2: note: ...this statement, but the latter is misleadingly indented as if it were guarded by the ‘else’
  484 |  DataGroupHeader* dgHdr = GetDataGroupHeader(dataTypeGroupNames[dataType]);
      |  ^~~~~~~~~~~~~~~
g++ -std=gnu++11 -I"/home/biocbuild/bbs-3.12-bioc/R/include" -DNDEBUG -I. -Ifusion_sdk/calvin_files/array/src -Ifusion_sdk/calvin_files/data/src -Ifusion_sdk/calvin_files/exception/src -Ifusion_sdk/calvin_files/fusion/src -Ifusion_sdk/calvin_files/fusion/src/GCOSAdapter -Ifusion_sdk/calvin_files/fusion/src/CalvinAdapter -Ifusion_sdk/calvin_files/parameter/src -Ifusion_sdk/calvin_files/parsers/src -Ifusion_sdk/calvin_files/portability/src -Ifusion_sdk/calvin_files/template/src -Ifusion_sdk/calvin_files/utils/src -Ifusion_sdk/calvin_files/writers/src -Ifusion_sdk/file -Ifusion_sdk/file/TsvFile -Ifusion_sdk/portability -Ifusion_sdk/util -Ifusion_sdk -D_USE_MEM_MAPPING_  -I/usr/local/include   -fpic  -g -O2  -Wall -Wno-sign-compare -O0 -c fusion_sdk/calvin_files/data/src/CHPTilingData.cpp -o fusion_sdk/calvin_files/data/src/CHPTilingData.o
g++ -std=gnu++11 -I"/home/biocbuild/bbs-3.12-bioc/R/include" -DNDEBUG -I. -Ifusion_sdk/calvin_files/array/src -Ifusion_sdk/calvin_files/data/src -Ifusion_sdk/calvin_files/exception/src -Ifusion_sdk/calvin_files/fusion/src -Ifusion_sdk/calvin_files/fusion/src/GCOSAdapter -Ifusion_sdk/calvin_files/fusion/src/CalvinAdapter -Ifusion_sdk/calvin_files/parameter/src -Ifusion_sdk/calvin_files/parsers/src -Ifusion_sdk/calvin_files/portability/src -Ifusion_sdk/calvin_files/template/src -Ifusion_sdk/calvin_files/utils/src -Ifusion_sdk/calvin_files/writers/src -Ifusion_sdk/file -Ifusion_sdk/file/TsvFile -Ifusion_sdk/portability -Ifusion_sdk/util -Ifusion_sdk -D_USE_MEM_MAPPING_  -I/usr/local/include   -fpic  -g -O2  -Wall -Wno-sign-compare -O0 -c fusion_sdk/calvin_files/data/src/CHPQuantificationData.cpp -o fusion_sdk/calvin_files/data/src/CHPQuantificationData.o
fusion_sdk/calvin_files/data/src/CHPQuantificationData.cpp: In member function ‘void affymetrix_calvin_io::CHPQuantificationData::AddColumns(affymetrix_calvin_io::DataSetHeader&, bool)’:
fusion_sdk/calvin_files/data/src/CHPQuantificationData.cpp:144:5: warning: this ‘else’ clause does not guard... [-Wmisleading-indentation]
  144 |     else
      |     ^~~~
fusion_sdk/calvin_files/data/src/CHPQuantificationData.cpp:146:2: note: ...this statement, but the latter is misleadingly indented as if it were guarded by the ‘else’
  146 |  hdr.AddFloatColumn(QUANTIFICATION_QUANTIFICATION_NAME);
      |  ^~~
g++ -std=gnu++11 -I"/home/biocbuild/bbs-3.12-bioc/R/include" -DNDEBUG -I. -Ifusion_sdk/calvin_files/array/src -Ifusion_sdk/calvin_files/data/src -Ifusion_sdk/calvin_files/exception/src -Ifusion_sdk/calvin_files/fusion/src -Ifusion_sdk/calvin_files/fusion/src/GCOSAdapter -Ifusion_sdk/calvin_files/fusion/src/CalvinAdapter -Ifusion_sdk/calvin_files/parameter/src -Ifusion_sdk/calvin_files/parsers/src -Ifusion_sdk/calvin_files/portability/src -Ifusion_sdk/calvin_files/template/src -Ifusion_sdk/calvin_files/utils/src -Ifusion_sdk/calvin_files/writers/src -Ifusion_sdk/file -Ifusion_sdk/file/TsvFile -Ifusion_sdk/portability -Ifusion_sdk/util -Ifusion_sdk -D_USE_MEM_MAPPING_  -I/usr/local/include   -fpic  -g -O2  -Wall -Wno-sign-compare -O0 -c fusion_sdk/calvin_files/data/src/CHPQuantificationDetectionData.cpp -o fusion_sdk/calvin_files/data/src/CHPQuantificationDetectionData.o
fusion_sdk/calvin_files/data/src/CHPQuantificationDetectionData.cpp: In member function ‘void affymetrix_calvin_io::CHPQuantificationDetectionData::AddColumns(affymetrix_calvin_io::DataSetHeader&, bool)’:
fusion_sdk/calvin_files/data/src/CHPQuantificationDetectionData.cpp:151:5: warning: this ‘else’ clause does not guard... [-Wmisleading-indentation]
  151 |     else
      |     ^~~~
fusion_sdk/calvin_files/data/src/CHPQuantificationDetectionData.cpp:153:2: note: ...this statement, but the latter is misleadingly indented as if it were guarded by the ‘else’
  153 |  hdr.AddFloatColumn(QUANTIFICATION_DETECTION_QUANTIFICATION_NAME);
      |  ^~~
g++ -std=gnu++11 -I"/home/biocbuild/bbs-3.12-bioc/R/include" -DNDEBUG -I. -Ifusion_sdk/calvin_files/array/src -Ifusion_sdk/calvin_files/data/src -Ifusion_sdk/calvin_files/exception/src -Ifusion_sdk/calvin_files/fusion/src -Ifusion_sdk/calvin_files/fusion/src/GCOSAdapter -Ifusion_sdk/calvin_files/fusion/src/CalvinAdapter -Ifusion_sdk/calvin_files/parameter/src -Ifusion_sdk/calvin_files/parsers/src -Ifusion_sdk/calvin_files/portability/src -Ifusion_sdk/calvin_files/template/src -Ifusion_sdk/calvin_files/utils/src -Ifusion_sdk/calvin_files/writers/src -Ifusion_sdk/file -Ifusion_sdk/file/TsvFile -Ifusion_sdk/portability -Ifusion_sdk/util -Ifusion_sdk -D_USE_MEM_MAPPING_  -I/usr/local/include   -fpic  -g -O2  -Wall -Wno-sign-compare -O0 -c fusion_sdk/calvin_files/data/src/CHPGenotypeEntry.cpp -o fusion_sdk/calvin_files/data/src/CHPGenotypeEntry.o
g++ -std=gnu++11 -I"/home/biocbuild/bbs-3.12-bioc/R/include" -DNDEBUG -I. -Ifusion_sdk/calvin_files/array/src -Ifusion_sdk/calvin_files/data/src -Ifusion_sdk/calvin_files/exception/src -Ifusion_sdk/calvin_files/fusion/src -Ifusion_sdk/calvin_files/fusion/src/GCOSAdapter -Ifusion_sdk/calvin_files/fusion/src/CalvinAdapter -Ifusion_sdk/calvin_files/parameter/src -Ifusion_sdk/calvin_files/parsers/src -Ifusion_sdk/calvin_files/portability/src -Ifusion_sdk/calvin_files/template/src -Ifusion_sdk/calvin_files/utils/src -Ifusion_sdk/calvin_files/writers/src -Ifusion_sdk/file -Ifusion_sdk/file/TsvFile -Ifusion_sdk/portability -Ifusion_sdk/util -Ifusion_sdk -D_USE_MEM_MAPPING_  -I/usr/local/include   -fpic  -g -O2  -Wall -Wno-sign-compare -O0 -c fusion_sdk/calvin_files/data/src/CHPUniversalEntry.cpp -o fusion_sdk/calvin_files/data/src/CHPUniversalEntry.o
g++ -std=gnu++11 -I"/home/biocbuild/bbs-3.12-bioc/R/include" -DNDEBUG -I. -Ifusion_sdk/calvin_files/array/src -Ifusion_sdk/calvin_files/data/src -Ifusion_sdk/calvin_files/exception/src -Ifusion_sdk/calvin_files/fusion/src -Ifusion_sdk/calvin_files/fusion/src/GCOSAdapter -Ifusion_sdk/calvin_files/fusion/src/CalvinAdapter -Ifusion_sdk/calvin_files/parameter/src -Ifusion_sdk/calvin_files/parsers/src -Ifusion_sdk/calvin_files/portability/src -Ifusion_sdk/calvin_files/template/src -Ifusion_sdk/calvin_files/utils/src -Ifusion_sdk/calvin_files/writers/src -Ifusion_sdk/file -Ifusion_sdk/file/TsvFile -Ifusion_sdk/portability -Ifusion_sdk/util -Ifusion_sdk -D_USE_MEM_MAPPING_  -I/usr/local/include   -fpic  -g -O2  -Wall -Wno-sign-compare -O0 -c fusion_sdk/calvin_files/data/src/ColumnInfo.cpp -o fusion_sdk/calvin_files/data/src/ColumnInfo.o
g++ -std=gnu++11 -I"/home/biocbuild/bbs-3.12-bioc/R/include" -DNDEBUG -I. -Ifusion_sdk/calvin_files/array/src -Ifusion_sdk/calvin_files/data/src -Ifusion_sdk/calvin_files/exception/src -Ifusion_sdk/calvin_files/fusion/src -Ifusion_sdk/calvin_files/fusion/src/GCOSAdapter -Ifusion_sdk/calvin_files/fusion/src/CalvinAdapter -Ifusion_sdk/calvin_files/parameter/src -Ifusion_sdk/calvin_files/parsers/src -Ifusion_sdk/calvin_files/portability/src -Ifusion_sdk/calvin_files/template/src -Ifusion_sdk/calvin_files/utils/src -Ifusion_sdk/calvin_files/writers/src -Ifusion_sdk/file -Ifusion_sdk/file/TsvFile -Ifusion_sdk/portability -Ifusion_sdk/util -Ifusion_sdk -D_USE_MEM_MAPPING_  -I/usr/local/include   -fpic  -g -O2  -Wall -Wno-sign-compare -O0 -c fusion_sdk/calvin_files/data/src/DataGroup.cpp -o fusion_sdk/calvin_files/data/src/DataGroup.o
g++ -std=gnu++11 -I"/home/biocbuild/bbs-3.12-bioc/R/include" -DNDEBUG -I. -Ifusion_sdk/calvin_files/array/src -Ifusion_sdk/calvin_files/data/src -Ifusion_sdk/calvin_files/exception/src -Ifusion_sdk/calvin_files/fusion/src -Ifusion_sdk/calvin_files/fusion/src/GCOSAdapter -Ifusion_sdk/calvin_files/fusion/src/CalvinAdapter -Ifusion_sdk/calvin_files/parameter/src -Ifusion_sdk/calvin_files/parsers/src -Ifusion_sdk/calvin_files/portability/src -Ifusion_sdk/calvin_files/template/src -Ifusion_sdk/calvin_files/utils/src -Ifusion_sdk/calvin_files/writers/src -Ifusion_sdk/file -Ifusion_sdk/file/TsvFile -Ifusion_sdk/portability -Ifusion_sdk/util -Ifusion_sdk -D_USE_MEM_MAPPING_  -I/usr/local/include   -fpic  -g -O2  -Wall -Wno-sign-compare -O0 -c fusion_sdk/calvin_files/data/src/DataGroupHeader.cpp -o fusion_sdk/calvin_files/data/src/DataGroupHeader.o
g++ -std=gnu++11 -I"/home/biocbuild/bbs-3.12-bioc/R/include" -DNDEBUG -I. -Ifusion_sdk/calvin_files/array/src -Ifusion_sdk/calvin_files/data/src -Ifusion_sdk/calvin_files/exception/src -Ifusion_sdk/calvin_files/fusion/src -Ifusion_sdk/calvin_files/fusion/src/GCOSAdapter -Ifusion_sdk/calvin_files/fusion/src/CalvinAdapter -Ifusion_sdk/calvin_files/parameter/src -Ifusion_sdk/calvin_files/parsers/src -Ifusion_sdk/calvin_files/portability/src -Ifusion_sdk/calvin_files/template/src -Ifusion_sdk/calvin_files/utils/src -Ifusion_sdk/calvin_files/writers/src -Ifusion_sdk/file -Ifusion_sdk/file/TsvFile -Ifusion_sdk/portability -Ifusion_sdk/util -Ifusion_sdk -D_USE_MEM_MAPPING_  -I/usr/local/include   -fpic  -g -O2  -Wall -Wno-sign-compare -O0 -c fusion_sdk/calvin_files/data/src/DataSet.cpp -o fusion_sdk/calvin_files/data/src/DataSet.o
g++ -std=gnu++11 -I"/home/biocbuild/bbs-3.12-bioc/R/include" -DNDEBUG -I. -Ifusion_sdk/calvin_files/array/src -Ifusion_sdk/calvin_files/data/src -Ifusion_sdk/calvin_files/exception/src -Ifusion_sdk/calvin_files/fusion/src -Ifusion_sdk/calvin_files/fusion/src/GCOSAdapter -Ifusion_sdk/calvin_files/fusion/src/CalvinAdapter -Ifusion_sdk/calvin_files/parameter/src -Ifusion_sdk/calvin_files/parsers/src -Ifusion_sdk/calvin_files/portability/src -Ifusion_sdk/calvin_files/template/src -Ifusion_sdk/calvin_files/utils/src -Ifusion_sdk/calvin_files/writers/src -Ifusion_sdk/file -Ifusion_sdk/file/TsvFile -Ifusion_sdk/portability -Ifusion_sdk/util -Ifusion_sdk -D_USE_MEM_MAPPING_  -I/usr/local/include   -fpic  -g -O2  -Wall -Wno-sign-compare -O0 -c fusion_sdk/calvin_files/data/src/DataSetHeader.cpp -o fusion_sdk/calvin_files/data/src/DataSetHeader.o
g++ -std=gnu++11 -I"/home/biocbuild/bbs-3.12-bioc/R/include" -DNDEBUG -I. -Ifusion_sdk/calvin_files/array/src -Ifusion_sdk/calvin_files/data/src -Ifusion_sdk/calvin_files/exception/src -Ifusion_sdk/calvin_files/fusion/src -Ifusion_sdk/calvin_files/fusion/src/GCOSAdapter -Ifusion_sdk/calvin_files/fusion/src/CalvinAdapter -Ifusion_sdk/calvin_files/parameter/src -Ifusion_sdk/calvin_files/parsers/src -Ifusion_sdk/calvin_files/portability/src -Ifusion_sdk/calvin_files/template/src -Ifusion_sdk/calvin_files/utils/src -Ifusion_sdk/calvin_files/writers/src -Ifusion_sdk/file -Ifusion_sdk/file/TsvFile -Ifusion_sdk/portability -Ifusion_sdk/util -Ifusion_sdk -D_USE_MEM_MAPPING_  -I/usr/local/include   -fpic  -g -O2  -Wall -Wno-sign-compare -O0 -c fusion_sdk/calvin_files/data/src/FileHeader.cpp -o fusion_sdk/calvin_files/data/src/FileHeader.o
g++ -std=gnu++11 -I"/home/biocbuild/bbs-3.12-bioc/R/include" -DNDEBUG -I. -Ifusion_sdk/calvin_files/array/src -Ifusion_sdk/calvin_files/data/src -Ifusion_sdk/calvin_files/exception/src -Ifusion_sdk/calvin_files/fusion/src -Ifusion_sdk/calvin_files/fusion/src/GCOSAdapter -Ifusion_sdk/calvin_files/fusion/src/CalvinAdapter -Ifusion_sdk/calvin_files/parameter/src -Ifusion_sdk/calvin_files/parsers/src -Ifusion_sdk/calvin_files/portability/src -Ifusion_sdk/calvin_files/template/src -Ifusion_sdk/calvin_files/utils/src -Ifusion_sdk/calvin_files/writers/src -Ifusion_sdk/file -Ifusion_sdk/file/TsvFile -Ifusion_sdk/portability -Ifusion_sdk/util -Ifusion_sdk -D_USE_MEM_MAPPING_  -I/usr/local/include   -fpic  -g -O2  -Wall -Wno-sign-compare -O0 -c fusion_sdk/calvin_files/data/src/GenericData.cpp -o fusion_sdk/calvin_files/data/src/GenericData.o
g++ -std=gnu++11 -I"/home/biocbuild/bbs-3.12-bioc/R/include" -DNDEBUG -I. -Ifusion_sdk/calvin_files/array/src -Ifusion_sdk/calvin_files/data/src -Ifusion_sdk/calvin_files/exception/src -Ifusion_sdk/calvin_files/fusion/src -Ifusion_sdk/calvin_files/fusion/src/GCOSAdapter -Ifusion_sdk/calvin_files/fusion/src/CalvinAdapter -Ifusion_sdk/calvin_files/parameter/src -Ifusion_sdk/calvin_files/parsers/src -Ifusion_sdk/calvin_files/portability/src -Ifusion_sdk/calvin_files/template/src -Ifusion_sdk/calvin_files/utils/src -Ifusion_sdk/calvin_files/writers/src -Ifusion_sdk/file -Ifusion_sdk/file/TsvFile -Ifusion_sdk/portability -Ifusion_sdk/util -Ifusion_sdk -D_USE_MEM_MAPPING_  -I/usr/local/include   -fpic  -g -O2  -Wall -Wno-sign-compare -O0 -c fusion_sdk/calvin_files/data/src/GenericDataHeader.cpp -o fusion_sdk/calvin_files/data/src/GenericDataHeader.o
g++ -std=gnu++11 -I"/home/biocbuild/bbs-3.12-bioc/R/include" -DNDEBUG -I. -Ifusion_sdk/calvin_files/array/src -Ifusion_sdk/calvin_files/data/src -Ifusion_sdk/calvin_files/exception/src -Ifusion_sdk/calvin_files/fusion/src -Ifusion_sdk/calvin_files/fusion/src/GCOSAdapter -Ifusion_sdk/calvin_files/fusion/src/CalvinAdapter -Ifusion_sdk/calvin_files/parameter/src -Ifusion_sdk/calvin_files/parsers/src -Ifusion_sdk/calvin_files/portability/src -Ifusion_sdk/calvin_files/template/src -Ifusion_sdk/calvin_files/utils/src -Ifusion_sdk/calvin_files/writers/src -Ifusion_sdk/file -Ifusion_sdk/file/TsvFile -Ifusion_sdk/portability -Ifusion_sdk/util -Ifusion_sdk -D_USE_MEM_MAPPING_  -I/usr/local/include   -fpic  -g -O2  -Wall -Wno-sign-compare -O0 -c fusion_sdk/calvin_files/exception/src/ExceptionBase.cpp -o fusion_sdk/calvin_files/exception/src/ExceptionBase.o
g++ -std=gnu++11 -I"/home/biocbuild/bbs-3.12-bioc/R/include" -DNDEBUG -I. -Ifusion_sdk/calvin_files/array/src -Ifusion_sdk/calvin_files/data/src -Ifusion_sdk/calvin_files/exception/src -Ifusion_sdk/calvin_files/fusion/src -Ifusion_sdk/calvin_files/fusion/src/GCOSAdapter -Ifusion_sdk/calvin_files/fusion/src/CalvinAdapter -Ifusion_sdk/calvin_files/parameter/src -Ifusion_sdk/calvin_files/parsers/src -Ifusion_sdk/calvin_files/portability/src -Ifusion_sdk/calvin_files/template/src -Ifusion_sdk/calvin_files/utils/src -Ifusion_sdk/calvin_files/writers/src -Ifusion_sdk/file -Ifusion_sdk/file/TsvFile -Ifusion_sdk/portability -Ifusion_sdk/util -Ifusion_sdk -D_USE_MEM_MAPPING_  -I/usr/local/include   -fpic  -g -O2  -Wall -Wno-sign-compare -O0 -c fusion_sdk/calvin_files/fusion/src/CalvinAdapter/CalvinCELDataAdapter.cpp -o fusion_sdk/calvin_files/fusion/src/CalvinAdapter/CalvinCELDataAdapter.o
g++ -std=gnu++11 -I"/home/biocbuild/bbs-3.12-bioc/R/include" -DNDEBUG -I. -Ifusion_sdk/calvin_files/array/src -Ifusion_sdk/calvin_files/data/src -Ifusion_sdk/calvin_files/exception/src -Ifusion_sdk/calvin_files/fusion/src -Ifusion_sdk/calvin_files/fusion/src/GCOSAdapter -Ifusion_sdk/calvin_files/fusion/src/CalvinAdapter -Ifusion_sdk/calvin_files/parameter/src -Ifusion_sdk/calvin_files/parsers/src -Ifusion_sdk/calvin_files/portability/src -Ifusion_sdk/calvin_files/template/src -Ifusion_sdk/calvin_files/utils/src -Ifusion_sdk/calvin_files/writers/src -Ifusion_sdk/file -Ifusion_sdk/file/TsvFile -Ifusion_sdk/portability -Ifusion_sdk/util -Ifusion_sdk -D_USE_MEM_MAPPING_  -I/usr/local/include   -fpic  -g -O2  -Wall -Wno-sign-compare -O0 -c fusion_sdk/calvin_files/fusion/src/CalvinAdapter/CalvinCHPDataAdapter.cpp -o fusion_sdk/calvin_files/fusion/src/CalvinAdapter/CalvinCHPDataAdapter.o
g++ -std=gnu++11 -I"/home/biocbuild/bbs-3.12-bioc/R/include" -DNDEBUG -I. -Ifusion_sdk/calvin_files/array/src -Ifusion_sdk/calvin_files/data/src -Ifusion_sdk/calvin_files/exception/src -Ifusion_sdk/calvin_files/fusion/src -Ifusion_sdk/calvin_files/fusion/src/GCOSAdapter -Ifusion_sdk/calvin_files/fusion/src/CalvinAdapter -Ifusion_sdk/calvin_files/parameter/src -Ifusion_sdk/calvin_files/parsers/src -Ifusion_sdk/calvin_files/portability/src -Ifusion_sdk/calvin_files/template/src -Ifusion_sdk/calvin_files/utils/src -Ifusion_sdk/calvin_files/writers/src -Ifusion_sdk/file -Ifusion_sdk/file/TsvFile -Ifusion_sdk/portability -Ifusion_sdk/util -Ifusion_sdk -D_USE_MEM_MAPPING_  -I/usr/local/include   -fpic  -g -O2  -Wall -Wno-sign-compare -O0 -c fusion_sdk/calvin_files/fusion/src/FusionBPMAPData.cpp -o fusion_sdk/calvin_files/fusion/src/FusionBPMAPData.o
g++ -std=gnu++11 -I"/home/biocbuild/bbs-3.12-bioc/R/include" -DNDEBUG -I. -Ifusion_sdk/calvin_files/array/src -Ifusion_sdk/calvin_files/data/src -Ifusion_sdk/calvin_files/exception/src -Ifusion_sdk/calvin_files/fusion/src -Ifusion_sdk/calvin_files/fusion/src/GCOSAdapter -Ifusion_sdk/calvin_files/fusion/src/CalvinAdapter -Ifusion_sdk/calvin_files/parameter/src -Ifusion_sdk/calvin_files/parsers/src -Ifusion_sdk/calvin_files/portability/src -Ifusion_sdk/calvin_files/template/src -Ifusion_sdk/calvin_files/utils/src -Ifusion_sdk/calvin_files/writers/src -Ifusion_sdk/file -Ifusion_sdk/file/TsvFile -Ifusion_sdk/portability -Ifusion_sdk/util -Ifusion_sdk -D_USE_MEM_MAPPING_  -I/usr/local/include   -fpic  -g -O2  -Wall -Wno-sign-compare -O0 -c fusion_sdk/calvin_files/fusion/src/FusionCDFData.cpp -o fusion_sdk/calvin_files/fusion/src/FusionCDFData.o
g++ -std=gnu++11 -I"/home/biocbuild/bbs-3.12-bioc/R/include" -DNDEBUG -I. -Ifusion_sdk/calvin_files/array/src -Ifusion_sdk/calvin_files/data/src -Ifusion_sdk/calvin_files/exception/src -Ifusion_sdk/calvin_files/fusion/src -Ifusion_sdk/calvin_files/fusion/src/GCOSAdapter -Ifusion_sdk/calvin_files/fusion/src/CalvinAdapter -Ifusion_sdk/calvin_files/parameter/src -Ifusion_sdk/calvin_files/parsers/src -Ifusion_sdk/calvin_files/portability/src -Ifusion_sdk/calvin_files/template/src -Ifusion_sdk/calvin_files/utils/src -Ifusion_sdk/calvin_files/writers/src -Ifusion_sdk/file -Ifusion_sdk/file/TsvFile -Ifusion_sdk/portability -Ifusion_sdk/util -Ifusion_sdk -D_USE_MEM_MAPPING_  -I/usr/local/include   -fpic  -g -O2  -Wall -Wno-sign-compare -O0 -c fusion_sdk/calvin_files/fusion/src/FusionCDFQCProbeSetNames.cpp -o fusion_sdk/calvin_files/fusion/src/FusionCDFQCProbeSetNames.o
g++ -std=gnu++11 -I"/home/biocbuild/bbs-3.12-bioc/R/include" -DNDEBUG -I. -Ifusion_sdk/calvin_files/array/src -Ifusion_sdk/calvin_files/data/src -Ifusion_sdk/calvin_files/exception/src -Ifusion_sdk/calvin_files/fusion/src -Ifusion_sdk/calvin_files/fusion/src/GCOSAdapter -Ifusion_sdk/calvin_files/fusion/src/CalvinAdapter -Ifusion_sdk/calvin_files/parameter/src -Ifusion_sdk/calvin_files/parsers/src -Ifusion_sdk/calvin_files/portability/src -Ifusion_sdk/calvin_files/template/src -Ifusion_sdk/calvin_files/utils/src -Ifusion_sdk/calvin_files/writers/src -Ifusion_sdk/file -Ifusion_sdk/file/TsvFile -Ifusion_sdk/portability -Ifusion_sdk/util -Ifusion_sdk -D_USE_MEM_MAPPING_  -I/usr/local/include   -fpic  -g -O2  -Wall -Wno-sign-compare -O0 -c fusion_sdk/calvin_files/fusion/src/FusionCELData.cpp -o fusion_sdk/calvin_files/fusion/src/FusionCELData.o
g++ -std=gnu++11 -I"/home/biocbuild/bbs-3.12-bioc/R/include" -DNDEBUG -I. -Ifusion_sdk/calvin_files/array/src -Ifusion_sdk/calvin_files/data/src -Ifusion_sdk/calvin_files/exception/src -Ifusion_sdk/calvin_files/fusion/src -Ifusion_sdk/calvin_files/fusion/src/GCOSAdapter -Ifusion_sdk/calvin_files/fusion/src/CalvinAdapter -Ifusion_sdk/calvin_files/parameter/src -Ifusion_sdk/calvin_files/parsers/src -Ifusion_sdk/calvin_files/portability/src -Ifusion_sdk/calvin_files/template/src -Ifusion_sdk/calvin_files/utils/src -Ifusion_sdk/calvin_files/writers/src -Ifusion_sdk/file -Ifusion_sdk/file/TsvFile -Ifusion_sdk/portability -Ifusion_sdk/util -Ifusion_sdk -D_USE_MEM_MAPPING_  -I/usr/local/include   -fpic  -g -O2  -Wall -Wno-sign-compare -O0 -c fusion_sdk/calvin_files/fusion/src/FusionCHPData.cpp -o fusion_sdk/calvin_files/fusion/src/FusionCHPData.o
g++ -std=gnu++11 -I"/home/biocbuild/bbs-3.12-bioc/R/include" -DNDEBUG -I. -Ifusion_sdk/calvin_files/array/src -Ifusion_sdk/calvin_files/data/src -Ifusion_sdk/calvin_files/exception/src -Ifusion_sdk/calvin_files/fusion/src -Ifusion_sdk/calvin_files/fusion/src/GCOSAdapter -Ifusion_sdk/calvin_files/fusion/src/CalvinAdapter -Ifusion_sdk/calvin_files/parameter/src -Ifusion_sdk/calvin_files/parsers/src -Ifusion_sdk/calvin_files/portability/src -Ifusion_sdk/calvin_files/template/src -Ifusion_sdk/calvin_files/utils/src -Ifusion_sdk/calvin_files/writers/src -Ifusion_sdk/file -Ifusion_sdk/file/TsvFile -Ifusion_sdk/portability -Ifusion_sdk/util -Ifusion_sdk -D_USE_MEM_MAPPING_  -I/usr/local/include   -fpic  -g -O2  -Wall -Wno-sign-compare -O0 -c fusion_sdk/calvin_files/fusion/src/FusionProbeSetResults.cpp -o fusion_sdk/calvin_files/fusion/src/FusionProbeSetResults.o
g++ -std=gnu++11 -I"/home/biocbuild/bbs-3.12-bioc/R/include" -DNDEBUG -I. -Ifusion_sdk/calvin_files/array/src -Ifusion_sdk/calvin_files/data/src -Ifusion_sdk/calvin_files/exception/src -Ifusion_sdk/calvin_files/fusion/src -Ifusion_sdk/calvin_files/fusion/src/GCOSAdapter -Ifusion_sdk/calvin_files/fusion/src/CalvinAdapter -Ifusion_sdk/calvin_files/parameter/src -Ifusion_sdk/calvin_files/parsers/src -Ifusion_sdk/calvin_files/portability/src -Ifusion_sdk/calvin_files/template/src -Ifusion_sdk/calvin_files/utils/src -Ifusion_sdk/calvin_files/writers/src -Ifusion_sdk/file -Ifusion_sdk/file/TsvFile -Ifusion_sdk/portability -Ifusion_sdk/util -Ifusion_sdk -D_USE_MEM_MAPPING_  -I/usr/local/include   -fpic  -g -O2  -Wall -Wno-sign-compare -O0 -c fusion_sdk/calvin_files/fusion/src/GCOSAdapter/GCOSCELDataAdapter.cpp -o fusion_sdk/calvin_files/fusion/src/GCOSAdapter/GCOSCELDataAdapter.o
g++ -std=gnu++11 -I"/home/biocbuild/bbs-3.12-bioc/R/include" -DNDEBUG -I. -Ifusion_sdk/calvin_files/array/src -Ifusion_sdk/calvin_files/data/src -Ifusion_sdk/calvin_files/exception/src -Ifusion_sdk/calvin_files/fusion/src -Ifusion_sdk/calvin_files/fusion/src/GCOSAdapter -Ifusion_sdk/calvin_files/fusion/src/CalvinAdapter -Ifusion_sdk/calvin_files/parameter/src -Ifusion_sdk/calvin_files/parsers/src -Ifusion_sdk/calvin_files/portability/src -Ifusion_sdk/calvin_files/template/src -Ifusion_sdk/calvin_files/utils/src -Ifusion_sdk/calvin_files/writers/src -Ifusion_sdk/file -Ifusion_sdk/file/TsvFile -Ifusion_sdk/portability -Ifusion_sdk/util -Ifusion_sdk -D_USE_MEM_MAPPING_  -I/usr/local/include   -fpic  -g -O2  -Wall -Wno-sign-compare -O0 -c fusion_sdk/calvin_files/fusion/src/GCOSAdapter/GCOSCHPDataAdapter.cpp -o fusion_sdk/calvin_files/fusion/src/GCOSAdapter/GCOSCHPDataAdapter.o
g++ -std=gnu++11 -I"/home/biocbuild/bbs-3.12-bioc/R/include" -DNDEBUG -I. -Ifusion_sdk/calvin_files/array/src -Ifusion_sdk/calvin_files/data/src -Ifusion_sdk/calvin_files/exception/src -Ifusion_sdk/calvin_files/fusion/src -Ifusion_sdk/calvin_files/fusion/src/GCOSAdapter -Ifusion_sdk/calvin_files/fusion/src/CalvinAdapter -Ifusion_sdk/calvin_files/parameter/src -Ifusion_sdk/calvin_files/parsers/src -Ifusion_sdk/calvin_files/portability/src -Ifusion_sdk/calvin_files/template/src -Ifusion_sdk/calvin_files/utils/src -Ifusion_sdk/calvin_files/writers/src -Ifusion_sdk/file -Ifusion_sdk/file/TsvFile -Ifusion_sdk/portability -Ifusion_sdk/util -Ifusion_sdk -D_USE_MEM_MAPPING_  -I/usr/local/include   -fpic  -g -O2  -Wall -Wno-sign-compare -O0 -c fusion_sdk/calvin_files/fusion/src/FusionCHPLegacyData.cpp -o fusion_sdk/calvin_files/fusion/src/FusionCHPLegacyData.o
g++ -std=gnu++11 -I"/home/biocbuild/bbs-3.12-bioc/R/include" -DNDEBUG -I. -Ifusion_sdk/calvin_files/array/src -Ifusion_sdk/calvin_files/data/src -Ifusion_sdk/calvin_files/exception/src -Ifusion_sdk/calvin_files/fusion/src -Ifusion_sdk/calvin_files/fusion/src/GCOSAdapter -Ifusion_sdk/calvin_files/fusion/src/CalvinAdapter -Ifusion_sdk/calvin_files/parameter/src -Ifusion_sdk/calvin_files/parsers/src -Ifusion_sdk/calvin_files/portability/src -Ifusion_sdk/calvin_files/template/src -Ifusion_sdk/calvin_files/utils/src -Ifusion_sdk/calvin_files/writers/src -Ifusion_sdk/file -Ifusion_sdk/file/TsvFile -Ifusion_sdk/portability -Ifusion_sdk/util -Ifusion_sdk -D_USE_MEM_MAPPING_  -I/usr/local/include   -fpic  -g -O2  -Wall -Wno-sign-compare -O0 -c fusion_sdk/calvin_files/fusion/src/FusionCHPMultiDataAccessor.cpp -o fusion_sdk/calvin_files/fusion/src/FusionCHPMultiDataAccessor.o
g++ -std=gnu++11 -I"/home/biocbuild/bbs-3.12-bioc/R/include" -DNDEBUG -I. -Ifusion_sdk/calvin_files/array/src -Ifusion_sdk/calvin_files/data/src -Ifusion_sdk/calvin_files/exception/src -Ifusion_sdk/calvin_files/fusion/src -Ifusion_sdk/calvin_files/fusion/src/GCOSAdapter -Ifusion_sdk/calvin_files/fusion/src/CalvinAdapter -Ifusion_sdk/calvin_files/parameter/src -Ifusion_sdk/calvin_files/parsers/src -Ifusion_sdk/calvin_files/portability/src -Ifusion_sdk/calvin_files/template/src -Ifusion_sdk/calvin_files/utils/src -Ifusion_sdk/calvin_files/writers/src -Ifusion_sdk/file -Ifusion_sdk/file/TsvFile -Ifusion_sdk/portability -Ifusion_sdk/util -Ifusion_sdk -D_USE_MEM_MAPPING_  -I/usr/local/include   -fpic  -g -O2  -Wall -Wno-sign-compare -O0 -c fusion_sdk/calvin_files/fusion/src/FusionCHPMultiDataData.cpp -o fusion_sdk/calvin_files/fusion/src/FusionCHPMultiDataData.o
g++ -std=gnu++11 -I"/home/biocbuild/bbs-3.12-bioc/R/include" -DNDEBUG -I. -Ifusion_sdk/calvin_files/array/src -Ifusion_sdk/calvin_files/data/src -Ifusion_sdk/calvin_files/exception/src -Ifusion_sdk/calvin_files/fusion/src -Ifusion_sdk/calvin_files/fusion/src/GCOSAdapter -Ifusion_sdk/calvin_files/fusion/src/CalvinAdapter -Ifusion_sdk/calvin_files/parameter/src -Ifusion_sdk/calvin_files/parsers/src -Ifusion_sdk/calvin_files/portability/src -Ifusion_sdk/calvin_files/template/src -Ifusion_sdk/calvin_files/utils/src -Ifusion_sdk/calvin_files/writers/src -Ifusion_sdk/file -Ifusion_sdk/file/TsvFile -Ifusion_sdk/portability -Ifusion_sdk/util -Ifusion_sdk -D_USE_MEM_MAPPING_  -I/usr/local/include   -fpic  -g -O2  -Wall -Wno-sign-compare -O0 -c fusion_sdk/calvin_files/fusion/src/FusionCHPTilingData.cpp -o fusion_sdk/calvin_files/fusion/src/FusionCHPTilingData.o
g++ -std=gnu++11 -I"/home/biocbuild/bbs-3.12-bioc/R/include" -DNDEBUG -I. -Ifusion_sdk/calvin_files/array/src -Ifusion_sdk/calvin_files/data/src -Ifusion_sdk/calvin_files/exception/src -Ifusion_sdk/calvin_files/fusion/src -Ifusion_sdk/calvin_files/fusion/src/GCOSAdapter -Ifusion_sdk/calvin_files/fusion/src/CalvinAdapter -Ifusion_sdk/calvin_files/parameter/src -Ifusion_sdk/calvin_files/parsers/src -Ifusion_sdk/calvin_files/portability/src -Ifusion_sdk/calvin_files/template/src -Ifusion_sdk/calvin_files/utils/src -Ifusion_sdk/calvin_files/writers/src -Ifusion_sdk/file -Ifusion_sdk/file/TsvFile -Ifusion_sdk/portability -Ifusion_sdk/util -Ifusion_sdk -D_USE_MEM_MAPPING_  -I/usr/local/include   -fpic  -g -O2  -Wall -Wno-sign-compare -O0 -c fusion_sdk/calvin_files/fusion/src/FusionCHPGenericData.cpp -o fusion_sdk/calvin_files/fusion/src/FusionCHPGenericData.o
g++ -std=gnu++11 -I"/home/biocbuild/bbs-3.12-bioc/R/include" -DNDEBUG -I. -Ifusion_sdk/calvin_files/array/src -Ifusion_sdk/calvin_files/data/src -Ifusion_sdk/calvin_files/exception/src -Ifusion_sdk/calvin_files/fusion/src -Ifusion_sdk/calvin_files/fusion/src/GCOSAdapter -Ifusion_sdk/calvin_files/fusion/src/CalvinAdapter -Ifusion_sdk/calvin_files/parameter/src -Ifusion_sdk/calvin_files/parsers/src -Ifusion_sdk/calvin_files/portability/src -Ifusion_sdk/calvin_files/template/src -Ifusion_sdk/calvin_files/utils/src -Ifusion_sdk/calvin_files/writers/src -Ifusion_sdk/file -Ifusion_sdk/file/TsvFile -Ifusion_sdk/portability -Ifusion_sdk/util -Ifusion_sdk -D_USE_MEM_MAPPING_  -I/usr/local/include   -fpic  -g -O2  -Wall -Wno-sign-compare -O0 -c fusion_sdk/calvin_files/fusion/src/FusionCHPQuantificationData.cpp -o fusion_sdk/calvin_files/fusion/src/FusionCHPQuantificationData.o
g++ -std=gnu++11 -I"/home/biocbuild/bbs-3.12-bioc/R/include" -DNDEBUG -I. -Ifusion_sdk/calvin_files/array/src -Ifusion_sdk/calvin_files/data/src -Ifusion_sdk/calvin_files/exception/src -Ifusion_sdk/calvin_files/fusion/src -Ifusion_sdk/calvin_files/fusion/src/GCOSAdapter -Ifusion_sdk/calvin_files/fusion/src/CalvinAdapter -Ifusion_sdk/calvin_files/parameter/src -Ifusion_sdk/calvin_files/parsers/src -Ifusion_sdk/calvin_files/portability/src -Ifusion_sdk/calvin_files/template/src -Ifusion_sdk/calvin_files/utils/src -Ifusion_sdk/calvin_files/writers/src -Ifusion_sdk/file -Ifusion_sdk/file/TsvFile -Ifusion_sdk/portability -Ifusion_sdk/util -Ifusion_sdk -D_USE_MEM_MAPPING_  -I/usr/local/include   -fpic  -g -O2  -Wall -Wno-sign-compare -O0 -c fusion_sdk/calvin_files/fusion/src/FusionCHPQuantificationDetectionData.cpp -o fusion_sdk/calvin_files/fusion/src/FusionCHPQuantificationDetectionData.o
g++ -std=gnu++11 -I"/home/biocbuild/bbs-3.12-bioc/R/include" -DNDEBUG -I. -Ifusion_sdk/calvin_files/array/src -Ifusion_sdk/calvin_files/data/src -Ifusion_sdk/calvin_files/exception/src -Ifusion_sdk/calvin_files/fusion/src -Ifusion_sdk/calvin_files/fusion/src/GCOSAdapter -Ifusion_sdk/calvin_files/fusion/src/CalvinAdapter -Ifusion_sdk/calvin_files/parameter/src -Ifusion_sdk/calvin_files/parsers/src -Ifusion_sdk/calvin_files/portability/src -Ifusion_sdk/calvin_files/template/src -Ifusion_sdk/calvin_files/utils/src -Ifusion_sdk/calvin_files/writers/src -Ifusion_sdk/file -Ifusion_sdk/file/TsvFile -Ifusion_sdk/portability -Ifusion_sdk/util -Ifusion_sdk -D_USE_MEM_MAPPING_  -I/usr/local/include   -fpic  -g -O2  -Wall -Wno-sign-compare -O0 -c fusion_sdk/calvin_files/parameter/src/ParameterNameValueType.cpp -o fusion_sdk/calvin_files/parameter/src/ParameterNameValueType.o
g++ -std=gnu++11 -I"/home/biocbuild/bbs-3.12-bioc/R/include" -DNDEBUG -I. -Ifusion_sdk/calvin_files/array/src -Ifusion_sdk/calvin_files/data/src -Ifusion_sdk/calvin_files/exception/src -Ifusion_sdk/calvin_files/fusion/src -Ifusion_sdk/calvin_files/fusion/src/GCOSAdapter -Ifusion_sdk/calvin_files/fusion/src/CalvinAdapter -Ifusion_sdk/calvin_files/parameter/src -Ifusion_sdk/calvin_files/parsers/src -Ifusion_sdk/calvin_files/portability/src -Ifusion_sdk/calvin_files/template/src -Ifusion_sdk/calvin_files/utils/src -Ifusion_sdk/calvin_files/writers/src -Ifusion_sdk/file -Ifusion_sdk/file/TsvFile -Ifusion_sdk/portability -Ifusion_sdk/util -Ifusion_sdk -D_USE_MEM_MAPPING_  -I/usr/local/include   -fpic  -g -O2  -Wall -Wno-sign-compare -O0 -c fusion_sdk/calvin_files/parsers/src/CDFFileReader.cpp -o fusion_sdk/calvin_files/parsers/src/CDFFileReader.o
g++ -std=gnu++11 -I"/home/biocbuild/bbs-3.12-bioc/R/include" -DNDEBUG -I. -Ifusion_sdk/calvin_files/array/src -Ifusion_sdk/calvin_files/data/src -Ifusion_sdk/calvin_files/exception/src -Ifusion_sdk/calvin_files/fusion/src -Ifusion_sdk/calvin_files/fusion/src/GCOSAdapter -Ifusion_sdk/calvin_files/fusion/src/CalvinAdapter -Ifusion_sdk/calvin_files/parameter/src -Ifusion_sdk/calvin_files/parsers/src -Ifusion_sdk/calvin_files/portability/src -Ifusion_sdk/calvin_files/template/src -Ifusion_sdk/calvin_files/utils/src -Ifusion_sdk/calvin_files/writers/src -Ifusion_sdk/file -Ifusion_sdk/file/TsvFile -Ifusion_sdk/portability -Ifusion_sdk/util -Ifusion_sdk -D_USE_MEM_MAPPING_  -I/usr/local/include   -fpic  -g -O2  -Wall -Wno-sign-compare -O0 -c fusion_sdk/calvin_files/parsers/src/CelFileReader.cpp -o fusion_sdk/calvin_files/parsers/src/CelFileReader.o
g++ -std=gnu++11 -I"/home/biocbuild/bbs-3.12-bioc/R/include" -DNDEBUG -I. -Ifusion_sdk/calvin_files/array/src -Ifusion_sdk/calvin_files/data/src -Ifusion_sdk/calvin_files/exception/src -Ifusion_sdk/calvin_files/fusion/src -Ifusion_sdk/calvin_files/fusion/src/GCOSAdapter -Ifusion_sdk/calvin_files/fusion/src/CalvinAdapter -Ifusion_sdk/calvin_files/parameter/src -Ifusion_sdk/calvin_files/parsers/src -Ifusion_sdk/calvin_files/portability/src -Ifusion_sdk/calvin_files/template/src -Ifusion_sdk/calvin_files/utils/src -Ifusion_sdk/calvin_files/writers/src -Ifusion_sdk/file -Ifusion_sdk/file/TsvFile -Ifusion_sdk/portability -Ifusion_sdk/util -Ifusion_sdk -D_USE_MEM_MAPPING_  -I/usr/local/include   -fpic  -g -O2  -Wall -Wno-sign-compare -O0 -c fusion_sdk/calvin_files/parsers/src/CHPFileReader.cpp -o fusion_sdk/calvin_files/parsers/src/CHPFileReader.o
g++ -std=gnu++11 -I"/home/biocbuild/bbs-3.12-bioc/R/include" -DNDEBUG -I. -Ifusion_sdk/calvin_files/array/src -Ifusion_sdk/calvin_files/data/src -Ifusion_sdk/calvin_files/exception/src -Ifusion_sdk/calvin_files/fusion/src -Ifusion_sdk/calvin_files/fusion/src/GCOSAdapter -Ifusion_sdk/calvin_files/fusion/src/CalvinAdapter -Ifusion_sdk/calvin_files/parameter/src -Ifusion_sdk/calvin_files/parsers/src -Ifusion_sdk/calvin_files/portability/src -Ifusion_sdk/calvin_files/template/src -Ifusion_sdk/calvin_files/utils/src -Ifusion_sdk/calvin_files/writers/src -Ifusion_sdk/file -Ifusion_sdk/file/TsvFile -Ifusion_sdk/portability -Ifusion_sdk/util -Ifusion_sdk -D_USE_MEM_MAPPING_  -I/usr/local/include   -fpic  -g -O2  -Wall -Wno-sign-compare -O0 -c fusion_sdk/calvin_files/parsers/src/CHPMultiDataFileReader.cpp -o fusion_sdk/calvin_files/parsers/src/CHPMultiDataFileReader.o
g++ -std=gnu++11 -I"/home/biocbuild/bbs-3.12-bioc/R/include" -DNDEBUG -I. -Ifusion_sdk/calvin_files/array/src -Ifusion_sdk/calvin_files/data/src -Ifusion_sdk/calvin_files/exception/src -Ifusion_sdk/calvin_files/fusion/src -Ifusion_sdk/calvin_files/fusion/src/GCOSAdapter -Ifusion_sdk/calvin_files/fusion/src/CalvinAdapter -Ifusion_sdk/calvin_files/parameter/src -Ifusion_sdk/calvin_files/parsers/src -Ifusion_sdk/calvin_files/portability/src -Ifusion_sdk/calvin_files/template/src -Ifusion_sdk/calvin_files/utils/src -Ifusion_sdk/calvin_files/writers/src -Ifusion_sdk/file -Ifusion_sdk/file/TsvFile -Ifusion_sdk/portability -Ifusion_sdk/util -Ifusion_sdk -D_USE_MEM_MAPPING_  -I/usr/local/include   -fpic  -g -O2  -Wall -Wno-sign-compare -O0 -c fusion_sdk/calvin_files/parsers/src/CHPTilingFileReader.cpp -o fusion_sdk/calvin_files/parsers/src/CHPTilingFileReader.o
g++ -std=gnu++11 -I"/home/biocbuild/bbs-3.12-bioc/R/include" -DNDEBUG -I. -Ifusion_sdk/calvin_files/array/src -Ifusion_sdk/calvin_files/data/src -Ifusion_sdk/calvin_files/exception/src -Ifusion_sdk/calvin_files/fusion/src -Ifusion_sdk/calvin_files/fusion/src/GCOSAdapter -Ifusion_sdk/calvin_files/fusion/src/CalvinAdapter -Ifusion_sdk/calvin_files/parameter/src -Ifusion_sdk/calvin_files/parsers/src -Ifusion_sdk/calvin_files/portability/src -Ifusion_sdk/calvin_files/template/src -Ifusion_sdk/calvin_files/utils/src -Ifusion_sdk/calvin_files/writers/src -Ifusion_sdk/file -Ifusion_sdk/file/TsvFile -Ifusion_sdk/portability -Ifusion_sdk/util -Ifusion_sdk -D_USE_MEM_MAPPING_  -I/usr/local/include   -fpic  -g -O2  -Wall -Wno-sign-compare -O0 -c fusion_sdk/calvin_files/parsers/src/CHPQuantificationFileReader.cpp -o fusion_sdk/calvin_files/parsers/src/CHPQuantificationFileReader.o
g++ -std=gnu++11 -I"/home/biocbuild/bbs-3.12-bioc/R/include" -DNDEBUG -I. -Ifusion_sdk/calvin_files/array/src -Ifusion_sdk/calvin_files/data/src -Ifusion_sdk/calvin_files/exception/src -Ifusion_sdk/calvin_files/fusion/src -Ifusion_sdk/calvin_files/fusion/src/GCOSAdapter -Ifusion_sdk/calvin_files/fusion/src/CalvinAdapter -Ifusion_sdk/calvin_files/parameter/src -Ifusion_sdk/calvin_files/parsers/src -Ifusion_sdk/calvin_files/portability/src -Ifusion_sdk/calvin_files/template/src -Ifusion_sdk/calvin_files/utils/src -Ifusion_sdk/calvin_files/writers/src -Ifusion_sdk/file -Ifusion_sdk/file/TsvFile -Ifusion_sdk/portability -Ifusion_sdk/util -Ifusion_sdk -D_USE_MEM_MAPPING_  -I/usr/local/include   -fpic  -g -O2  -Wall -Wno-sign-compare -O0 -c fusion_sdk/calvin_files/parsers/src/CHPQuantificationDetectionFileReader.cpp -o fusion_sdk/calvin_files/parsers/src/CHPQuantificationDetectionFileReader.o
g++ -std=gnu++11 -I"/home/biocbuild/bbs-3.12-bioc/R/include" -DNDEBUG -I. -Ifusion_sdk/calvin_files/array/src -Ifusion_sdk/calvin_files/data/src -Ifusion_sdk/calvin_files/exception/src -Ifusion_sdk/calvin_files/fusion/src -Ifusion_sdk/calvin_files/fusion/src/GCOSAdapter -Ifusion_sdk/calvin_files/fusion/src/CalvinAdapter -Ifusion_sdk/calvin_files/parameter/src -Ifusion_sdk/calvin_files/parsers/src -Ifusion_sdk/calvin_files/portability/src -Ifusion_sdk/calvin_files/template/src -Ifusion_sdk/calvin_files/utils/src -Ifusion_sdk/calvin_files/writers/src -Ifusion_sdk/file -Ifusion_sdk/file/TsvFile -Ifusion_sdk/portability -Ifusion_sdk/util -Ifusion_sdk -D_USE_MEM_MAPPING_  -I/usr/local/include   -fpic  -g -O2  -Wall -Wno-sign-compare -O0 -c fusion_sdk/calvin_files/parsers/src/DataGroupHeaderReader.cpp -o fusion_sdk/calvin_files/parsers/src/DataGroupHeaderReader.o
g++ -std=gnu++11 -I"/home/biocbuild/bbs-3.12-bioc/R/include" -DNDEBUG -I. -Ifusion_sdk/calvin_files/array/src -Ifusion_sdk/calvin_files/data/src -Ifusion_sdk/calvin_files/exception/src -Ifusion_sdk/calvin_files/fusion/src -Ifusion_sdk/calvin_files/fusion/src/GCOSAdapter -Ifusion_sdk/calvin_files/fusion/src/CalvinAdapter -Ifusion_sdk/calvin_files/parameter/src -Ifusion_sdk/calvin_files/parsers/src -Ifusion_sdk/calvin_files/portability/src -Ifusion_sdk/calvin_files/template/src -Ifusion_sdk/calvin_files/utils/src -Ifusion_sdk/calvin_files/writers/src -Ifusion_sdk/file -Ifusion_sdk/file/TsvFile -Ifusion_sdk/portability -Ifusion_sdk/util -Ifusion_sdk -D_USE_MEM_MAPPING_  -I/usr/local/include   -fpic  -g -O2  -Wall -Wno-sign-compare -O0 -c fusion_sdk/calvin_files/parsers/src/DataGroupReader.cpp -o fusion_sdk/calvin_files/parsers/src/DataGroupReader.o
g++ -std=gnu++11 -I"/home/biocbuild/bbs-3.12-bioc/R/include" -DNDEBUG -I. -Ifusion_sdk/calvin_files/array/src -Ifusion_sdk/calvin_files/data/src -Ifusion_sdk/calvin_files/exception/src -Ifusion_sdk/calvin_files/fusion/src -Ifusion_sdk/calvin_files/fusion/src/GCOSAdapter -Ifusion_sdk/calvin_files/fusion/src/CalvinAdapter -Ifusion_sdk/calvin_files/parameter/src -Ifusion_sdk/calvin_files/parsers/src -Ifusion_sdk/calvin_files/portability/src -Ifusion_sdk/calvin_files/template/src -Ifusion_sdk/calvin_files/utils/src -Ifusion_sdk/calvin_files/writers/src -Ifusion_sdk/file -Ifusion_sdk/file/TsvFile -Ifusion_sdk/portability -Ifusion_sdk/util -Ifusion_sdk -D_USE_MEM_MAPPING_  -I/usr/local/include   -fpic  -g -O2  -Wall -Wno-sign-compare -O0 -c fusion_sdk/calvin_files/parsers/src/DataSetHeaderReader.cpp -o fusion_sdk/calvin_files/parsers/src/DataSetHeaderReader.o
g++ -std=gnu++11 -I"/home/biocbuild/bbs-3.12-bioc/R/include" -DNDEBUG -I. -Ifusion_sdk/calvin_files/array/src -Ifusion_sdk/calvin_files/data/src -Ifusion_sdk/calvin_files/exception/src -Ifusion_sdk/calvin_files/fusion/src -Ifusion_sdk/calvin_files/fusion/src/GCOSAdapter -Ifusion_sdk/calvin_files/fusion/src/CalvinAdapter -Ifusion_sdk/calvin_files/parameter/src -Ifusion_sdk/calvin_files/parsers/src -Ifusion_sdk/calvin_files/portability/src -Ifusion_sdk/calvin_files/template/src -Ifusion_sdk/calvin_files/utils/src -Ifusion_sdk/calvin_files/writers/src -Ifusion_sdk/file -Ifusion_sdk/file/TsvFile -Ifusion_sdk/portability -Ifusion_sdk/util -Ifusion_sdk -D_USE_MEM_MAPPING_  -I/usr/local/include   -fpic  -g -O2  -Wall -Wno-sign-compare -O0 -c fusion_sdk/calvin_files/parsers/src/DataSetReader.cpp -o fusion_sdk/calvin_files/parsers/src/DataSetReader.o
g++ -std=gnu++11 -I"/home/biocbuild/bbs-3.12-bioc/R/include" -DNDEBUG -I. -Ifusion_sdk/calvin_files/array/src -Ifusion_sdk/calvin_files/data/src -Ifusion_sdk/calvin_files/exception/src -Ifusion_sdk/calvin_files/fusion/src -Ifusion_sdk/calvin_files/fusion/src/GCOSAdapter -Ifusion_sdk/calvin_files/fusion/src/CalvinAdapter -Ifusion_sdk/calvin_files/parameter/src -Ifusion_sdk/calvin_files/parsers/src -Ifusion_sdk/calvin_files/portability/src -Ifusion_sdk/calvin_files/template/src -Ifusion_sdk/calvin_files/utils/src -Ifusion_sdk/calvin_files/writers/src -Ifusion_sdk/file -Ifusion_sdk/file/TsvFile -Ifusion_sdk/portability -Ifusion_sdk/util -Ifusion_sdk -D_USE_MEM_MAPPING_  -I/usr/local/include   -fpic  -g -O2  -Wall -Wno-sign-compare -O0 -c fusion_sdk/calvin_files/parsers/src/FileHeaderReader.cpp -o fusion_sdk/calvin_files/parsers/src/FileHeaderReader.o
g++ -std=gnu++11 -I"/home/biocbuild/bbs-3.12-bioc/R/include" -DNDEBUG -I. -Ifusion_sdk/calvin_files/array/src -Ifusion_sdk/calvin_files/data/src -Ifusion_sdk/calvin_files/exception/src -Ifusion_sdk/calvin_files/fusion/src -Ifusion_sdk/calvin_files/fusion/src/GCOSAdapter -Ifusion_sdk/calvin_files/fusion/src/CalvinAdapter -Ifusion_sdk/calvin_files/parameter/src -Ifusion_sdk/calvin_files/parsers/src -Ifusion_sdk/calvin_files/portability/src -Ifusion_sdk/calvin_files/template/src -Ifusion_sdk/calvin_files/utils/src -Ifusion_sdk/calvin_files/writers/src -Ifusion_sdk/file -Ifusion_sdk/file/TsvFile -Ifusion_sdk/portability -Ifusion_sdk/util -Ifusion_sdk -D_USE_MEM_MAPPING_  -I/usr/local/include   -fpic  -g -O2  -Wall -Wno-sign-compare -O0 -c fusion_sdk/calvin_files/parsers/src/FileInput.cpp -o fusion_sdk/calvin_files/parsers/src/FileInput.o
g++ -std=gnu++11 -I"/home/biocbuild/bbs-3.12-bioc/R/include" -DNDEBUG -I. -Ifusion_sdk/calvin_files/array/src -Ifusion_sdk/calvin_files/data/src -Ifusion_sdk/calvin_files/exception/src -Ifusion_sdk/calvin_files/fusion/src -Ifusion_sdk/calvin_files/fusion/src/GCOSAdapter -Ifusion_sdk/calvin_files/fusion/src/CalvinAdapter -Ifusion_sdk/calvin_files/parameter/src -Ifusion_sdk/calvin_files/parsers/src -Ifusion_sdk/calvin_files/portability/src -Ifusion_sdk/calvin_files/template/src -Ifusion_sdk/calvin_files/utils/src -Ifusion_sdk/calvin_files/writers/src -Ifusion_sdk/file -Ifusion_sdk/file/TsvFile -Ifusion_sdk/portability -Ifusion_sdk/util -Ifusion_sdk -D_USE_MEM_MAPPING_  -I/usr/local/include   -fpic  -g -O2  -Wall -Wno-sign-compare -O0 -c fusion_sdk/calvin_files/parsers/src/GenericDataHeaderReader.cpp -o fusion_sdk/calvin_files/parsers/src/GenericDataHeaderReader.o
g++ -std=gnu++11 -I"/home/biocbuild/bbs-3.12-bioc/R/include" -DNDEBUG -I. -Ifusion_sdk/calvin_files/array/src -Ifusion_sdk/calvin_files/data/src -Ifusion_sdk/calvin_files/exception/src -Ifusion_sdk/calvin_files/fusion/src -Ifusion_sdk/calvin_files/fusion/src/GCOSAdapter -Ifusion_sdk/calvin_files/fusion/src/CalvinAdapter -Ifusion_sdk/calvin_files/parameter/src -Ifusion_sdk/calvin_files/parsers/src -Ifusion_sdk/calvin_files/portability/src -Ifusion_sdk/calvin_files/template/src -Ifusion_sdk/calvin_files/utils/src -Ifusion_sdk/calvin_files/writers/src -Ifusion_sdk/file -Ifusion_sdk/file/TsvFile -Ifusion_sdk/portability -Ifusion_sdk/util -Ifusion_sdk -D_USE_MEM_MAPPING_  -I/usr/local/include   -fpic  -g -O2  -Wall -Wno-sign-compare -O0 -c fusion_sdk/calvin_files/parsers/src/GenericFileReader.cpp -o fusion_sdk/calvin_files/parsers/src/GenericFileReader.o
g++ -std=gnu++11 -I"/home/biocbuild/bbs-3.12-bioc/R/include" -DNDEBUG -I. -Ifusion_sdk/calvin_files/array/src -Ifusion_sdk/calvin_files/data/src -Ifusion_sdk/calvin_files/exception/src -Ifusion_sdk/calvin_files/fusion/src -Ifusion_sdk/calvin_files/fusion/src/GCOSAdapter -Ifusion_sdk/calvin_files/fusion/src/CalvinAdapter -Ifusion_sdk/calvin_files/parameter/src -Ifusion_sdk/calvin_files/parsers/src -Ifusion_sdk/calvin_files/portability/src -Ifusion_sdk/calvin_files/template/src -Ifusion_sdk/calvin_files/utils/src -Ifusion_sdk/calvin_files/writers/src -Ifusion_sdk/file -Ifusion_sdk/file/TsvFile -Ifusion_sdk/portability -Ifusion_sdk/util -Ifusion_sdk -D_USE_MEM_MAPPING_  -I/usr/local/include   -fpic  -g -O2  -Wall -Wno-sign-compare -O0 -c fusion_sdk/calvin_files/utils/src/AffymetrixGuid.cpp -o fusion_sdk/calvin_files/utils/src/AffymetrixGuid.o
g++ -std=gnu++11 -I"/home/biocbuild/bbs-3.12-bioc/R/include" -DNDEBUG -I. -Ifusion_sdk/calvin_files/array/src -Ifusion_sdk/calvin_files/data/src -Ifusion_sdk/calvin_files/exception/src -Ifusion_sdk/calvin_files/fusion/src -Ifusion_sdk/calvin_files/fusion/src/GCOSAdapter -Ifusion_sdk/calvin_files/fusion/src/CalvinAdapter -Ifusion_sdk/calvin_files/parameter/src -Ifusion_sdk/calvin_files/parsers/src -Ifusion_sdk/calvin_files/portability/src -Ifusion_sdk/calvin_files/template/src -Ifusion_sdk/calvin_files/utils/src -Ifusion_sdk/calvin_files/writers/src -Ifusion_sdk/file -Ifusion_sdk/file/TsvFile -Ifusion_sdk/portability -Ifusion_sdk/util -Ifusion_sdk -D_USE_MEM_MAPPING_  -I/usr/local/include   -fpic  -g -O2  -Wall -Wno-sign-compare -O0 -c fusion_sdk/calvin_files/utils/src/DateTime.cpp -o fusion_sdk/calvin_files/utils/src/DateTime.o
g++ -std=gnu++11 -I"/home/biocbuild/bbs-3.12-bioc/R/include" -DNDEBUG -I. -Ifusion_sdk/calvin_files/array/src -Ifusion_sdk/calvin_files/data/src -Ifusion_sdk/calvin_files/exception/src -Ifusion_sdk/calvin_files/fusion/src -Ifusion_sdk/calvin_files/fusion/src/GCOSAdapter -Ifusion_sdk/calvin_files/fusion/src/CalvinAdapter -Ifusion_sdk/calvin_files/parameter/src -Ifusion_sdk/calvin_files/parsers/src -Ifusion_sdk/calvin_files/portability/src -Ifusion_sdk/calvin_files/template/src -Ifusion_sdk/calvin_files/utils/src -Ifusion_sdk/calvin_files/writers/src -Ifusion_sdk/file -Ifusion_sdk/file/TsvFile -Ifusion_sdk/portability -Ifusion_sdk/util -Ifusion_sdk -D_USE_MEM_MAPPING_  -I/usr/local/include   -fpic  -g -O2  -Wall -Wno-sign-compare -O0 -c fusion_sdk/calvin_files/utils/src/FileUtils.cpp -o fusion_sdk/calvin_files/utils/src/FileUtils.o
g++ -std=gnu++11 -I"/home/biocbuild/bbs-3.12-bioc/R/include" -DNDEBUG -I. -Ifusion_sdk/calvin_files/array/src -Ifusion_sdk/calvin_files/data/src -Ifusion_sdk/calvin_files/exception/src -Ifusion_sdk/calvin_files/fusion/src -Ifusion_sdk/calvin_files/fusion/src/GCOSAdapter -Ifusion_sdk/calvin_files/fusion/src/CalvinAdapter -Ifusion_sdk/calvin_files/parameter/src -Ifusion_sdk/calvin_files/parsers/src -Ifusion_sdk/calvin_files/portability/src -Ifusion_sdk/calvin_files/template/src -Ifusion_sdk/calvin_files/utils/src -Ifusion_sdk/calvin_files/writers/src -Ifusion_sdk/file -Ifusion_sdk/file/TsvFile -Ifusion_sdk/portability -Ifusion_sdk/util -Ifusion_sdk -D_USE_MEM_MAPPING_  -I/usr/local/include   -fpic  -g -O2  -Wall -Wno-sign-compare -O0 -c fusion_sdk/calvin_files/utils/src/StringUtils.cpp -o fusion_sdk/calvin_files/utils/src/StringUtils.o
g++ -std=gnu++11 -I"/home/biocbuild/bbs-3.12-bioc/R/include" -DNDEBUG -I. -Ifusion_sdk/calvin_files/array/src -Ifusion_sdk/calvin_files/data/src -Ifusion_sdk/calvin_files/exception/src -Ifusion_sdk/calvin_files/fusion/src -Ifusion_sdk/calvin_files/fusion/src/GCOSAdapter -Ifusion_sdk/calvin_files/fusion/src/CalvinAdapter -Ifusion_sdk/calvin_files/parameter/src -Ifusion_sdk/calvin_files/parsers/src -Ifusion_sdk/calvin_files/portability/src -Ifusion_sdk/calvin_files/template/src -Ifusion_sdk/calvin_files/utils/src -Ifusion_sdk/calvin_files/writers/src -Ifusion_sdk/file -Ifusion_sdk/file/TsvFile -Ifusion_sdk/portability -Ifusion_sdk/util -Ifusion_sdk -D_USE_MEM_MAPPING_  -I/usr/local/include   -fpic  -g -O2  -Wall -Wno-sign-compare -O0 -c fusion_sdk/calvin_files/utils/src/checksum.cpp -o fusion_sdk/calvin_files/utils/src/checksum.o
g++ -std=gnu++11 -I"/home/biocbuild/bbs-3.12-bioc/R/include" -DNDEBUG -I. -Ifusion_sdk/calvin_files/array/src -Ifusion_sdk/calvin_files/data/src -Ifusion_sdk/calvin_files/exception/src -Ifusion_sdk/calvin_files/fusion/src -Ifusion_sdk/calvin_files/fusion/src/GCOSAdapter -Ifusion_sdk/calvin_files/fusion/src/CalvinAdapter -Ifusion_sdk/calvin_files/parameter/src -Ifusion_sdk/calvin_files/parsers/src -Ifusion_sdk/calvin_files/portability/src -Ifusion_sdk/calvin_files/template/src -Ifusion_sdk/calvin_files/utils/src -Ifusion_sdk/calvin_files/writers/src -Ifusion_sdk/file -Ifusion_sdk/file/TsvFile -Ifusion_sdk/portability -Ifusion_sdk/util -Ifusion_sdk -D_USE_MEM_MAPPING_  -I/usr/local/include   -fpic  -g -O2  -Wall -Wno-sign-compare -O0 -c fusion_sdk/file/BPMAPFileData.cpp -o fusion_sdk/file/BPMAPFileData.o
g++ -std=gnu++11 -I"/home/biocbuild/bbs-3.12-bioc/R/include" -DNDEBUG -I. -Ifusion_sdk/calvin_files/array/src -Ifusion_sdk/calvin_files/data/src -Ifusion_sdk/calvin_files/exception/src -Ifusion_sdk/calvin_files/fusion/src -Ifusion_sdk/calvin_files/fusion/src/GCOSAdapter -Ifusion_sdk/calvin_files/fusion/src/CalvinAdapter -Ifusion_sdk/calvin_files/parameter/src -Ifusion_sdk/calvin_files/parsers/src -Ifusion_sdk/calvin_files/portability/src -Ifusion_sdk/calvin_files/template/src -Ifusion_sdk/calvin_files/utils/src -Ifusion_sdk/calvin_files/writers/src -Ifusion_sdk/file -Ifusion_sdk/file/TsvFile -Ifusion_sdk/portability -Ifusion_sdk/util -Ifusion_sdk -D_USE_MEM_MAPPING_  -I/usr/local/include   -fpic  -g -O2  -Wall -Wno-sign-compare -O0 -c fusion_sdk/file/BPMAPFileWriter.cpp -o fusion_sdk/file/BPMAPFileWriter.o
g++ -std=gnu++11 -I"/home/biocbuild/bbs-3.12-bioc/R/include" -DNDEBUG -I. -Ifusion_sdk/calvin_files/array/src -Ifusion_sdk/calvin_files/data/src -Ifusion_sdk/calvin_files/exception/src -Ifusion_sdk/calvin_files/fusion/src -Ifusion_sdk/calvin_files/fusion/src/GCOSAdapter -Ifusion_sdk/calvin_files/fusion/src/CalvinAdapter -Ifusion_sdk/calvin_files/parameter/src -Ifusion_sdk/calvin_files/parsers/src -Ifusion_sdk/calvin_files/portability/src -Ifusion_sdk/calvin_files/template/src -Ifusion_sdk/calvin_files/utils/src -Ifusion_sdk/calvin_files/writers/src -Ifusion_sdk/file -Ifusion_sdk/file/TsvFile -Ifusion_sdk/portability -Ifusion_sdk/util -Ifusion_sdk -D_USE_MEM_MAPPING_  -I/usr/local/include   -fpic  -g -O2  -Wall -Wno-sign-compare -O0 -c fusion_sdk/file/CDFFileData.cpp -o fusion_sdk/file/CDFFileData.o
fusion_sdk/file/CDFFileData.cpp: In member function ‘bool affxcdf::CCDFFileData::ReadTextFormat()’:
fusion_sdk/file/CDFFileData.cpp:858:10: warning: this ‘if’ clause does not guard... [-Wmisleading-indentation]
  858 |     else if ( strncmp( subStr, CDFVERSION6, strlen(CDFVERSION6)) == 0)
      |          ^~
fusion_sdk/file/CDFFileData.cpp:861:2: note: ...this statement, but the latter is misleadingly indented as if it were guarded by the ‘if’
  861 |  if (m_Header.m_Version >= 6)
      |  ^~
g++ -std=gnu++11 -I"/home/biocbuild/bbs-3.12-bioc/R/include" -DNDEBUG -I. -Ifusion_sdk/calvin_files/array/src -Ifusion_sdk/calvin_files/data/src -Ifusion_sdk/calvin_files/exception/src -Ifusion_sdk/calvin_files/fusion/src -Ifusion_sdk/calvin_files/fusion/src/GCOSAdapter -Ifusion_sdk/calvin_files/fusion/src/CalvinAdapter -Ifusion_sdk/calvin_files/parameter/src -Ifusion_sdk/calvin_files/parsers/src -Ifusion_sdk/calvin_files/portability/src -Ifusion_sdk/calvin_files/template/src -Ifusion_sdk/calvin_files/utils/src -Ifusion_sdk/calvin_files/writers/src -Ifusion_sdk/file -Ifusion_sdk/file/TsvFile -Ifusion_sdk/portability -Ifusion_sdk/util -Ifusion_sdk -D_USE_MEM_MAPPING_  -I/usr/local/include   -fpic  -g -O2  -Wall -Wno-sign-compare -O0 -c fusion_sdk/file/CELFileData.cpp -o fusion_sdk/file/CELFileData.o
fusion_sdk/file/CELFileData.cpp: In member function ‘float affxcel::CCELFileData::GetIntensity(int)’:
fusion_sdk/file/CELFileData.cpp:2409:27: warning: taking address of packed member of ‘affxcel::_CELFileEntryType’ may result in an unaligned pointer value [-Waddress-of-packed-member]
 2409 |   fIntensity=MmGetFloat_I(&m_pEntries[index].Intensity);
      |                           ^~~~~~~~~~~~~~~~~~~~~~~~~~~~
fusion_sdk/file/CELFileData.cpp:2414:27: warning: taking address of packed member of ‘affxcel::_CELFileEntryType’ may result in an unaligned pointer value [-Waddress-of-packed-member]
 2414 |   fIntensity=MmGetFloat_I(&(m_pEntries[index].Intensity));
      |                           ^~~~~~~~~~~~~~~~~~~~~~~~~~~~~~
fusion_sdk/file/CELFileData.cpp:2419:28: warning: taking address of packed member of ‘affxcel::_CELFileTranscriptomeEntryType’ may result in an unaligned pointer value [-Waddress-of-packed-member]
 2419 |   fIntensity=MmGetUInt16_N(&(m_pTransciptomeEntries[index].Intensity));
      |                            ^~~~~~~~~~~~~~~~~~~~~~~~~~~~~~~~~~~~~~~~~~
fusion_sdk/file/CELFileData.cpp: In member function ‘int affxcel::CCELFileData::GetIntensities(int, std::vector<float>&)’:
fusion_sdk/file/CELFileData.cpp:2445:37: warning: taking address of packed member of ‘affxcel::_CELFileEntryType’ may result in an unaligned pointer value [-Waddress-of-packed-member]
 2445 |       intensities[idx]=MmGetFloat_I(&m_pEntries[idx].Intensity);
      |                                     ^~~~~~~~~~~~~~~~~~~~~~~~~~
fusion_sdk/file/CELFileData.cpp:2451:37: warning: taking address of packed member of ‘affxcel::_CELFileEntryType’ may result in an unaligned pointer value [-Waddress-of-packed-member]
 2451 |       intensities[idx]=MmGetFloat_I(&m_pEntries[idx].Intensity);
      |                                     ^~~~~~~~~~~~~~~~~~~~~~~~~~
fusion_sdk/file/CELFileData.cpp:2457:38: warning: taking address of packed member of ‘affxcel::_CELFileTranscriptomeEntryType’ may result in an unaligned pointer value [-Waddress-of-packed-member]
 2457 |       intensities[idx]=MmGetUInt16_N(&m_pTransciptomeEntries[idx].Intensity);
      |                                      ^~~~~~~~~~~~~~~~~~~~~~~~~~~~~~~~~~~~~~
fusion_sdk/file/CELFileData.cpp: In member function ‘float affxcel::CCELFileData::GetStdv(int)’:
fusion_sdk/file/CELFileData.cpp:2506:23: warning: taking address of packed member of ‘affxcel::_CELFileEntryType’ may result in an unaligned pointer value [-Waddress-of-packed-member]
 2506 |   fStdev=MmGetFloat_I(&m_pEntries[index].Stdv);
      |                       ^~~~~~~~~~~~~~~~~~~~~~~
fusion_sdk/file/CELFileData.cpp:2509:23: warning: taking address of packed member of ‘affxcel::_CELFileEntryType’ may result in an unaligned pointer value [-Waddress-of-packed-member]
 2509 |   fStdev=MmGetFloat_I(&(m_pEntries[index].Stdv));
      |                       ^~~~~~~~~~~~~~~~~~~~~~~~~
fusion_sdk/file/CELFileData.cpp:2512:24: warning: taking address of packed member of ‘affxcel::_CELFileTranscriptomeEntryType’ may result in an unaligned pointer value [-Waddress-of-packed-member]
 2512 |   fStdev=MmGetUInt16_N(&(m_pTransciptomeEntries[index].Stdv));
      |                        ^~~~~~~~~~~~~~~~~~~~~~~~~~~~~~~~~~~~~
fusion_sdk/file/CELFileData.cpp: In member function ‘short int affxcel::CCELFileData::GetPixels(int)’:
fusion_sdk/file/CELFileData.cpp:2551:24: warning: taking address of packed member of ‘affxcel::_CELFileEntryType’ may result in an unaligned pointer value [-Waddress-of-packed-member]
 2551 |   sPixels=MmGetInt16_I(&m_pEntries[index].Pixels);
      |                        ^~~~~~~~~~~~~~~~~~~~~~~~~
fusion_sdk/file/CELFileData.cpp:2554:24: warning: taking address of packed member of ‘affxcel::_CELFileEntryType’ may result in an unaligned pointer value [-Waddress-of-packed-member]
 2554 |   sPixels=MmGetInt16_I(&m_pEntries[index].Pixels);
      |                        ^~~~~~~~~~~~~~~~~~~~~~~~~
fusion_sdk/file/CELFileData.cpp: In member function ‘void affxcel::CCELFileData::SetIntensity(int, float)’:
fusion_sdk/file/CELFileData.cpp:3194:16: warning: taking address of packed member of ‘affxcel::_CELFileEntryType’ may result in an unaligned pointer value [-Waddress-of-packed-member]
 3194 |   MmSetFloat_I(&m_pEntries[index].Intensity,intensity);
      |                ^~~~~~~~~~~~~~~~~~~~~~~~~~~~
fusion_sdk/file/CELFileData.cpp:3199:16: warning: taking address of packed member of ‘affxcel::_CELFileEntryType’ may result in an unaligned pointer value [-Waddress-of-packed-member]
 3199 |   MmSetFloat_I(&m_pEntries[index].Intensity,intensity);
      |                ^~~~~~~~~~~~~~~~~~~~~~~~~~~~
fusion_sdk/file/CELFileData.cpp:3204:17: warning: taking address of packed member of ‘affxcel::_CELFileTranscriptomeEntryType’ may result in an unaligned pointer value [-Waddress-of-packed-member]
 3204 |   MmSetUInt16_N(&m_pTransciptomeEntries[index].Intensity,s);
      |                 ^~~~~~~~~~~~~~~~~~~~~~~~~~~~~~~~~~~~~~~~
fusion_sdk/file/CELFileData.cpp: In member function ‘void affxcel::CCELFileData::SetStdv(int, float)’:
fusion_sdk/file/CELFileData.cpp:3251:17: warning: taking address of packed member of ‘affxcel::_CELFileTranscriptomeEntryType’ may result in an unaligned pointer value [-Waddress-of-packed-member]
 3251 |   MmSetUInt16_N(&m_pTransciptomeEntries[index].Stdv,s);
      |                 ^~~~~~~~~~~~~~~~~~~~~~~~~~~~~~~~~~~
fusion_sdk/file/CELFileData.cpp:3255:16: warning: taking address of packed member of ‘affxcel::_CELFileEntryType’ may result in an unaligned pointer value [-Waddress-of-packed-member]
 3255 |   MmSetFloat_I(&m_pEntries[index].Stdv,stdev);
      |                ^~~~~~~~~~~~~~~~~~~~~~~
fusion_sdk/file/CELFileData.cpp: In member function ‘void affxcel::CCELFileData::SetPixels(int, short int)’:
fusion_sdk/file/CELFileData.cpp:3294:28: warning: taking address of packed member of ‘affxcel::_CELFileEntryType’ may result in an unaligned pointer value [-Waddress-of-packed-member]
 3294 |   MmSetUInt16_I((uint16_t*)&m_pEntries[index].Pixels,(uint16_t)pixels);
      |                            ^~~~~~~~~~~~~~~~~~~~~~~~~
g++ -std=gnu++11 -I"/home/biocbuild/bbs-3.12-bioc/R/include" -DNDEBUG -I. -Ifusion_sdk/calvin_files/array/src -Ifusion_sdk/calvin_files/data/src -Ifusion_sdk/calvin_files/exception/src -Ifusion_sdk/calvin_files/fusion/src -Ifusion_sdk/calvin_files/fusion/src/GCOSAdapter -Ifusion_sdk/calvin_files/fusion/src/CalvinAdapter -Ifusion_sdk/calvin_files/parameter/src -Ifusion_sdk/calvin_files/parsers/src -Ifusion_sdk/calvin_files/portability/src -Ifusion_sdk/calvin_files/template/src -Ifusion_sdk/calvin_files/utils/src -Ifusion_sdk/calvin_files/writers/src -Ifusion_sdk/file -Ifusion_sdk/file/TsvFile -Ifusion_sdk/portability -Ifusion_sdk/util -Ifusion_sdk -D_USE_MEM_MAPPING_  -I/usr/local/include   -fpic  -g -O2  -Wall -Wno-sign-compare -O0 -c fusion_sdk/file/CHPFileData.cpp -o fusion_sdk/file/CHPFileData.o
g++ -std=gnu++11 -I"/home/biocbuild/bbs-3.12-bioc/R/include" -DNDEBUG -I. -Ifusion_sdk/calvin_files/array/src -Ifusion_sdk/calvin_files/data/src -Ifusion_sdk/calvin_files/exception/src -Ifusion_sdk/calvin_files/fusion/src -Ifusion_sdk/calvin_files/fusion/src/GCOSAdapter -Ifusion_sdk/calvin_files/fusion/src/CalvinAdapter -Ifusion_sdk/calvin_files/parameter/src -Ifusion_sdk/calvin_files/parsers/src -Ifusion_sdk/calvin_files/portability/src -Ifusion_sdk/calvin_files/template/src -Ifusion_sdk/calvin_files/utils/src -Ifusion_sdk/calvin_files/writers/src -Ifusion_sdk/file -Ifusion_sdk/file/TsvFile -Ifusion_sdk/portability -Ifusion_sdk/util -Ifusion_sdk -D_USE_MEM_MAPPING_  -I/usr/local/include   -fpic  -g -O2  -Wall -Wno-sign-compare -O0 -c fusion_sdk/file/FileIO.cpp -o fusion_sdk/file/FileIO.o
g++ -std=gnu++11 -I"/home/biocbuild/bbs-3.12-bioc/R/include" -DNDEBUG -I. -Ifusion_sdk/calvin_files/array/src -Ifusion_sdk/calvin_files/data/src -Ifusion_sdk/calvin_files/exception/src -Ifusion_sdk/calvin_files/fusion/src -Ifusion_sdk/calvin_files/fusion/src/GCOSAdapter -Ifusion_sdk/calvin_files/fusion/src/CalvinAdapter -Ifusion_sdk/calvin_files/parameter/src -Ifusion_sdk/calvin_files/parsers/src -Ifusion_sdk/calvin_files/portability/src -Ifusion_sdk/calvin_files/template/src -Ifusion_sdk/calvin_files/utils/src -Ifusion_sdk/calvin_files/writers/src -Ifusion_sdk/file -Ifusion_sdk/file/TsvFile -Ifusion_sdk/portability -Ifusion_sdk/util -Ifusion_sdk -D_USE_MEM_MAPPING_  -I/usr/local/include   -fpic  -g -O2  -Wall -Wno-sign-compare -O0 -c fusion_sdk/file/FileWriter.cpp -o fusion_sdk/file/FileWriter.o
g++ -std=gnu++11 -I"/home/biocbuild/bbs-3.12-bioc/R/include" -DNDEBUG -I. -Ifusion_sdk/calvin_files/array/src -Ifusion_sdk/calvin_files/data/src -Ifusion_sdk/calvin_files/exception/src -Ifusion_sdk/calvin_files/fusion/src -Ifusion_sdk/calvin_files/fusion/src/GCOSAdapter -Ifusion_sdk/calvin_files/fusion/src/CalvinAdapter -Ifusion_sdk/calvin_files/parameter/src -Ifusion_sdk/calvin_files/parsers/src -Ifusion_sdk/calvin_files/portability/src -Ifusion_sdk/calvin_files/template/src -Ifusion_sdk/calvin_files/utils/src -Ifusion_sdk/calvin_files/writers/src -Ifusion_sdk/file -Ifusion_sdk/file/TsvFile -Ifusion_sdk/portability -Ifusion_sdk/util -Ifusion_sdk -D_USE_MEM_MAPPING_  -I/usr/local/include   -fpic  -g -O2  -Wall -Wno-sign-compare -O0 -c fusion_sdk/file/TsvFile/ClfFile.cpp -o fusion_sdk/file/TsvFile/ClfFile.o
g++ -std=gnu++11 -I"/home/biocbuild/bbs-3.12-bioc/R/include" -DNDEBUG -I. -Ifusion_sdk/calvin_files/array/src -Ifusion_sdk/calvin_files/data/src -Ifusion_sdk/calvin_files/exception/src -Ifusion_sdk/calvin_files/fusion/src -Ifusion_sdk/calvin_files/fusion/src/GCOSAdapter -Ifusion_sdk/calvin_files/fusion/src/CalvinAdapter -Ifusion_sdk/calvin_files/parameter/src -Ifusion_sdk/calvin_files/parsers/src -Ifusion_sdk/calvin_files/portability/src -Ifusion_sdk/calvin_files/template/src -Ifusion_sdk/calvin_files/utils/src -Ifusion_sdk/calvin_files/writers/src -Ifusion_sdk/file -Ifusion_sdk/file/TsvFile -Ifusion_sdk/portability -Ifusion_sdk/util -Ifusion_sdk -D_USE_MEM_MAPPING_  -I/usr/local/include   -fpic  -g -O2  -Wall -Wno-sign-compare -O0 -c fusion_sdk/file/TsvFile/PgfFile.cpp -o fusion_sdk/file/TsvFile/PgfFile.o
g++ -std=gnu++11 -I"/home/biocbuild/bbs-3.12-bioc/R/include" -DNDEBUG -I. -Ifusion_sdk/calvin_files/array/src -Ifusion_sdk/calvin_files/data/src -Ifusion_sdk/calvin_files/exception/src -Ifusion_sdk/calvin_files/fusion/src -Ifusion_sdk/calvin_files/fusion/src/GCOSAdapter -Ifusion_sdk/calvin_files/fusion/src/CalvinAdapter -Ifusion_sdk/calvin_files/parameter/src -Ifusion_sdk/calvin_files/parsers/src -Ifusion_sdk/calvin_files/portability/src -Ifusion_sdk/calvin_files/template/src -Ifusion_sdk/calvin_files/utils/src -Ifusion_sdk/calvin_files/writers/src -Ifusion_sdk/file -Ifusion_sdk/file/TsvFile -Ifusion_sdk/portability -Ifusion_sdk/util -Ifusion_sdk -D_USE_MEM_MAPPING_  -I/usr/local/include   -fpic  -g -O2  -Wall -Wno-sign-compare -O0 -c fusion_sdk/file/TsvFile/TsvFile.cpp -o fusion_sdk/file/TsvFile/TsvFile.o
fusion_sdk/file/TsvFile/TsvFile.cpp: In static member function ‘static int affx::TsvFile::getLineCountInFile(const string&, bool)’:
fusion_sdk/file/TsvFile/TsvFile.cpp:4921:20: warning: catching polymorphic type ‘class std::exception’ by value [-Wcatch-value=]
 4921 |   catch (exception e) {
      |                    ^
fusion_sdk/file/TsvFile/TsvFile.cpp: In static member function ‘static int affx::TsvFile::replaceCharInFile(const string&, char, char, bool)’:
fusion_sdk/file/TsvFile/TsvFile.cpp:4970:20: warning: catching polymorphic type ‘class std::exception’ by value [-Wcatch-value=]
 4970 |   catch (exception e) {
      |                    ^
g++ -std=gnu++11 -I"/home/biocbuild/bbs-3.12-bioc/R/include" -DNDEBUG -I. -Ifusion_sdk/calvin_files/array/src -Ifusion_sdk/calvin_files/data/src -Ifusion_sdk/calvin_files/exception/src -Ifusion_sdk/calvin_files/fusion/src -Ifusion_sdk/calvin_files/fusion/src/GCOSAdapter -Ifusion_sdk/calvin_files/fusion/src/CalvinAdapter -Ifusion_sdk/calvin_files/parameter/src -Ifusion_sdk/calvin_files/parsers/src -Ifusion_sdk/calvin_files/portability/src -Ifusion_sdk/calvin_files/template/src -Ifusion_sdk/calvin_files/utils/src -Ifusion_sdk/calvin_files/writers/src -Ifusion_sdk/file -Ifusion_sdk/file/TsvFile -Ifusion_sdk/portability -Ifusion_sdk/util -Ifusion_sdk -D_USE_MEM_MAPPING_  -I/usr/local/include   -fpic  -g -O2  -Wall -Wno-sign-compare -O0 -c fusion_sdk/util/AffxByteArray.cpp -o fusion_sdk/util/AffxByteArray.o
fusion_sdk/util/AffxByteArray.cpp: In member function ‘const AffxByteArray& AffxByteArray::operator=(const AffxByteArray&)’:
fusion_sdk/util/AffxByteArray.cpp:320:5: warning: this ‘if’ clause does not guard... [-Wmisleading-indentation]
  320 |     if (this == &ba)
      |     ^~
fusion_sdk/util/AffxByteArray.cpp:323:2: note: ...this statement, but the latter is misleadingly indented as if it were guarded by the ‘if’
  323 |  empty();
      |  ^~~~~
g++ -std=gnu++11 -I"/home/biocbuild/bbs-3.12-bioc/R/include" -DNDEBUG -I. -Ifusion_sdk/calvin_files/array/src -Ifusion_sdk/calvin_files/data/src -Ifusion_sdk/calvin_files/exception/src -Ifusion_sdk/calvin_files/fusion/src -Ifusion_sdk/calvin_files/fusion/src/GCOSAdapter -Ifusion_sdk/calvin_files/fusion/src/CalvinAdapter -Ifusion_sdk/calvin_files/parameter/src -Ifusion_sdk/calvin_files/parsers/src -Ifusion_sdk/calvin_files/portability/src -Ifusion_sdk/calvin_files/template/src -Ifusion_sdk/calvin_files/utils/src -Ifusion_sdk/calvin_files/writers/src -Ifusion_sdk/file -Ifusion_sdk/file/TsvFile -Ifusion_sdk/portability -Ifusion_sdk/util -Ifusion_sdk -D_USE_MEM_MAPPING_  -I/usr/local/include   -fpic  -g -O2  -Wall -Wno-sign-compare -O0 -c fusion_sdk/util/AffxConv.cpp -o fusion_sdk/util/AffxConv.o
fusion_sdk/util/AffxConv.cpp: In function ‘std::string getInt(int, bool)’:
fusion_sdk/util/AffxConv.cpp:124:8: warning: self-comparison always evaluates to false [-Wtautological-compare]
  124 |  if (i != i) {return "nan";}
      |      ~ ^~ ~
g++ -std=gnu++11 -I"/home/biocbuild/bbs-3.12-bioc/R/include" -DNDEBUG -I. -Ifusion_sdk/calvin_files/array/src -Ifusion_sdk/calvin_files/data/src -Ifusion_sdk/calvin_files/exception/src -Ifusion_sdk/calvin_files/fusion/src -Ifusion_sdk/calvin_files/fusion/src/GCOSAdapter -Ifusion_sdk/calvin_files/fusion/src/CalvinAdapter -Ifusion_sdk/calvin_files/parameter/src -Ifusion_sdk/calvin_files/parsers/src -Ifusion_sdk/calvin_files/portability/src -Ifusion_sdk/calvin_files/template/src -Ifusion_sdk/calvin_files/utils/src -Ifusion_sdk/calvin_files/writers/src -Ifusion_sdk/file -Ifusion_sdk/file/TsvFile -Ifusion_sdk/portability -Ifusion_sdk/util -Ifusion_sdk -D_USE_MEM_MAPPING_  -I/usr/local/include   -fpic  -g -O2  -Wall -Wno-sign-compare -O0 -c fusion_sdk/util/MsgStream.cpp -o fusion_sdk/util/MsgStream.o
g++ -std=gnu++11 -I"/home/biocbuild/bbs-3.12-bioc/R/include" -DNDEBUG -I. -Ifusion_sdk/calvin_files/array/src -Ifusion_sdk/calvin_files/data/src -Ifusion_sdk/calvin_files/exception/src -Ifusion_sdk/calvin_files/fusion/src -Ifusion_sdk/calvin_files/fusion/src/GCOSAdapter -Ifusion_sdk/calvin_files/fusion/src/CalvinAdapter -Ifusion_sdk/calvin_files/parameter/src -Ifusion_sdk/calvin_files/parsers/src -Ifusion_sdk/calvin_files/portability/src -Ifusion_sdk/calvin_files/template/src -Ifusion_sdk/calvin_files/utils/src -Ifusion_sdk/calvin_files/writers/src -Ifusion_sdk/file -Ifusion_sdk/file/TsvFile -Ifusion_sdk/portability -Ifusion_sdk/util -Ifusion_sdk -D_USE_MEM_MAPPING_  -I/usr/local/include   -fpic  -g -O2  -Wall -Wno-sign-compare -O0 -c fusion_sdk/util/Util.cpp -o fusion_sdk/util/Util.o
g++ -std=gnu++11 -I"/home/biocbuild/bbs-3.12-bioc/R/include" -DNDEBUG -I. -Ifusion_sdk/calvin_files/array/src -Ifusion_sdk/calvin_files/data/src -Ifusion_sdk/calvin_files/exception/src -Ifusion_sdk/calvin_files/fusion/src -Ifusion_sdk/calvin_files/fusion/src/GCOSAdapter -Ifusion_sdk/calvin_files/fusion/src/CalvinAdapter -Ifusion_sdk/calvin_files/parameter/src -Ifusion_sdk/calvin_files/parsers/src -Ifusion_sdk/calvin_files/portability/src -Ifusion_sdk/calvin_files/template/src -Ifusion_sdk/calvin_files/utils/src -Ifusion_sdk/calvin_files/writers/src -Ifusion_sdk/file -Ifusion_sdk/file/TsvFile -Ifusion_sdk/portability -Ifusion_sdk/util -Ifusion_sdk -D_USE_MEM_MAPPING_  -I/usr/local/include   -fpic  -g -O2  -Wall -Wno-sign-compare -O0 -c fusion_sdk/util/Err.cpp -o fusion_sdk/util/Err.o
g++ -std=gnu++11 -I"/home/biocbuild/bbs-3.12-bioc/R/include" -DNDEBUG -I. -Ifusion_sdk/calvin_files/array/src -Ifusion_sdk/calvin_files/data/src -Ifusion_sdk/calvin_files/exception/src -Ifusion_sdk/calvin_files/fusion/src -Ifusion_sdk/calvin_files/fusion/src/GCOSAdapter -Ifusion_sdk/calvin_files/fusion/src/CalvinAdapter -Ifusion_sdk/calvin_files/parameter/src -Ifusion_sdk/calvin_files/parsers/src -Ifusion_sdk/calvin_files/portability/src -Ifusion_sdk/calvin_files/template/src -Ifusion_sdk/calvin_files/utils/src -Ifusion_sdk/calvin_files/writers/src -Ifusion_sdk/file -Ifusion_sdk/file/TsvFile -Ifusion_sdk/portability -Ifusion_sdk/util -Ifusion_sdk -D_USE_MEM_MAPPING_  -I/usr/local/include   -fpic  -g -O2  -Wall -Wno-sign-compare -O0 -c fusion_sdk/util/Fs.cpp -o fusion_sdk/util/Fs.o
g++ -std=gnu++11 -I"/home/biocbuild/bbs-3.12-bioc/R/include" -DNDEBUG -I. -Ifusion_sdk/calvin_files/array/src -Ifusion_sdk/calvin_files/data/src -Ifusion_sdk/calvin_files/exception/src -Ifusion_sdk/calvin_files/fusion/src -Ifusion_sdk/calvin_files/fusion/src/GCOSAdapter -Ifusion_sdk/calvin_files/fusion/src/CalvinAdapter -Ifusion_sdk/calvin_files/parameter/src -Ifusion_sdk/calvin_files/parsers/src -Ifusion_sdk/calvin_files/portability/src -Ifusion_sdk/calvin_files/template/src -Ifusion_sdk/calvin_files/utils/src -Ifusion_sdk/calvin_files/writers/src -Ifusion_sdk/file -Ifusion_sdk/file/TsvFile -Ifusion_sdk/portability -Ifusion_sdk/util -Ifusion_sdk -D_USE_MEM_MAPPING_  -I/usr/local/include   -fpic  -g -O2  -Wall -Wno-sign-compare -O0 -c fusion_sdk/util/Verbose.cpp -o fusion_sdk/util/Verbose.o
g++ -std=gnu++11 -I"/home/biocbuild/bbs-3.12-bioc/R/include" -DNDEBUG -I. -Ifusion_sdk/calvin_files/array/src -Ifusion_sdk/calvin_files/data/src -Ifusion_sdk/calvin_files/exception/src -Ifusion_sdk/calvin_files/fusion/src -Ifusion_sdk/calvin_files/fusion/src/GCOSAdapter -Ifusion_sdk/calvin_files/fusion/src/CalvinAdapter -Ifusion_sdk/calvin_files/parameter/src -Ifusion_sdk/calvin_files/parsers/src -Ifusion_sdk/calvin_files/portability/src -Ifusion_sdk/calvin_files/template/src -Ifusion_sdk/calvin_files/utils/src -Ifusion_sdk/calvin_files/writers/src -Ifusion_sdk/file -Ifusion_sdk/file/TsvFile -Ifusion_sdk/portability -Ifusion_sdk/util -Ifusion_sdk -D_USE_MEM_MAPPING_  -I/usr/local/include   -fpic  -g -O2  -Wall -Wno-sign-compare -O0 -c fusion_sdk/util/RowFile.cpp -o fusion_sdk/util/RowFile.o
g++ -std=gnu++11 -I"/home/biocbuild/bbs-3.12-bioc/R/include" -DNDEBUG -I. -Ifusion_sdk/calvin_files/array/src -Ifusion_sdk/calvin_files/data/src -Ifusion_sdk/calvin_files/exception/src -Ifusion_sdk/calvin_files/fusion/src -Ifusion_sdk/calvin_files/fusion/src/GCOSAdapter -Ifusion_sdk/calvin_files/fusion/src/CalvinAdapter -Ifusion_sdk/calvin_files/parameter/src -Ifusion_sdk/calvin_files/parsers/src -Ifusion_sdk/calvin_files/portability/src -Ifusion_sdk/calvin_files/template/src -Ifusion_sdk/calvin_files/utils/src -Ifusion_sdk/calvin_files/writers/src -Ifusion_sdk/file -Ifusion_sdk/file/TsvFile -Ifusion_sdk/portability -Ifusion_sdk/util -Ifusion_sdk -D_USE_MEM_MAPPING_  -I/usr/local/include   -fpic  -g -O2  -Wall -Wno-sign-compare -O0 -c fusion_sdk/util/TableFile.cpp -o fusion_sdk/util/TableFile.o
g++ -std=gnu++11 -I"/home/biocbuild/bbs-3.12-bioc/R/include" -DNDEBUG -I. -Ifusion_sdk/calvin_files/array/src -Ifusion_sdk/calvin_files/data/src -Ifusion_sdk/calvin_files/exception/src -Ifusion_sdk/calvin_files/fusion/src -Ifusion_sdk/calvin_files/fusion/src/GCOSAdapter -Ifusion_sdk/calvin_files/fusion/src/CalvinAdapter -Ifusion_sdk/calvin_files/parameter/src -Ifusion_sdk/calvin_files/parsers/src -Ifusion_sdk/calvin_files/portability/src -Ifusion_sdk/calvin_files/template/src -Ifusion_sdk/calvin_files/utils/src -Ifusion_sdk/calvin_files/writers/src -Ifusion_sdk/file -Ifusion_sdk/file/TsvFile -Ifusion_sdk/portability -Ifusion_sdk/util -Ifusion_sdk -D_USE_MEM_MAPPING_  -I/usr/local/include   -fpic  -g -O2  -Wall -Wno-sign-compare -O0 -c fusion_sdk/util/Convert.cpp -o fusion_sdk/util/Convert.o
g++ -std=gnu++11 -I"/home/biocbuild/bbs-3.12-bioc/R/include" -DNDEBUG -I. -Ifusion_sdk/calvin_files/array/src -Ifusion_sdk/calvin_files/data/src -Ifusion_sdk/calvin_files/exception/src -Ifusion_sdk/calvin_files/fusion/src -Ifusion_sdk/calvin_files/fusion/src/GCOSAdapter -Ifusion_sdk/calvin_files/fusion/src/CalvinAdapter -Ifusion_sdk/calvin_files/parameter/src -Ifusion_sdk/calvin_files/parsers/src -Ifusion_sdk/calvin_files/portability/src -Ifusion_sdk/calvin_files/template/src -Ifusion_sdk/calvin_files/utils/src -Ifusion_sdk/calvin_files/writers/src -Ifusion_sdk/file -Ifusion_sdk/file/TsvFile -Ifusion_sdk/portability -Ifusion_sdk/util -Ifusion_sdk -D_USE_MEM_MAPPING_  -I/usr/local/include   -fpic  -g -O2  -Wall -Wno-sign-compare -O0 -c R_affx_cel_parser.cpp -o R_affx_cel_parser.o
g++ -std=gnu++11 -I"/home/biocbuild/bbs-3.12-bioc/R/include" -DNDEBUG -I. -Ifusion_sdk/calvin_files/array/src -Ifusion_sdk/calvin_files/data/src -Ifusion_sdk/calvin_files/exception/src -Ifusion_sdk/calvin_files/fusion/src -Ifusion_sdk/calvin_files/fusion/src/GCOSAdapter -Ifusion_sdk/calvin_files/fusion/src/CalvinAdapter -Ifusion_sdk/calvin_files/parameter/src -Ifusion_sdk/calvin_files/parsers/src -Ifusion_sdk/calvin_files/portability/src -Ifusion_sdk/calvin_files/template/src -Ifusion_sdk/calvin_files/utils/src -Ifusion_sdk/calvin_files/writers/src -Ifusion_sdk/file -Ifusion_sdk/file/TsvFile -Ifusion_sdk/portability -Ifusion_sdk/util -Ifusion_sdk -D_USE_MEM_MAPPING_  -I/usr/local/include   -fpic  -g -O2  -Wall -Wno-sign-compare -O0 -c R_affx_cdf_parser.cpp -o R_affx_cdf_parser.o
g++ -std=gnu++11 -I"/home/biocbuild/bbs-3.12-bioc/R/include" -DNDEBUG -I. -Ifusion_sdk/calvin_files/array/src -Ifusion_sdk/calvin_files/data/src -Ifusion_sdk/calvin_files/exception/src -Ifusion_sdk/calvin_files/fusion/src -Ifusion_sdk/calvin_files/fusion/src/GCOSAdapter -Ifusion_sdk/calvin_files/fusion/src/CalvinAdapter -Ifusion_sdk/calvin_files/parameter/src -Ifusion_sdk/calvin_files/parsers/src -Ifusion_sdk/calvin_files/portability/src -Ifusion_sdk/calvin_files/template/src -Ifusion_sdk/calvin_files/utils/src -Ifusion_sdk/calvin_files/writers/src -Ifusion_sdk/file -Ifusion_sdk/file/TsvFile -Ifusion_sdk/portability -Ifusion_sdk/util -Ifusion_sdk -D_USE_MEM_MAPPING_  -I/usr/local/include   -fpic  -g -O2  -Wall -Wno-sign-compare -O0 -c R_affx_cdf_extras.cpp -o R_affx_cdf_extras.o
g++ -std=gnu++11 -I"/home/biocbuild/bbs-3.12-bioc/R/include" -DNDEBUG -I. -Ifusion_sdk/calvin_files/array/src -Ifusion_sdk/calvin_files/data/src -Ifusion_sdk/calvin_files/exception/src -Ifusion_sdk/calvin_files/fusion/src -Ifusion_sdk/calvin_files/fusion/src/GCOSAdapter -Ifusion_sdk/calvin_files/fusion/src/CalvinAdapter -Ifusion_sdk/calvin_files/parameter/src -Ifusion_sdk/calvin_files/parsers/src -Ifusion_sdk/calvin_files/portability/src -Ifusion_sdk/calvin_files/template/src -Ifusion_sdk/calvin_files/utils/src -Ifusion_sdk/calvin_files/writers/src -Ifusion_sdk/file -Ifusion_sdk/file/TsvFile -Ifusion_sdk/portability -Ifusion_sdk/util -Ifusion_sdk -D_USE_MEM_MAPPING_  -I/usr/local/include   -fpic  -g -O2  -Wall -Wno-sign-compare -O0 -c R_affx_bpmap_parser.cpp -o R_affx_bpmap_parser.o
g++ -std=gnu++11 -I"/home/biocbuild/bbs-3.12-bioc/R/include" -DNDEBUG -I. -Ifusion_sdk/calvin_files/array/src -Ifusion_sdk/calvin_files/data/src -Ifusion_sdk/calvin_files/exception/src -Ifusion_sdk/calvin_files/fusion/src -Ifusion_sdk/calvin_files/fusion/src/GCOSAdapter -Ifusion_sdk/calvin_files/fusion/src/CalvinAdapter -Ifusion_sdk/calvin_files/parameter/src -Ifusion_sdk/calvin_files/parsers/src -Ifusion_sdk/calvin_files/portability/src -Ifusion_sdk/calvin_files/template/src -Ifusion_sdk/calvin_files/utils/src -Ifusion_sdk/calvin_files/writers/src -Ifusion_sdk/file -Ifusion_sdk/file/TsvFile -Ifusion_sdk/portability -Ifusion_sdk/util -Ifusion_sdk -D_USE_MEM_MAPPING_  -I/usr/local/include   -fpic  -g -O2  -Wall -Wno-sign-compare -O0 -c R_affx_clf_pgf_parser.cpp -o R_affx_clf_pgf_parser.o
R_affx_clf_pgf_parser.cpp: In function ‘SEXPREC* R_affx_get_clf_file(SEXP, SEXP, SEXP)’:
R_affx_clf_pgf_parser.cpp:284:21: warning: catching polymorphic type ‘class Except’ by value [-Wcatch-value=]
  284 |     } catch (Except ex) {
      |                     ^~
R_affx_clf_pgf_parser.cpp: In function ‘SEXPREC* R_affx_get_pgf_file(SEXP, SEXP, SEXP, SEXP)’:
R_affx_clf_pgf_parser.cpp:327:21: warning: catching polymorphic type ‘class Except’ by value [-Wcatch-value=]
  327 |     } catch (Except ex) {
      |                     ^~
g++ -std=gnu++11 -I"/home/biocbuild/bbs-3.12-bioc/R/include" -DNDEBUG -I. -Ifusion_sdk/calvin_files/array/src -Ifusion_sdk/calvin_files/data/src -Ifusion_sdk/calvin_files/exception/src -Ifusion_sdk/calvin_files/fusion/src -Ifusion_sdk/calvin_files/fusion/src/GCOSAdapter -Ifusion_sdk/calvin_files/fusion/src/CalvinAdapter -Ifusion_sdk/calvin_files/parameter/src -Ifusion_sdk/calvin_files/parsers/src -Ifusion_sdk/calvin_files/portability/src -Ifusion_sdk/calvin_files/template/src -Ifusion_sdk/calvin_files/utils/src -Ifusion_sdk/calvin_files/writers/src -Ifusion_sdk/file -Ifusion_sdk/file/TsvFile -Ifusion_sdk/portability -Ifusion_sdk/util -Ifusion_sdk -D_USE_MEM_MAPPING_  -I/usr/local/include   -fpic  -g -O2  -Wall -Wno-sign-compare -O0 -c R_affx_chp_parser.cpp -o R_affx_chp_parser.o
g++ -std=gnu++11 -shared -L/home/biocbuild/bbs-3.12-bioc/R/lib -L/usr/local/lib -o affxparser.so fusion_sdk/calvin_files/data/src/CDFData.o fusion_sdk/calvin_files/data/src/CDFProbeGroupInformation.o fusion_sdk/calvin_files/data/src/CDFProbeInformation.o fusion_sdk/calvin_files/data/src/CDFProbeSetInformation.o fusion_sdk/calvin_files/data/src/CDFQCProbeInformation.o fusion_sdk/calvin_files/data/src/CDFQCProbeSetInformation.o fusion_sdk/calvin_files/data/src/CELData.o fusion_sdk/calvin_files/data/src/CHPBackgroundZone.o fusion_sdk/calvin_files/data/src/CHPData.o fusion_sdk/calvin_files/data/src/CHPExpressionEntry.o fusion_sdk/calvin_files/data/src/CHPMultiDataData.o fusion_sdk/calvin_files/data/src/CHPTilingData.o fusion_sdk/calvin_files/data/src/CHPQuantificationData.o fusion_sdk/calvin_files/data/src/CHPQuantificationDetectionData.o fusion_sdk/calvin_files/data/src/CHPGenotypeEntry.o fusion_sdk/calvin_files/data/src/CHPUniversalEntry.o fusion_sdk/calvin_files/data/src/ColumnInfo.o fusion_sdk/calvin_files/data/src/DataGroup.o fusion_sdk/calvin_files/data/src/DataGroupHeader.o fusion_sdk/calvin_files/data/src/DataSet.o fusion_sdk/calvin_files/data/src/DataSetHeader.o fusion_sdk/calvin_files/data/src/FileHeader.o fusion_sdk/calvin_files/data/src/GenericData.o fusion_sdk/calvin_files/data/src/GenericDataHeader.o fusion_sdk/calvin_files/exception/src/ExceptionBase.o fusion_sdk/calvin_files/fusion/src/CalvinAdapter/CalvinCELDataAdapter.o fusion_sdk/calvin_files/fusion/src/CalvinAdapter/CalvinCHPDataAdapter.o fusion_sdk/calvin_files/fusion/src/FusionBPMAPData.o fusion_sdk/calvin_files/fusion/src/FusionCDFData.o fusion_sdk/calvin_files/fusion/src/FusionCDFQCProbeSetNames.o fusion_sdk/calvin_files/fusion/src/FusionCELData.o fusion_sdk/calvin_files/fusion/src/FusionCHPData.o fusion_sdk/calvin_files/fusion/src/FusionProbeSetResults.o fusion_sdk/calvin_files/fusion/src/GCOSAdapter/GCOSCELDataAdapter.o fusion_sdk/calvin_files/fusion/src/GCOSAdapter/GCOSCHPDataAdapter.o fusion_sdk/calvin_files/fusion/src/FusionCHPLegacyData.o fusion_sdk/calvin_files/fusion/src/FusionCHPMultiDataAccessor.o fusion_sdk/calvin_files/fusion/src/FusionCHPMultiDataData.o fusion_sdk/calvin_files/fusion/src/FusionCHPTilingData.o fusion_sdk/calvin_files/fusion/src/FusionCHPGenericData.o fusion_sdk/calvin_files/fusion/src/FusionCHPQuantificationData.o fusion_sdk/calvin_files/fusion/src/FusionCHPQuantificationDetectionData.o fusion_sdk/calvin_files/parameter/src/ParameterNameValueType.o fusion_sdk/calvin_files/parsers/src/CDFFileReader.o fusion_sdk/calvin_files/parsers/src/CelFileReader.o fusion_sdk/calvin_files/parsers/src/CHPFileReader.o fusion_sdk/calvin_files/parsers/src/CHPMultiDataFileReader.o fusion_sdk/calvin_files/parsers/src/CHPTilingFileReader.o fusion_sdk/calvin_files/parsers/src/CHPQuantificationFileReader.o fusion_sdk/calvin_files/parsers/src/CHPQuantificationDetectionFileReader.o fusion_sdk/calvin_files/parsers/src/DataGroupHeaderReader.o fusion_sdk/calvin_files/parsers/src/DataGroupReader.o fusion_sdk/calvin_files/parsers/src/DataSetHeaderReader.o fusion_sdk/calvin_files/parsers/src/DataSetReader.o fusion_sdk/calvin_files/parsers/src/FileHeaderReader.o fusion_sdk/calvin_files/parsers/src/FileInput.o fusion_sdk/calvin_files/parsers/src/GenericDataHeaderReader.o fusion_sdk/calvin_files/parsers/src/GenericFileReader.o fusion_sdk/calvin_files/utils/src/AffymetrixGuid.o fusion_sdk/calvin_files/utils/src/DateTime.o fusion_sdk/calvin_files/utils/src/FileUtils.o fusion_sdk/calvin_files/utils/src/StringUtils.o fusion_sdk/calvin_files/utils/src/checksum.o fusion_sdk/file/BPMAPFileData.o fusion_sdk/file/BPMAPFileWriter.o fusion_sdk/file/CDFFileData.o fusion_sdk/file/CELFileData.o fusion_sdk/file/CHPFileData.o fusion_sdk/file/FileIO.o fusion_sdk/file/FileWriter.o fusion_sdk/file/TsvFile/ClfFile.o fusion_sdk/file/TsvFile/PgfFile.o fusion_sdk/file/TsvFile/TsvFile.o fusion_sdk/util/AffxByteArray.o fusion_sdk/util/AffxConv.o fusion_sdk/util/MsgStream.o fusion_sdk/util/Util.o fusion_sdk/util/Err.o fusion_sdk/util/Fs.o fusion_sdk/util/Verbose.o fusion_sdk/util/RowFile.o fusion_sdk/util/TableFile.o fusion_sdk/util/Convert.o R_affx_cel_parser.o R_affx_cdf_parser.o R_affx_cdf_extras.o R_affx_bpmap_parser.o R_affx_clf_pgf_parser.o R_affx_chp_parser.o -L/home/biocbuild/bbs-3.12-bioc/R/lib -lR
installing to /home/biocbuild/bbs-3.12-bioc/R/library/00LOCK-affxparser/00new/affxparser/libs
** R
** inst
** byte-compile and prepare package for lazy loading
** help
*** installing help indices
** building package indices
** testing if installed package can be loaded from temporary location
** checking absolute paths in shared objects and dynamic libraries
** testing if installed package can be loaded from final location
** testing if installed package keeps a record of temporary installation path
* DONE (affxparser)