Back to Multiple platform build/check report for BioC 3.12
[A]BCDEFGHIJKLMNOPQRSTUVWXYZ

BUILD BIN report for adSplit on riesling1

This page was generated on 2020-10-28 13:27:28 -0400 (Wed, 28 Oct 2020).

TO THE DEVELOPERS/MAINTAINERS OF THE adSplit PACKAGE: Please make sure to use the following settings in order to reproduce any error or warning you see on this page.
Package 21/1974HostnameOS / ArchINSTALLBUILDCHECKBUILD BIN
adSplit 1.60.0
Claudio Lottaz
Snapshot Date: 2020-10-27 13:12:07 -0400 (Tue, 27 Oct 2020)
URL: https://git.bioconductor.org/packages/adSplit
Branch: RELEASE_3_12
Last Commit: de5abcc
Last Changed Date: 2020-10-27 10:28:09 -0400 (Tue, 27 Oct 2020)
malbec1 Linux (Ubuntu 18.04.4 LTS) / x86_64  OK  OK  WARNINGS YES, new version is higher than in internal repository
nebbiolo1 Linux (Ubuntu 20.04.1 LTS) / x86_64  OK  OK  WARNINGS 
tokay1 Windows Server 2012 R2 Standard / x64  OK  OK  WARNINGS  OK YES, new version is higher than in internal repository
riesling1 Windows Server 2019 Standard / x64  OK  OK  WARNINGS [ OK ]
merida1 macOS 10.14.6 Mojave / x86_64  OK  OK  WARNINGS  OK YES, new version is higher than in internal repository

Summary

Package: adSplit
Version: 1.60.0
Command: rm -rf adSplit.buildbin-libdir && mkdir adSplit.buildbin-libdir && D:\biocbuild\bbs-3.12-bioc\R\bin\R.exe CMD INSTALL --merge-multiarch --build --library=adSplit.buildbin-libdir adSplit_1.60.0.tar.gz
StartedAt: 2020-10-27 23:10:56 -0400 (Tue, 27 Oct 2020)
EndedAt: 2020-10-27 23:11:29 -0400 (Tue, 27 Oct 2020)
EllapsedTime: 32.7 seconds
RetCode: 0
Status:  OK  
PackageFile: adSplit_1.60.0.zip
PackageFileSize: 458 KiB

Command output

##############################################################################
##############################################################################
###
### Running command:
###
###   rm -rf adSplit.buildbin-libdir && mkdir adSplit.buildbin-libdir && D:\biocbuild\bbs-3.12-bioc\R\bin\R.exe CMD INSTALL --merge-multiarch --build --library=adSplit.buildbin-libdir adSplit_1.60.0.tar.gz
###
##############################################################################
##############################################################################



install for i386

* installing *source* package 'adSplit' ...
** using staged installation
** libs
"C:/rtools40/mingw32/bin/"g++ -std=gnu++11  -I"D:/biocbuild/bbs-3.12-bioc/R/include" -DNDEBUG     -I"C:/extsoft/include"     -O2 -Wall  -mfpmath=sse -msse2 -mstackrealign -c adSplit.cpp -o adSplit.o
adSplit.cpp: In function 'double tscore(double*, int, int, split&, isis_pars&)':
adSplit.cpp:256:77: warning: ISO C++ forbids converting a string constant to 'char*' [-Wwrite-strings]
     throw Tomato(__LINE__, "tscore: internal error, shame on the programmer");
                                                                             ^
adSplit.cpp: In function 'void isis(char**, double*, int*, int*, int*, int*, int*, double*, int*)':
adSplit.cpp:469:67: warning: ISO C++ forbids converting a string constant to 'char*' [-Wwrite-strings]
       throw Tomato(__LINE__, "isis() called with unknown function");
                                                                   ^
C:/rtools40/mingw32/bin/g++ -std=gnu++11 -shared -s -static-libgcc -o adSplit.dll tmp.def adSplit.o -LC:/extsoft/lib/i386 -LC:/extsoft/lib -LD:/biocbuild/bbs-3.12-bioc/R/bin/i386 -lR
installing to D:/biocbuild/bbs-3.12-bioc/meat/adSplit.buildbin-libdir/00LOCK-adSplit/00new/adSplit/libs/i386
** R
** data
** inst
** byte-compile and prepare package for lazy loading
** help
*** installing help indices
  converting help for package 'adSplit'
    finding HTML links ... done
    adSplit-internal                        html  
    adSplit                                 html  
    diana2means                             html  
    drawRandomPS                            html  
    golubKEGGSplits                         html  
    hist.splitSet                           html  
    image.splitSet                          html  
    makeEID2PROBESenv                       html  
    print.split                             html  
    print.splitSet                          html  
    randomDiana2means                       html  
** building package indices
** installing vignettes
** testing if installed package can be loaded from temporary location
** testing if installed package can be loaded from final location
** testing if installed package keeps a record of temporary installation path

install for x64

* installing *source* package 'adSplit' ...
** libs
"C:/rtools40/mingw64/bin/"g++ -std=gnu++11  -I"D:/biocbuild/bbs-3.12-bioc/R/include" -DNDEBUG     -I"C:/extsoft/include"     -O2 -Wall  -mfpmath=sse -msse2 -mstackrealign -c adSplit.cpp -o adSplit.o
adSplit.cpp: In function 'double tscore(double*, int, int, split&, isis_pars&)':
adSplit.cpp:256:77: warning: ISO C++ forbids converting a string constant to 'char*' [-Wwrite-strings]
     throw Tomato(__LINE__, "tscore: internal error, shame on the programmer");
                                                                             ^
adSplit.cpp: In function 'void isis(char**, double*, int*, int*, int*, int*, int*, double*, int*)':
adSplit.cpp:469:67: warning: ISO C++ forbids converting a string constant to 'char*' [-Wwrite-strings]
       throw Tomato(__LINE__, "isis() called with unknown function");
                                                                   ^
C:/rtools40/mingw64/bin/g++ -std=gnu++11 -shared -s -static-libgcc -o adSplit.dll tmp.def adSplit.o -LC:/extsoft/lib/x64 -LC:/extsoft/lib -LD:/biocbuild/bbs-3.12-bioc/R/bin/x64 -lR
installing to D:/biocbuild/bbs-3.12-bioc/meat/adSplit.buildbin-libdir/adSplit/libs/x64
** testing if installed package can be loaded
* MD5 sums
packaged installation of 'adSplit' as adSplit_1.60.0.zip
* DONE (adSplit)