Back to Multiple platform build/check report for BioC 3.12
[A]BCDEFGHIJKLMNOPQRSTUVWXYZ

BUILD report for acde on riesling1

This page was generated on 2020-10-28 13:27:24 -0400 (Wed, 28 Oct 2020).

TO THE DEVELOPERS/MAINTAINERS OF THE acde PACKAGE: Please make sure to use the following settings in order to reproduce any error or warning you see on this page.
Package 11/1974HostnameOS / ArchINSTALLBUILDCHECKBUILD BIN
acde 1.20.0
Juan Pablo Acosta
Snapshot Date: 2020-10-27 13:12:07 -0400 (Tue, 27 Oct 2020)
URL: https://git.bioconductor.org/packages/acde
Branch: RELEASE_3_12
Last Commit: cefb4f2
Last Changed Date: 2020-10-27 11:05:40 -0400 (Tue, 27 Oct 2020)
malbec1 Linux (Ubuntu 18.04.4 LTS) / x86_64  OK  OK  OK YES, new version is higher than in internal repository
nebbiolo1 Linux (Ubuntu 20.04.1 LTS) / x86_64  OK  OK  OK 
tokay1 Windows Server 2012 R2 Standard / x64  OK  OK  OK  OK YES, new version is higher than in internal repository
riesling1 Windows Server 2019 Standard / x64  OK [ OK ] OK  OK 
merida1 macOS 10.14.6 Mojave / x86_64  OK  OK  OK  OK YES, new version is higher than in internal repository

Summary

Package: acde
Version: 1.20.0
Command: chmod a+r acde -R && D:\biocbuild\bbs-3.12-bioc\R\bin\R.exe CMD build --keep-empty-dirs --no-resave-data acde
StartedAt: 2020-10-27 17:49:49 -0400 (Tue, 27 Oct 2020)
EndedAt: 2020-10-27 17:50:19 -0400 (Tue, 27 Oct 2020)
EllapsedTime: 30.3 seconds
RetCode: 0
Status:  OK  
PackageFile: acde_1.20.0.tar.gz
PackageFileSize: 8.699 MiB

Command output

##############################################################################
##############################################################################
###
### Running command:
###
###   chmod a+r acde -R && D:\biocbuild\bbs-3.12-bioc\R\bin\R.exe CMD build --keep-empty-dirs --no-resave-data acde
###
##############################################################################
##############################################################################


* checking for file 'acde/DESCRIPTION' ... OK
* preparing 'acde':
* checking DESCRIPTION meta-information ... OK
* installing the package to build vignettes
* creating vignettes ... OK
* checking for LF line-endings in source and make files and shell scripts
* checking for empty or unneeded directories
* building 'acde_1.20.0.tar.gz'