Back to Multiple platform build/check report for BioC 3.12
[A]BCDEFGHIJKLMNOPQRSTUVWXYZ

INSTALL report for a4Reporting on riesling1

This page was generated on 2020-10-28 13:27:21 -0400 (Wed, 28 Oct 2020).

TO THE DEVELOPERS/MAINTAINERS OF THE a4Reporting PACKAGE: Please make sure to use the following settings in order to reproduce any error or warning you see on this page.
Package 6/1974HostnameOS / ArchINSTALLBUILDCHECKBUILD BIN
a4Reporting 1.38.0
Laure Cougnaud
Snapshot Date: 2020-10-27 13:12:07 -0400 (Tue, 27 Oct 2020)
URL: https://git.bioconductor.org/packages/a4Reporting
Branch: RELEASE_3_12
Last Commit: cd3cf24
Last Changed Date: 2020-10-27 10:41:23 -0400 (Tue, 27 Oct 2020)
malbec1 Linux (Ubuntu 18.04.4 LTS) / x86_64  OK  OK  OK YES, new version is higher than in internal repository
nebbiolo1 Linux (Ubuntu 20.04.1 LTS) / x86_64  OK  OK  OK 
tokay1 Windows Server 2012 R2 Standard / x64  OK  OK  OK  OK YES, new version is higher than in internal repository
riesling1 Windows Server 2019 Standard / x64 [ OK ] OK  OK  OK 
merida1 macOS 10.14.6 Mojave / x86_64  OK  OK  OK  OK YES, new version is higher than in internal repository

Summary

Package: a4Reporting
Version: 1.38.0
Command: C:\cygwin\bin\curl.exe -O http://172.29.0.3/BBS/3.12/bioc/src/contrib/a4Reporting_1.38.0.tar.gz && rm -rf a4Reporting.buildbin-libdir && mkdir a4Reporting.buildbin-libdir && D:\biocbuild\bbs-3.12-bioc\R\bin\R.exe CMD INSTALL --merge-multiarch --build --library=a4Reporting.buildbin-libdir a4Reporting_1.38.0.tar.gz && D:\biocbuild\bbs-3.12-bioc\R\bin\R.exe CMD INSTALL a4Reporting_1.38.0.zip && rm a4Reporting_1.38.0.tar.gz a4Reporting_1.38.0.zip
StartedAt: 2020-10-27 16:30:44 -0400 (Tue, 27 Oct 2020)
EndedAt: 2020-10-27 16:32:04 -0400 (Tue, 27 Oct 2020)
EllapsedTime: 79.3 seconds
RetCode: 0
Status:  OK  

Command output

##############################################################################
##############################################################################
###
### Running command:
###
###   C:\cygwin\bin\curl.exe -O http://172.29.0.3/BBS/3.12/bioc/src/contrib/a4Reporting_1.38.0.tar.gz && rm -rf a4Reporting.buildbin-libdir && mkdir a4Reporting.buildbin-libdir && D:\biocbuild\bbs-3.12-bioc\R\bin\R.exe CMD INSTALL --merge-multiarch --build --library=a4Reporting.buildbin-libdir a4Reporting_1.38.0.tar.gz && D:\biocbuild\bbs-3.12-bioc\R\bin\R.exe CMD INSTALL a4Reporting_1.38.0.zip && rm a4Reporting_1.38.0.tar.gz a4Reporting_1.38.0.zip
###
##############################################################################
##############################################################################


  % Total    % Received % Xferd  Average Speed   Time    Time     Time  Current
                                 Dload  Upload   Total   Spent    Left  Speed

  0     0    0     0    0     0      0      0 --:--:-- --:--:-- --:--:--     0
100  7775  100  7775    0     0   421k      0 --:--:-- --:--:-- --:--:--  421k

install for i386

* installing *source* package 'a4Reporting' ...
** using staged installation
** R
** inst
** byte-compile and prepare package for lazy loading
** help
*** installing help indices
  converting help for package 'a4Reporting'
    finding HTML links ... done
    annotationTable-class                   html  
    annotationTable                         html  
    generateEntrezIdLinks                   html  
    generateGOIdLinks                       html  
    print.xtableAnnotationTable             html  
    xtable-methods                          html  
** building package indices
** installing vignettes
** testing if installed package can be loaded from temporary location
** testing if installed package can be loaded from final location
** testing if installed package keeps a record of temporary installation path

install for x64

* installing *source* package 'a4Reporting' ...
** testing if installed package can be loaded
* MD5 sums
packaged installation of 'a4Reporting' as a4Reporting_1.38.0.zip
* DONE (a4Reporting)
* installing to library 'D:/biocbuild/bbs-3.12-bioc/R/library'
package 'a4Reporting' successfully unpacked and MD5 sums checked