Back to Multiple platform build/check report for BioC 3.12
[A]BCDEFGHIJKLMNOPQRSTUVWXYZ

BUILD report for a4Reporting on merida1

This page was generated on 2020-09-27 10:22:32 -0400 (Sun, 27 Sep 2020).

TO THE DEVELOPERS/MAINTAINERS OF THE a4Reporting PACKAGE: Please make sure to use the following settings in order to reproduce any error or warning you see on this page.
Package 6/1923HostnameOS / ArchINSTALLBUILDCHECKBUILD BIN
a4Reporting 1.37.0
Tobias Verbeke
Snapshot Date: 2020-09-26 14:42:06 -0400 (Sat, 26 Sep 2020)
URL: https://git.bioconductor.org/packages/a4Reporting
Branch: master
Last Commit: 3d068f3
Last Changed Date: 2020-04-27 14:25:28 -0400 (Mon, 27 Apr 2020)
malbec1 Linux (Ubuntu 18.04.4 LTS) / x86_64  OK  OK  WARNINGS UNNEEDED, same version exists in internal repository
nebbiolo1 Linux (Ubuntu 20.04.1 LTS) / x86_64  OK  OK  WARNINGS 
tokay1 Windows Server 2012 R2 Standard / x64  OK  OK  WARNINGS  OK UNNEEDED, same version exists in internal repository
riesling1 Windows Server 2019 Standard / x64  OK  OK  WARNINGS  OK 
merida1 macOS 10.14.6 Mojave / x86_64  OK [ OK ] WARNINGS  OK UNNEEDED, same version exists in internal repository

Summary

Package: a4Reporting
Version: 1.37.0
Command: /Library/Frameworks/R.framework/Versions/Current/Resources/bin/R CMD build --keep-empty-dirs --no-resave-data a4Reporting
StartedAt: 2020-09-26 18:35:01 -0400 (Sat, 26 Sep 2020)
EndedAt: 2020-09-26 18:35:18 -0400 (Sat, 26 Sep 2020)
EllapsedTime: 17.5 seconds
RetCode: 0
Status:  OK 
PackageFile: a4Reporting_1.37.0.tar.gz
PackageFileSize: 5.127 KiB

Command output

##############################################################################
##############################################################################
###
### Running command:
###
###   /Library/Frameworks/R.framework/Versions/Current/Resources/bin/R CMD build --keep-empty-dirs --no-resave-data a4Reporting
###
##############################################################################
##############################################################################


* checking for file ‘a4Reporting/DESCRIPTION’ ... OK
* preparing ‘a4Reporting’:
* checking DESCRIPTION meta-information ... OK
* checking for LF line-endings in source and make files and shell scripts
* checking for empty or unneeded directories
* building ‘a4Reporting_1.37.0.tar.gz’