Back to Multiple platform build/check report for BioC 3.12
[A]BCDEFGHIJKLMNOPQRSTUVWXYZ

BUILD BIN report for a4Classif on merida1

This page was generated on 2020-11-24 12:00:27 -0500 (Tue, 24 Nov 2020).

TO THE DEVELOPERS/MAINTAINERS OF THE a4Classif PACKAGE: Please make sure to use the following settings in order to reproduce any error or warning you see on this page.
Package 3/1974HostnameOS / ArchINSTALLBUILDCHECKBUILD BIN
a4Classif 1.38.0
Laure Cougnaud
Snapshot Date: 2020-11-23 14:42:42 -0500 (Mon, 23 Nov 2020)
URL: https://git.bioconductor.org/packages/a4Classif
Branch: RELEASE_3_12
Last Commit: c4d0588
Last Changed Date: 2020-10-27 10:41:18 -0500 (Tue, 27 Oct 2020)
malbec1 Linux (Ubuntu 18.04.4 LTS) / x86_64  OK  OK  OK UNNEEDED, same version exists in internal repository
nebbiolo1 Linux (Ubuntu 20.04.1 LTS) / x86_64  OK  OK  OK 
tokay1 Windows Server 2012 R2 Standard / x64  OK  OK  OK  OK UNNEEDED, same version exists in internal repository
merida1 macOS 10.14.6 Mojave / x86_64  OK  OK  OK [ OK ]UNNEEDED, same version exists in internal repository

Summary

Package: a4Classif
Version: 1.38.0
Command: rm -rf a4Classif.buildbin-libdir && mkdir a4Classif.buildbin-libdir && /Users/biocbuild/BBS/utils/build-universal.sh a4Classif_1.38.0.tar.gz /Library/Frameworks/R.framework/Versions/Current/Resources/bin/R a4Classif.buildbin-libdir
StartedAt: 2020-11-24 07:34:14 -0500 (Tue, 24 Nov 2020)
EndedAt: 2020-11-24 07:34:54 -0500 (Tue, 24 Nov 2020)
EllapsedTime: 39.6 seconds
RetCode: 0
Status:  OK 
PackageFile: a4Classif_1.38.0.tgz
PackageFileSize: 353.1 KiB

Command output

##############################################################################
##############################################################################
###
### Running command:
###
###   rm -rf a4Classif.buildbin-libdir && mkdir a4Classif.buildbin-libdir && /Users/biocbuild/BBS/utils/build-universal.sh a4Classif_1.38.0.tar.gz /Library/Frameworks/R.framework/Versions/Current/Resources/bin/R a4Classif.buildbin-libdir
###
##############################################################################
##############################################################################


>>>>>>> 
>>>>>>> INSTALLATION WITH 'R CMD INSTALL --preclean --no-multiarch --library=a4Classif.buildbin-libdir a4Classif_1.38.0.tar.gz'
>>>>>>> 

* installing *source* package ‘a4Classif’ ...
** using staged installation
** R
** inst
** byte-compile and prepare package for lazy loading
** help
*** installing help indices
** building package indices
** installing vignettes
** testing if installed package can be loaded from temporary location
** testing if installed package can be loaded from final location
** testing if installed package keeps a record of temporary installation path
* DONE (a4Classif)