Back to Multiple platform build/check report for BioC 3.12
[A]BCDEFGHIJKLMNOPQRSTUVWXYZ

BUILD report for a4Base on merida1

This page was generated on 2020-11-26 12:23:19 -0500 (Thu, 26 Nov 2020).

TO THE DEVELOPERS/MAINTAINERS OF THE a4Base PACKAGE: Please make sure to use the following settings in order to reproduce any error or warning you see on this page.
Package 2/1974HostnameOS / ArchINSTALLBUILDCHECKBUILD BIN
a4Base 1.38.0
Laure Cougnaud
Snapshot Date: 2020-11-25 14:42:33 -0500 (Wed, 25 Nov 2020)
URL: https://git.bioconductor.org/packages/a4Base
Branch: RELEASE_3_12
Last Commit: 4add242
Last Changed Date: 2020-10-27 10:41:12 -0500 (Tue, 27 Oct 2020)
malbec1 Linux (Ubuntu 18.04.4 LTS) / x86_64  OK  OK  OK UNNEEDED, same version exists in internal repository
nebbiolo1 Linux (Ubuntu 20.04.1 LTS) / x86_64  OK  OK  OK 
tokay1 Windows Server 2012 R2 Standard / x64  OK  OK  WARNINGS  OK UNNEEDED, same version exists in internal repository
merida1 macOS 10.14.6 Mojave / x86_64  OK [ OK ] OK  OK UNNEEDED, same version exists in internal repository

Summary

Package: a4Base
Version: 1.38.0
Command: /Library/Frameworks/R.framework/Versions/Current/Resources/bin/R CMD build --keep-empty-dirs --no-resave-data a4Base
StartedAt: 2020-11-25 18:06:34 -0500 (Wed, 25 Nov 2020)
EndedAt: 2020-11-25 18:06:35 -0500 (Wed, 25 Nov 2020)
EllapsedTime: 1.1 seconds
RetCode: 0
Status:  OK 
PackageFile: a4Base_1.38.0.tar.gz
PackageFileSize: 366.5 KiB

Command output

##############################################################################
##############################################################################
###
### Running command:
###
###   /Library/Frameworks/R.framework/Versions/Current/Resources/bin/R CMD build --keep-empty-dirs --no-resave-data a4Base
###
##############################################################################
##############################################################################


* checking for file ‘a4Base/DESCRIPTION’ ... OK
* preparing ‘a4Base’:
* checking DESCRIPTION meta-information ... OK
* checking for LF line-endings in source and make files and shell scripts
* checking for empty or unneeded directories
* looking to see if a ‘data/datalist’ file should be added
* building ‘a4Base_1.38.0.tar.gz’