Back to Multiple platform build/check report for BioC 3.12
AB[C]DEFGHIJKLMNOPQRSTUVWXYZ

INSTALL report for Cardinal on nebbiolo1

This page was generated on 2020-10-01 10:49:11 -0400 (Thu, 01 Oct 2020).

TO THE DEVELOPERS/MAINTAINERS OF THE Cardinal PACKAGE: Please make sure to use the following settings in order to reproduce any error or warning you see on this page.
Package 226/1923HostnameOS / ArchINSTALLBUILDCHECKBUILD BIN
Cardinal 2.7.1
Kylie A. Bemis
Snapshot Date: 2020-09-30 14:42:00 -0400 (Wed, 30 Sep 2020)
URL: https://git.bioconductor.org/packages/Cardinal
Branch: master
Last Commit: f5d2c75
Last Changed Date: 2020-09-20 15:21:28 -0400 (Sun, 20 Sep 2020)
malbec1 Linux (Ubuntu 18.04.4 LTS) / x86_64  OK  OK  OK UNNEEDED, same version exists in internal repository
nebbiolo1 Linux (Ubuntu 20.04.1 LTS) / x86_64 [ OK ] OK  OK 
tokay1 Windows Server 2012 R2 Standard / x64  OK  OK  OK  OK UNNEEDED, same version exists in internal repository
riesling1 Windows Server 2019 Standard / x64  OK  OK  OK  OK 
merida1 macOS 10.14.6 Mojave / x86_64  OK  OK  OK  NA 

Summary

Package: Cardinal
Version: 2.7.1
Command: /home/biocbuild/bbs-3.12-bioc/R/bin/R CMD INSTALL Cardinal
StartedAt: 2020-09-30 16:29:46 -0400 (Wed, 30 Sep 2020)
EndedAt: 2020-09-30 16:30:54 -0400 (Wed, 30 Sep 2020)
EllapsedTime: 68.2 seconds
RetCode: 0
Status:  OK 

Command output

##############################################################################
##############################################################################
###
### Running command:
###
###   /home/biocbuild/bbs-3.12-bioc/R/bin/R CMD INSTALL Cardinal
###
##############################################################################
##############################################################################


* installing to library ‘/home/biocbuild/bbs-3.12-bioc/R/library’
* installing *source* package ‘Cardinal’ ...
** using staged installation
** libs
g++ -std=gnu++11 -I"/home/biocbuild/bbs-3.12-bioc/R/include" -DNDEBUG   -I/usr/local/include   -fpic  -g -O2  -Wall -c DIP.cpp -o DIP.o
g++ -std=gnu++11 -I"/home/biocbuild/bbs-3.12-bioc/R/include" -DNDEBUG   -I/usr/local/include   -fpic  -g -O2  -Wall -c dynAlign.cpp -o dynAlign.o
g++ -std=gnu++11 -I"/home/biocbuild/bbs-3.12-bioc/R/include" -DNDEBUG   -I/usr/local/include   -fpic  -g -O2  -Wall -c imzML.cpp -o imzML.o
g++ -std=gnu++11 -I"/home/biocbuild/bbs-3.12-bioc/R/include" -DNDEBUG   -I/usr/local/include   -fpic  -g -O2  -Wall -c init.cpp -o init.o
g++ -std=gnu++11 -I"/home/biocbuild/bbs-3.12-bioc/R/include" -DNDEBUG   -I/usr/local/include   -fpic  -g -O2  -Wall -c pugixml.cpp -o pugixml.o
g++ -std=gnu++11 -I"/home/biocbuild/bbs-3.12-bioc/R/include" -DNDEBUG   -I/usr/local/include   -fpic  -g -O2  -Wall -c spatial.cpp -o spatial.o
g++ -std=gnu++11 -I"/home/biocbuild/bbs-3.12-bioc/R/include" -DNDEBUG   -I/usr/local/include   -fpic  -g -O2  -Wall -c utils.cpp -o utils.o
g++ -std=gnu++11 -shared -L/home/biocbuild/bbs-3.12-bioc/R/lib -L/usr/local/lib -o Cardinal.so DIP.o dynAlign.o imzML.o init.o pugixml.o spatial.o utils.o -L/home/biocbuild/bbs-3.12-bioc/R/lib -lR
installing to /home/biocbuild/bbs-3.12-bioc/R/library/00LOCK-Cardinal/00new/Cardinal/libs
** R
** inst
** byte-compile and prepare package for lazy loading
** help
*** installing help indices
** building package indices
** installing vignettes
** testing if installed package can be loaded from temporary location
** checking absolute paths in shared objects and dynamic libraries
** testing if installed package can be loaded from final location
** testing if installed package keeps a record of temporary installation path
* DONE (Cardinal)