Back to Multiple platform build/check report for BioC 3.12
AB[C]DEFGHIJKLMNOPQRSTUVWXYZ

BUILD report for CancerInSilico on nebbiolo1

This page was generated on 2020-09-28 11:12:41 -0400 (Mon, 28 Sep 2020).

TO THE DEVELOPERS/MAINTAINERS OF THE CancerInSilico PACKAGE: Please make sure to use the following settings in order to reproduce any error or warning you see on this page.
Package 221/1923HostnameOS / ArchINSTALLBUILDCHECKBUILD BIN
CancerInSilico 2.9.0
Thomas D. Sherman
Snapshot Date: 2020-09-27 14:41:58 -0400 (Sun, 27 Sep 2020)
URL: https://git.bioconductor.org/packages/CancerInSilico
Branch: master
Last Commit: e1cdc81
Last Changed Date: 2020-04-27 15:02:23 -0400 (Mon, 27 Apr 2020)
malbec1 Linux (Ubuntu 18.04.4 LTS) / x86_64  OK  OK  OK UNNEEDED, same version exists in internal repository
nebbiolo1 Linux (Ubuntu 20.04.1 LTS) / x86_64  OK [ OK ] OK 
tokay1 Windows Server 2012 R2 Standard / x64  OK  OK  OK  OK UNNEEDED, same version exists in internal repository
riesling1 Windows Server 2019 Standard / x64  OK  OK  OK  OK 
merida1 macOS 10.14.6 Mojave / x86_64  OK  OK  OK  OK UNNEEDED, same version exists in internal repository

Summary

Package: CancerInSilico
Version: 2.9.0
Command: /home/biocbuild/bbs-3.12-bioc/R/bin/R CMD build --keep-empty-dirs --no-resave-data CancerInSilico
StartedAt: 2020-09-27 18:38:32 -0400 (Sun, 27 Sep 2020)
EndedAt: 2020-09-27 18:40:30 -0400 (Sun, 27 Sep 2020)
EllapsedTime: 118.2 seconds
RetCode: 0
Status:  OK 
PackageFile: CancerInSilico_2.9.0.tar.gz
PackageFileSize: 2.288 MiB

Command output

##############################################################################
##############################################################################
###
### Running command:
###
###   /home/biocbuild/bbs-3.12-bioc/R/bin/R CMD build --keep-empty-dirs --no-resave-data CancerInSilico
###
##############################################################################
##############################################################################


* checking for file ‘CancerInSilico/DESCRIPTION’ ... OK
* preparing ‘CancerInSilico’:
* checking DESCRIPTION meta-information ... OK
* cleaning src
* installing the package to build vignettes
* creating vignettes ... OK
* cleaning src
* checking for LF line-endings in source and make files and shell scripts
* checking for empty or unneeded directories
WARNING: directory ‘CancerInSilico/inst/scripts’ is empty
* looking to see if a ‘data/datalist’ file should be added
* building ‘CancerInSilico_2.9.0.tar.gz’