Back to Multiple platform build/check report for BioC 3.12 |
|
This page was generated on 2021-05-06 12:30:07 -0400 (Thu, 06 May 2021).
To the developers/maintainers of the CAnD package: Please make sure to use the following settings in order to reproduce any error or warning you see on this page. |
Package 232/1974 | Hostname | OS / Arch | INSTALL | BUILD | CHECK | BUILD BIN | ||||||||
CAnD 1.22.0 (landing page) Caitlin McHugh
| malbec1 | Linux (Ubuntu 18.04.5 LTS) / x86_64 | OK | OK | OK | |||||||||
tokay1 | Windows Server 2012 R2 Standard / x64 | OK | OK | OK | OK | |||||||||
merida1 | macOS 10.14.6 Mojave / x86_64 | OK | OK | OK | OK | |||||||||
Package: CAnD |
Version: 1.22.0 |
Command: rm -rf CAnD.buildbin-libdir && mkdir CAnD.buildbin-libdir && C:\Users\biocbuild\bbs-3.12-bioc\R\bin\R.exe CMD INSTALL --merge-multiarch --build --library=CAnD.buildbin-libdir CAnD_1.22.0.tar.gz |
StartedAt: 2021-05-06 08:37:33 -0400 (Thu, 06 May 2021) |
EndedAt: 2021-05-06 08:38:08 -0400 (Thu, 06 May 2021) |
EllapsedTime: 35.1 seconds |
RetCode: 0 |
Status: OK |
PackageFile: CAnD_1.22.0.zip |
PackageFileSize: 443.4 KiB |
############################################################################## ############################################################################## ### ### Running command: ### ### rm -rf CAnD.buildbin-libdir && mkdir CAnD.buildbin-libdir && C:\Users\biocbuild\bbs-3.12-bioc\R\bin\R.exe CMD INSTALL --merge-multiarch --build --library=CAnD.buildbin-libdir CAnD_1.22.0.tar.gz ### ############################################################################## ############################################################################## install for i386 * installing *source* package 'CAnD' ... ** using staged installation ** R ** data ** inst ** byte-compile and prepare package for lazy loading ** help *** installing help indices converting help for package 'CAnD' finding HTML links ... done BonfCorr-method html CAnD html CAnDResult-class html ancestries html barPlotAncest html calc_combP html getDiffMatrices html overallStatistic-method html overallpValue-method html pValues-method html plotPvals html test-method html ** building package indices ** installing vignettes ** testing if installed package can be loaded from temporary location ** testing if installed package can be loaded from final location ** testing if installed package keeps a record of temporary installation path install for x64 * installing *source* package 'CAnD' ... ** testing if installed package can be loaded * MD5 sums packaged installation of 'CAnD' as CAnD_1.22.0.zip * DONE (CAnD)