Back to Multiple platform build/check report for BioC 3.12
A[B]CDEFGHIJKLMNOPQRSTUVWXYZ

BUILD report for BridgeDbR on nebbiolo1

This page was generated on 2020-09-27 10:14:40 -0400 (Sun, 27 Sep 2020).

TO THE DEVELOPERS/MAINTAINERS OF THE BridgeDbR PACKAGE: Please make sure to use the following settings in order to reproduce any error or warning you see on this page.
Package 202/1923HostnameOS / ArchINSTALLBUILDCHECKBUILD BIN
BridgeDbR 1.23.1
Egon Willighagen
Snapshot Date: 2020-09-26 14:42:06 -0400 (Sat, 26 Sep 2020)
URL: https://git.bioconductor.org/packages/BridgeDbR
Branch: master
Last Commit: a8769f4
Last Changed Date: 2020-09-01 14:42:27 -0400 (Tue, 01 Sep 2020)
malbec1 Linux (Ubuntu 18.04.4 LTS) / x86_64  OK  OK  OK UNNEEDED, same version exists in internal repository
nebbiolo1 Linux (Ubuntu 20.04.1 LTS) / x86_64  OK [ OK ] OK 
tokay1 Windows Server 2012 R2 Standard / x64  OK  OK  OK  OK UNNEEDED, same version exists in internal repository
riesling1 Windows Server 2019 Standard / x64  OK  OK  OK  OK 
merida1 macOS 10.14.6 Mojave / x86_64  OK  OK  OK  OK UNNEEDED, same version exists in internal repository

Summary

Package: BridgeDbR
Version: 1.23.1
Command: /home/biocbuild/bbs-3.12-bioc/R/bin/R CMD build --keep-empty-dirs --no-resave-data BridgeDbR
StartedAt: 2020-09-26 18:18:01 -0400 (Sat, 26 Sep 2020)
EndedAt: 2020-09-26 18:18:19 -0400 (Sat, 26 Sep 2020)
EllapsedTime: 17.6 seconds
RetCode: 0
Status:  OK 
PackageFile: BridgeDbR_1.23.1.tar.gz
PackageFileSize: 2.588 MiB

Command output

##############################################################################
##############################################################################
###
### Running command:
###
###   /home/biocbuild/bbs-3.12-bioc/R/bin/R CMD build --keep-empty-dirs --no-resave-data BridgeDbR
###
##############################################################################
##############################################################################


* checking for file ‘BridgeDbR/DESCRIPTION’ ... OK
* preparing ‘BridgeDbR’:
* checking DESCRIPTION meta-information ... OK
* installing the package to build vignettes
* creating vignettes ... OK
* checking for LF line-endings in source and make files and shell scripts
* checking for empty or unneeded directories
* building ‘BridgeDbR_1.23.1.tar.gz’