Back to Multiple platform build/check report for BioC 3.12
A[B]CDEFGHIJKLMNOPQRSTUVWXYZ

BUILD report for BitSeq on merida1

This page was generated on 2020-11-23 12:24:24 -0500 (Mon, 23 Nov 2020).

TO THE DEVELOPERS/MAINTAINERS OF THE BitSeq PACKAGE: Please make sure to use the following settings in order to reproduce any error or warning you see on this page.
Package 194/1974HostnameOS / ArchINSTALLBUILDCHECKBUILD BIN
BitSeq 1.34.0
Antti Honkela , Panagiotis Papastamoulis
Snapshot Date: 2020-11-22 14:42:09 -0500 (Sun, 22 Nov 2020)
URL: https://git.bioconductor.org/packages/BitSeq
Branch: RELEASE_3_12
Last Commit: 46472fc
Last Changed Date: 2020-10-27 10:45:24 -0500 (Tue, 27 Oct 2020)
malbec1 Linux (Ubuntu 18.04.4 LTS) / x86_64  OK  OK  WARNINGS UNNEEDED, same version exists in internal repository
nebbiolo1 Linux (Ubuntu 20.04.1 LTS) / x86_64  OK  OK  WARNINGS 
tokay1 Windows Server 2012 R2 Standard / x64  OK  OK  WARNINGS  OK UNNEEDED, same version exists in internal repository
merida1 macOS 10.14.6 Mojave / x86_64  OK [ OK ] WARNINGS  OK UNNEEDED, same version exists in internal repository

Summary

Package: BitSeq
Version: 1.34.0
Command: /Library/Frameworks/R.framework/Versions/Current/Resources/bin/R CMD build --keep-empty-dirs --no-resave-data BitSeq
StartedAt: 2020-11-22 18:20:47 -0500 (Sun, 22 Nov 2020)
EndedAt: 2020-11-22 18:22:45 -0500 (Sun, 22 Nov 2020)
EllapsedTime: 118.4 seconds
RetCode: 0
Status:  OK 
PackageFile: BitSeq_1.34.0.tar.gz
PackageFileSize: 1.169 MiB

Command output

##############################################################################
##############################################################################
###
### Running command:
###
###   /Library/Frameworks/R.framework/Versions/Current/Resources/bin/R CMD build --keep-empty-dirs --no-resave-data BitSeq
###
##############################################################################
##############################################################################


* checking for file ‘BitSeq/DESCRIPTION’ ... OK
* preparing ‘BitSeq’:
* checking DESCRIPTION meta-information ... OK
* cleaning src
* running ‘cleanup’
* installing the package to build vignettes
* creating vignettes ... OK
* cleaning src
* running ‘cleanup’
* checking for LF line-endings in source and make files and shell scripts
* checking for empty or unneeded directories
* building ‘BitSeq_1.34.0.tar.gz’