Back to Multiple platform build/check report for BioC 3.12
A[B]CDEFGHIJKLMNOPQRSTUVWXYZ

INSTALL report for BiocVersion on tokay1

This page was generated on 2020-11-24 11:57:36 -0500 (Tue, 24 Nov 2020).

TO THE DEVELOPERS/MAINTAINERS OF THE BiocVersion PACKAGE: Please make sure to use the following settings in order to reproduce any error or warning you see on this page.
Package 173/1974HostnameOS / ArchINSTALLBUILDCHECKBUILD BIN
BiocVersion 3.12.0
Bioconductor Package Maintainer
Snapshot Date: 2020-11-23 14:42:42 -0500 (Mon, 23 Nov 2020)
URL: https://git.bioconductor.org/packages/BiocVersion
Branch: RELEASE_3_12
Last Commit: 23b9719
Last Changed Date: 2020-04-27 15:16:58 -0500 (Mon, 27 Apr 2020)
malbec1 Linux (Ubuntu 18.04.4 LTS) / x86_64  OK  OK  OK UNNEEDED, same version exists in internal repository
nebbiolo1 Linux (Ubuntu 20.04.1 LTS) / x86_64  OK  OK  OK 
tokay1 Windows Server 2012 R2 Standard / x64 [ OK ] OK  OK  OK UNNEEDED, same version exists in internal repository
merida1 macOS 10.14.6 Mojave / x86_64  OK  OK  OK  OK UNNEEDED, same version exists in internal repository

Summary

Package: BiocVersion
Version: 3.12.0
Command: C:\cygwin\bin\curl.exe -O https://malbec1.bioconductor.org/BBS/3.12/bioc/src/contrib/BiocVersion_3.12.0.tar.gz && rm -rf BiocVersion.buildbin-libdir && mkdir BiocVersion.buildbin-libdir && C:\Users\biocbuild\bbs-3.12-bioc\R\bin\R.exe CMD INSTALL --merge-multiarch --build --library=BiocVersion.buildbin-libdir BiocVersion_3.12.0.tar.gz && C:\Users\biocbuild\bbs-3.12-bioc\R\bin\R.exe CMD INSTALL BiocVersion_3.12.0.zip && rm BiocVersion_3.12.0.tar.gz BiocVersion_3.12.0.zip
StartedAt: 2020-11-23 16:36:45 -0500 (Mon, 23 Nov 2020)
EndedAt: 2020-11-23 16:37:02 -0500 (Mon, 23 Nov 2020)
EllapsedTime: 16.7 seconds
RetCode: 0
Status:  OK  

Command output

##############################################################################
##############################################################################
###
### Running command:
###
###   C:\cygwin\bin\curl.exe -O https://malbec1.bioconductor.org/BBS/3.12/bioc/src/contrib/BiocVersion_3.12.0.tar.gz && rm -rf BiocVersion.buildbin-libdir && mkdir BiocVersion.buildbin-libdir && C:\Users\biocbuild\bbs-3.12-bioc\R\bin\R.exe CMD INSTALL --merge-multiarch --build --library=BiocVersion.buildbin-libdir BiocVersion_3.12.0.tar.gz && C:\Users\biocbuild\bbs-3.12-bioc\R\bin\R.exe CMD INSTALL BiocVersion_3.12.0.zip && rm BiocVersion_3.12.0.tar.gz BiocVersion_3.12.0.zip
###
##############################################################################
##############################################################################


  % Total    % Received % Xferd  Average Speed   Time    Time     Time  Current
                                 Dload  Upload   Total   Spent    Left  Speed

  0     0    0     0    0     0      0      0 --:--:-- --:--:-- --:--:--     0
100   748  100   748    0     0  20352      0 --:--:-- --:--:-- --:--:-- 22666

install for i386

* installing *source* package 'BiocVersion' ...
** using staged installation
** help
*** installing help indices
  converting help for package 'BiocVersion'
    finding HTML links ... done
    BiocVersion-pkg                         html  
** building package indices
** testing if installed package can be loaded from temporary location
** testing if installed package can be loaded from final location
** testing if installed package keeps a record of temporary installation path

install for x64

* installing *source* package 'BiocVersion' ...
** testing if installed package can be loaded
* MD5 sums
packaged installation of 'BiocVersion' as BiocVersion_3.12.0.zip
* DONE (BiocVersion)
* installing to library 'C:/Users/biocbuild/bbs-3.12-bioc/R/library'
package 'BiocVersion' successfully unpacked and MD5 sums checked