Back to Multiple platform build/check report for BioC 3.12
A[B]CDEFGHIJKLMNOPQRSTUVWXYZ

BUILD BIN report for BiocVersion on tokay1

This page was generated on 2021-01-24 11:53:43 -0500 (Sun, 24 Jan 2021).

TO THE DEVELOPERS/MAINTAINERS OF THE BiocVersion PACKAGE: Please make sure to use the following settings in order to reproduce any error or warning you see on this page.
Package 173/1974HostnameOS / ArchINSTALLBUILDCHECKBUILD BIN
BiocVersion 3.12.0
Bioconductor Package Maintainer
Snapshot Date: 2021-01-23 14:40:16 -0500 (Sat, 23 Jan 2021)
URL: https://git.bioconductor.org/packages/BiocVersion
Branch: RELEASE_3_12
Last Commit: 23b9719
Last Changed Date: 2020-04-27 15:16:58 -0500 (Mon, 27 Apr 2020)
malbec1 Linux (Ubuntu 18.04.5 LTS) / x86_64  OK  OK  OK UNNEEDED, same version exists in internal repository
nebbiolo1 Linux (Ubuntu 20.04.1 LTS) / x86_64  OK  OK  OK 
tokay1 Windows Server 2012 R2 Standard / x64  OK  OK  OK [ OK ]UNNEEDED, same version exists in internal repository
merida1 macOS 10.14.6 Mojave / x86_64  OK  OK  OK  OK UNNEEDED, same version exists in internal repository

Summary

Package: BiocVersion
Version: 3.12.0
Command: rm -rf BiocVersion.buildbin-libdir && mkdir BiocVersion.buildbin-libdir && C:\Users\biocbuild\bbs-3.12-bioc\R\bin\R.exe CMD INSTALL --merge-multiarch --build --library=BiocVersion.buildbin-libdir BiocVersion_3.12.0.tar.gz
StartedAt: 2021-01-24 08:52:17 -0500 (Sun, 24 Jan 2021)
EndedAt: 2021-01-24 08:53:01 -0500 (Sun, 24 Jan 2021)
EllapsedTime: 44.2 seconds
RetCode: 0
Status:  OK  
PackageFile: BiocVersion_3.12.0.zip
PackageFileSize: 8.724 KiB

Command output

##############################################################################
##############################################################################
###
### Running command:
###
###   rm -rf BiocVersion.buildbin-libdir && mkdir BiocVersion.buildbin-libdir && C:\Users\biocbuild\bbs-3.12-bioc\R\bin\R.exe CMD INSTALL --merge-multiarch --build --library=BiocVersion.buildbin-libdir BiocVersion_3.12.0.tar.gz
###
##############################################################################
##############################################################################



install for i386

* installing *source* package 'BiocVersion' ...
** using staged installation
** help
*** installing help indices
  converting help for package 'BiocVersion'
    finding HTML links ... done
    BiocVersion-pkg                         html  
** building package indices
** testing if installed package can be loaded from temporary location
** testing if installed package can be loaded from final location
** testing if installed package keeps a record of temporary installation path

install for x64

* installing *source* package 'BiocVersion' ...
** testing if installed package can be loaded
* MD5 sums
packaged installation of 'BiocVersion' as BiocVersion_3.12.0.zip
* DONE (BiocVersion)