Back to Multiple platform build/check report for BioC 3.12
A[B]CDEFGHIJKLMNOPQRSTUVWXYZ

BUILD report for BiocVersion on merida1

This page was generated on 2021-01-24 11:56:43 -0500 (Sun, 24 Jan 2021).

TO THE DEVELOPERS/MAINTAINERS OF THE BiocVersion PACKAGE: Please make sure to use the following settings in order to reproduce any error or warning you see on this page.
Package 173/1974HostnameOS / ArchINSTALLBUILDCHECKBUILD BIN
BiocVersion 3.12.0
Bioconductor Package Maintainer
Snapshot Date: 2021-01-23 14:40:16 -0500 (Sat, 23 Jan 2021)
URL: https://git.bioconductor.org/packages/BiocVersion
Branch: RELEASE_3_12
Last Commit: 23b9719
Last Changed Date: 2020-04-27 15:16:58 -0500 (Mon, 27 Apr 2020)
malbec1 Linux (Ubuntu 18.04.5 LTS) / x86_64  OK  OK  OK UNNEEDED, same version exists in internal repository
nebbiolo1 Linux (Ubuntu 20.04.1 LTS) / x86_64  OK  OK  OK 
tokay1 Windows Server 2012 R2 Standard / x64  OK  OK  OK  OK UNNEEDED, same version exists in internal repository
merida1 macOS 10.14.6 Mojave / x86_64  OK [ OK ] OK  OK UNNEEDED, same version exists in internal repository

Summary

Package: BiocVersion
Version: 3.12.0
Command: /Library/Frameworks/R.framework/Versions/Current/Resources/bin/R CMD build --keep-empty-dirs --no-resave-data BiocVersion
StartedAt: 2021-01-23 18:22:00 -0500 (Sat, 23 Jan 2021)
EndedAt: 2021-01-23 18:22:05 -0500 (Sat, 23 Jan 2021)
EllapsedTime: 5.3 seconds
RetCode: 0
Status:  OK 
PackageFile: BiocVersion_3.12.0.tar.gz
PackageFileSize: 993 bytes

Command output

##############################################################################
##############################################################################
###
### Running command:
###
###   /Library/Frameworks/R.framework/Versions/Current/Resources/bin/R CMD build --keep-empty-dirs --no-resave-data BiocVersion
###
##############################################################################
##############################################################################


* checking for file ‘BiocVersion/DESCRIPTION’ ... OK
* preparing ‘BiocVersion’:
* checking DESCRIPTION meta-information ... OK
* checking for LF line-endings in source and make files and shell scripts
* checking for empty or unneeded directories
* creating default NAMESPACE file
* building ‘BiocVersion_3.12.0.tar.gz’