Back to Multiple platform build/check report for BioC 3.12
A[B]CDEFGHIJKLMNOPQRSTUVWXYZ

BUILD BIN report for BiocStyle on tokay1

This page was generated on 2021-01-25 11:52:18 -0500 (Mon, 25 Jan 2021).

TO THE DEVELOPERS/MAINTAINERS OF THE BiocStyle PACKAGE: Please make sure to use the following settings in order to reproduce any error or warning you see on this page.
Package 171/1974HostnameOS / ArchINSTALLBUILDCHECKBUILD BIN
BiocStyle 2.18.1
Bioconductor Package Maintainer
Snapshot Date: 2021-01-24 14:40:16 -0500 (Sun, 24 Jan 2021)
URL: https://git.bioconductor.org/packages/BiocStyle
Branch: RELEASE_3_12
Last Commit: 956f065
Last Changed Date: 2020-11-24 04:50:38 -0500 (Tue, 24 Nov 2020)
malbec1 Linux (Ubuntu 18.04.5 LTS) / x86_64  OK  OK  OK UNNEEDED, same version exists in internal repository
nebbiolo1 Linux (Ubuntu 20.04.1 LTS) / x86_64  OK  OK  OK 
tokay1 Windows Server 2012 R2 Standard / x64  OK  OK  OK [ OK ]UNNEEDED, same version exists in internal repository
merida1 macOS 10.14.6 Mojave / x86_64  OK  OK  OK  OK UNNEEDED, same version exists in internal repository

Summary

Package: BiocStyle
Version: 2.18.1
Command: rm -rf BiocStyle.buildbin-libdir && mkdir BiocStyle.buildbin-libdir && C:\Users\biocbuild\bbs-3.12-bioc\R\bin\R.exe CMD INSTALL --merge-multiarch --build --library=BiocStyle.buildbin-libdir BiocStyle_2.18.1.tar.gz
StartedAt: 2021-01-25 08:46:21 -0500 (Mon, 25 Jan 2021)
EndedAt: 2021-01-25 08:47:05 -0500 (Mon, 25 Jan 2021)
EllapsedTime: 43.6 seconds
RetCode: 0
Status:  OK  
PackageFile: BiocStyle_2.18.1.zip
PackageFileSize: 766.4 KiB

Command output

##############################################################################
##############################################################################
###
### Running command:
###
###   rm -rf BiocStyle.buildbin-libdir && mkdir BiocStyle.buildbin-libdir && C:\Users\biocbuild\bbs-3.12-bioc\R\bin\R.exe CMD INSTALL --merge-multiarch --build --library=BiocStyle.buildbin-libdir BiocStyle_2.18.1.tar.gz
###
##############################################################################
##############################################################################



install for i386

* installing *source* package 'BiocStyle' ...
** using staged installation
** R
** inst
** byte-compile and prepare package for lazy loading
** help
*** installing help indices
  converting help for package 'BiocStyle'
    finding HTML links ... done
    BiocStyle-defunct                       html  
    helpers                                 html  
    html_document                           html  
    latex                                   html  
    macros                                  html  
    markdown                                html  
    md_document                             html  
    output                                  html  
    pdf_document                            html  
    finding level-2 HTML links ... done

    use_vignette                            html  
** building package indices
** installing vignettes
** testing if installed package can be loaded from temporary location
** testing if installed package can be loaded from final location
** testing if installed package keeps a record of temporary installation path

install for x64

* installing *source* package 'BiocStyle' ...
** testing if installed package can be loaded
* MD5 sums
packaged installation of 'BiocStyle' as BiocStyle_2.18.1.zip
* DONE (BiocStyle)