Back to Multiple platform build/check report for BioC 3.12
A[B]CDEFGHIJKLMNOPQRSTUVWXYZ

INSTALL report for BiocSklearn on merida1

This page was generated on 2020-11-26 12:23:32 -0500 (Thu, 26 Nov 2020).

TO THE DEVELOPERS/MAINTAINERS OF THE BiocSklearn PACKAGE: Please make sure to use the following settings in order to reproduce any error or warning you see on this page.
Package 170/1974HostnameOS / ArchINSTALLBUILDCHECKBUILD BIN
BiocSklearn 1.12.0
VJ Carey
Snapshot Date: 2020-11-25 14:42:33 -0500 (Wed, 25 Nov 2020)
URL: https://git.bioconductor.org/packages/BiocSklearn
Branch: RELEASE_3_12
Last Commit: 285cf6f
Last Changed Date: 2020-10-27 11:26:17 -0500 (Tue, 27 Oct 2020)
malbec1 Linux (Ubuntu 18.04.4 LTS) / x86_64  OK  OK  OK UNNEEDED, same version exists in internal repository
nebbiolo1 Linux (Ubuntu 20.04.1 LTS) / x86_64  OK  OK  OK 
tokay1 Windows Server 2012 R2 Standard / x64  OK  OK  OK  OK UNNEEDED, same version exists in internal repository
merida1 macOS 10.14.6 Mojave / x86_64 [ OK ] OK  OK  OK UNNEEDED, same version exists in internal repository

Summary

Package: BiocSklearn
Version: 1.12.0
Command: /Library/Frameworks/R.framework/Versions/Current/Resources/bin/R CMD INSTALL BiocSklearn
StartedAt: 2020-11-25 16:53:31 -0500 (Wed, 25 Nov 2020)
EndedAt: 2020-11-25 16:53:53 -0500 (Wed, 25 Nov 2020)
EllapsedTime: 22.1 seconds
RetCode: 0
Status:  OK 

Command output

##############################################################################
##############################################################################
###
### Running command:
###
###   /Library/Frameworks/R.framework/Versions/Current/Resources/bin/R CMD INSTALL BiocSklearn
###
##############################################################################
##############################################################################


* installing to library ‘/Library/Frameworks/R.framework/Versions/4.0/Resources/library’
* installing *source* package ‘BiocSklearn’ ...
** using non-staged installation via StagedInstall field
** R
** inst
** byte-compile and prepare package for lazy loading
** help
*** installing help indices
** building package indices
** installing vignettes
** testing if installed package can be loaded
* DONE (BiocSklearn)