Back to Multiple platform build/check report for BioC 3.12
A[B]CDEFGHIJKLMNOPQRSTUVWXYZ

BUILD report for BiocPkgTools on merida1

This page was generated on 2020-11-24 12:00:38 -0500 (Tue, 24 Nov 2020).

TO THE DEVELOPERS/MAINTAINERS OF THE BiocPkgTools PACKAGE: Please make sure to use the following settings in order to reproduce any error or warning you see on this page.
Package 167/1974HostnameOS / ArchINSTALLBUILDCHECKBUILD BIN
BiocPkgTools 1.8.0
Sean Davis
Snapshot Date: 2020-11-23 14:42:42 -0500 (Mon, 23 Nov 2020)
URL: https://git.bioconductor.org/packages/BiocPkgTools
Branch: RELEASE_3_12
Last Commit: cfc9602
Last Changed Date: 2020-10-27 11:38:35 -0500 (Tue, 27 Oct 2020)
malbec1 Linux (Ubuntu 18.04.4 LTS) / x86_64  OK  OK  OK UNNEEDED, same version exists in internal repository
nebbiolo1 Linux (Ubuntu 20.04.1 LTS) / x86_64  OK  OK  OK 
tokay1 Windows Server 2012 R2 Standard / x64  OK  OK  OK  OK UNNEEDED, same version exists in internal repository
merida1 macOS 10.14.6 Mojave / x86_64  OK [ OK ] OK  OK UNNEEDED, same version exists in internal repository

Summary

Package: BiocPkgTools
Version: 1.8.0
Command: /Library/Frameworks/R.framework/Versions/Current/Resources/bin/R CMD build --keep-empty-dirs --no-resave-data BiocPkgTools
StartedAt: 2020-11-23 18:23:36 -0500 (Mon, 23 Nov 2020)
EndedAt: 2020-11-23 18:24:46 -0500 (Mon, 23 Nov 2020)
EllapsedTime: 69.8 seconds
RetCode: 0
Status:  OK 
PackageFile: BiocPkgTools_1.8.0.tar.gz
PackageFileSize: 1.345 MiB

Command output

##############################################################################
##############################################################################
###
### Running command:
###
###   /Library/Frameworks/R.framework/Versions/Current/Resources/bin/R CMD build --keep-empty-dirs --no-resave-data BiocPkgTools
###
##############################################################################
##############################################################################


* checking for file ‘BiocPkgTools/DESCRIPTION’ ... OK
* preparing ‘BiocPkgTools’:
* checking DESCRIPTION meta-information ... OK
* installing the package to build vignettes
* creating vignettes ... OK
* checking for LF line-endings in source and make files and shell scripts
* checking for empty or unneeded directories
* building ‘BiocPkgTools_1.8.0.tar.gz’