Back to Multiple platform build/check report for BioC 3.12
A[B]CDEFGHIJKLMNOPQRSTUVWXYZ

BUILD report for BiocIO on riesling1

This page was generated on 2020-10-28 13:28:03 -0400 (Wed, 28 Oct 2020).

TO THE DEVELOPERS/MAINTAINERS OF THE BiocIO PACKAGE: Please make sure to use the following settings in order to reproduce any error or warning you see on this page.
Package 162/1974HostnameOS / ArchINSTALLBUILDCHECKBUILD BIN
BiocIO 1.0.0
Bioconductor Package Maintainer
Snapshot Date: 2020-10-27 13:12:07 -0400 (Tue, 27 Oct 2020)
URL: https://git.bioconductor.org/packages/BiocIO
Branch: RELEASE_3_12
Last Commit: 21c9258
Last Changed Date: 2020-10-27 11:59:56 -0400 (Tue, 27 Oct 2020)
malbec1 Linux (Ubuntu 18.04.4 LTS) / x86_64  OK  OK  OK YES, new version is higher than in internal repository
nebbiolo1 Linux (Ubuntu 20.04.1 LTS) / x86_64  OK  OK  OK 
tokay1 Windows Server 2012 R2 Standard / x64  OK  OK  WARNINGS  OK YES, new version is higher than in internal repository
riesling1 Windows Server 2019 Standard / x64  OK [ OK ] WARNINGS  OK 
merida1 macOS 10.14.6 Mojave / x86_64  OK  OK  OK  OK YES, new version is higher than in internal repository

Summary

Package: BiocIO
Version: 1.0.0
Command: chmod a+r BiocIO -R && D:\biocbuild\bbs-3.12-bioc\R\bin\R.exe CMD build --keep-empty-dirs --no-resave-data BiocIO
StartedAt: 2020-10-27 17:57:14 -0400 (Tue, 27 Oct 2020)
EndedAt: 2020-10-27 17:58:39 -0400 (Tue, 27 Oct 2020)
EllapsedTime: 85.4 seconds
RetCode: 0
Status:  OK  
PackageFile: BiocIO_1.0.0.tar.gz
PackageFileSize: 226.5 KiB

Command output

##############################################################################
##############################################################################
###
### Running command:
###
###   chmod a+r BiocIO -R && D:\biocbuild\bbs-3.12-bioc\R\bin\R.exe CMD build --keep-empty-dirs --no-resave-data BiocIO
###
##############################################################################
##############################################################################


* checking for file 'BiocIO/DESCRIPTION' ... OK
* preparing 'BiocIO':
* checking DESCRIPTION meta-information ... OK
* installing the package to build vignettes
* creating vignettes ... OK
* checking for LF line-endings in source and make files and shell scripts
* checking for empty or unneeded directories
* building 'BiocIO_1.0.0.tar.gz'