Back to Multiple platform build/check report for BioC 3.12
A[B]CDEFGHIJKLMNOPQRSTUVWXYZ

BUILD BIN report for BiocIO on merida1

This page was generated on 2021-01-25 11:55:10 -0500 (Mon, 25 Jan 2021).

TO THE DEVELOPERS/MAINTAINERS OF THE BiocIO PACKAGE: Please make sure to use the following settings in order to reproduce any error or warning you see on this page.
Package 162/1974HostnameOS / ArchINSTALLBUILDCHECKBUILD BIN
BiocIO 1.0.1
Bioconductor Package Maintainer
Snapshot Date: 2021-01-24 14:40:16 -0500 (Sun, 24 Jan 2021)
URL: https://git.bioconductor.org/packages/BiocIO
Branch: RELEASE_3_12
Last Commit: 724abe7
Last Changed Date: 2020-11-09 08:42:03 -0500 (Mon, 09 Nov 2020)
malbec1 Linux (Ubuntu 18.04.5 LTS) / x86_64  OK  OK  OK UNNEEDED, same version exists in internal repository
nebbiolo1 Linux (Ubuntu 20.04.1 LTS) / x86_64  OK  OK  OK 
tokay1 Windows Server 2012 R2 Standard / x64  OK  OK  WARNINGS  OK UNNEEDED, same version exists in internal repository
merida1 macOS 10.14.6 Mojave / x86_64  OK  OK  OK [ OK ]UNNEEDED, same version exists in internal repository

Summary

Package: BiocIO
Version: 1.0.1
Command: rm -rf BiocIO.buildbin-libdir && mkdir BiocIO.buildbin-libdir && /Users/biocbuild/BBS/utils/build-universal.sh BiocIO_1.0.1.tar.gz /Library/Frameworks/R.framework/Versions/Current/Resources/bin/R BiocIO.buildbin-libdir
StartedAt: 2021-01-25 07:06:34 -0500 (Mon, 25 Jan 2021)
EndedAt: 2021-01-25 07:07:43 -0500 (Mon, 25 Jan 2021)
EllapsedTime: 68.8 seconds
RetCode: 0
Status:  OK 
PackageFile: BiocIO_1.0.1.tgz
PackageFileSize: 389.9 KiB

Command output

##############################################################################
##############################################################################
###
### Running command:
###
###   rm -rf BiocIO.buildbin-libdir && mkdir BiocIO.buildbin-libdir && /Users/biocbuild/BBS/utils/build-universal.sh BiocIO_1.0.1.tar.gz /Library/Frameworks/R.framework/Versions/Current/Resources/bin/R BiocIO.buildbin-libdir
###
##############################################################################
##############################################################################


>>>>>>> 
>>>>>>> INSTALLATION WITH 'R CMD INSTALL --preclean --no-multiarch --library=BiocIO.buildbin-libdir BiocIO_1.0.1.tar.gz'
>>>>>>> 

* installing *source* package ‘BiocIO’ ...
** using staged installation
** R
** inst
** byte-compile and prepare package for lazy loading
** help
*** installing help indices
** building package indices
** installing vignettes
** testing if installed package can be loaded from temporary location
** testing if installed package can be loaded from final location
** testing if installed package keeps a record of temporary installation path
* DONE (BiocIO)