Back to Multiple platform build/check report for BioC 3.12
A[B]CDEFGHIJKLMNOPQRSTUVWXYZ

INSTALL report for BiocGenerics on tokay1

This page was generated on 2020-09-28 11:16:21 -0400 (Mon, 28 Sep 2020).

TO THE DEVELOPERS/MAINTAINERS OF THE BiocGenerics PACKAGE: Please make sure to use the following settings in order to reproduce any error or warning you see on this page.
Package 153/1923HostnameOS / ArchINSTALLBUILDCHECKBUILD BIN
BiocGenerics 0.35.4
Bioconductor Package Maintainer
Snapshot Date: 2020-09-27 14:41:58 -0400 (Sun, 27 Sep 2020)
URL: https://git.bioconductor.org/packages/BiocGenerics
Branch: master
Last Commit: e6a7726
Last Changed Date: 2020-09-15 01:33:12 -0400 (Tue, 15 Sep 2020)
malbec1 Linux (Ubuntu 18.04.4 LTS) / x86_64  OK  OK  WARNINGS UNNEEDED, same version exists in internal repository
nebbiolo1 Linux (Ubuntu 20.04.1 LTS) / x86_64  OK  OK  WARNINGS 
tokay1 Windows Server 2012 R2 Standard / x64 [ OK ] OK  WARNINGS  OK UNNEEDED, same version exists in internal repository
riesling1 Windows Server 2019 Standard / x64  OK  OK  WARNINGS  OK 
merida1 macOS 10.14.6 Mojave / x86_64  OK  OK  WARNINGS  OK UNNEEDED, same version exists in internal repository

Summary

Package: BiocGenerics
Version: 0.35.4
Command: C:\cygwin\bin\curl.exe -O https://malbec1.bioconductor.org/BBS/3.12/bioc/src/contrib/BiocGenerics_0.35.4.tar.gz && rm -rf BiocGenerics.buildbin-libdir && mkdir BiocGenerics.buildbin-libdir && C:\Users\biocbuild\bbs-3.12-bioc\R\bin\R.exe CMD INSTALL --merge-multiarch --build --library=BiocGenerics.buildbin-libdir BiocGenerics_0.35.4.tar.gz && C:\Users\biocbuild\bbs-3.12-bioc\R\bin\R.exe CMD INSTALL BiocGenerics_0.35.4.zip && rm BiocGenerics_0.35.4.tar.gz BiocGenerics_0.35.4.zip
StartedAt: 2020-09-27 16:50:03 -0400 (Sun, 27 Sep 2020)
EndedAt: 2020-09-27 16:52:31 -0400 (Sun, 27 Sep 2020)
EllapsedTime: 148.8 seconds
RetCode: 0
Status:  OK  

Command output

##############################################################################
##############################################################################
###
### Running command:
###
###   C:\cygwin\bin\curl.exe -O https://malbec1.bioconductor.org/BBS/3.12/bioc/src/contrib/BiocGenerics_0.35.4.tar.gz && rm -rf BiocGenerics.buildbin-libdir && mkdir BiocGenerics.buildbin-libdir && C:\Users\biocbuild\bbs-3.12-bioc\R\bin\R.exe CMD INSTALL --merge-multiarch --build --library=BiocGenerics.buildbin-libdir BiocGenerics_0.35.4.tar.gz && C:\Users\biocbuild\bbs-3.12-bioc\R\bin\R.exe CMD INSTALL BiocGenerics_0.35.4.zip && rm BiocGenerics_0.35.4.tar.gz BiocGenerics_0.35.4.zip
###
##############################################################################
##############################################################################


  % Total    % Received % Xferd  Average Speed   Time    Time     Time  Current
                                 Dload  Upload   Total   Spent    Left  Speed

  0     0    0     0    0     0      0      0 --:--:-- --:--:-- --:--:--     0
100 49108  100 49108    0     0   654k      0 --:--:-- --:--:-- --:--:--  695k

install for i386

* installing *source* package 'BiocGenerics' ...
** using staged installation
** R
** inst
** byte-compile and prepare package for lazy loading
Creating a new generic function for 'append' in package 'BiocGenerics'
Creating a new generic function for 'as.data.frame' in package 'BiocGenerics'
Creating a new generic function for 'cbind' in package 'BiocGenerics'
Creating a new generic function for 'rbind' in package 'BiocGenerics'
Creating a new generic function for 'do.call' in package 'BiocGenerics'
Creating a new generic function for 'duplicated' in package 'BiocGenerics'
Creating a new generic function for 'anyDuplicated' in package 'BiocGenerics'
Creating a new generic function for 'eval' in package 'BiocGenerics'
Creating a new generic function for 'pmax' in package 'BiocGenerics'
Creating a new generic function for 'pmin' in package 'BiocGenerics'
Creating a new generic function for 'pmax.int' in package 'BiocGenerics'
Creating a new generic function for 'pmin.int' in package 'BiocGenerics'
Creating a new generic function for 'Reduce' in package 'BiocGenerics'
Creating a new generic function for 'Filter' in package 'BiocGenerics'
Creating a new generic function for 'Find' in package 'BiocGenerics'
Creating a new generic function for 'Map' in package 'BiocGenerics'
Creating a new generic function for 'Position' in package 'BiocGenerics'
Creating a new generic function for 'get' in package 'BiocGenerics'
Creating a new generic function for 'mget' in package 'BiocGenerics'
Creating a new generic function for 'grep' in package 'BiocGenerics'
Creating a new generic function for 'grepl' in package 'BiocGenerics'
Creating a new generic function for 'is.unsorted' in package 'BiocGenerics'
Creating a new generic function for 'lapply' in package 'BiocGenerics'
Creating a new generic function for 'sapply' in package 'BiocGenerics'
Creating a new generic function for 'mapply' in package 'BiocGenerics'
Creating a new generic function for 'match' in package 'BiocGenerics'
Creating a new generic function for 'order' in package 'BiocGenerics'
Creating a new generic function for 'paste' in package 'BiocGenerics'
Creating a new generic function for 'rank' in package 'BiocGenerics'
Creating a new generic function for 'rownames' in package 'BiocGenerics'
Creating a new generic function for 'colnames' in package 'BiocGenerics'
Creating a new generic function for 'union' in package 'BiocGenerics'
Creating a new generic function for 'intersect' in package 'BiocGenerics'
Creating a new generic function for 'setdiff' in package 'BiocGenerics'
Creating a new generic function for 'sort' in package 'BiocGenerics'
Creating a new generic function for 'table' in package 'BiocGenerics'
Creating a new generic function for 'tapply' in package 'BiocGenerics'
Creating a new generic function for 'unique' in package 'BiocGenerics'
Creating a new generic function for 'unsplit' in package 'BiocGenerics'
Creating a new generic function for 'var' in package 'BiocGenerics'
Creating a new generic function for 'sd' in package 'BiocGenerics'
Creating a new generic function for 'which.min' in package 'BiocGenerics'
Creating a new generic function for 'which.max' in package 'BiocGenerics'
Creating a new generic function for 'IQR' in package 'BiocGenerics'
Creating a new generic function for 'mad' in package 'BiocGenerics'
Creating a new generic function for 'xtabs' in package 'BiocGenerics'
Creating a new generic function for 'clusterCall' in package 'BiocGenerics'
Creating a new generic function for 'clusterApply' in package 'BiocGenerics'
Creating a new generic function for 'clusterApplyLB' in package 'BiocGenerics'
Creating a new generic function for 'clusterEvalQ' in package 'BiocGenerics'
Creating a new generic function for 'clusterExport' in package 'BiocGenerics'
Creating a new generic function for 'clusterMap' in package 'BiocGenerics'
Creating a new generic function for 'parLapply' in package 'BiocGenerics'
Creating a new generic function for 'parSapply' in package 'BiocGenerics'
Creating a new generic function for 'parApply' in package 'BiocGenerics'
Creating a new generic function for 'parRapply' in package 'BiocGenerics'
Creating a new generic function for 'parCapply' in package 'BiocGenerics'
Creating a new generic function for 'parLapplyLB' in package 'BiocGenerics'
Creating a new generic function for 'parSapplyLB' in package 'BiocGenerics'
Creating a new generic function for 'basename' in package 'BiocGenerics'
Creating a new generic function for 'dirname' in package 'BiocGenerics'
** help
*** installing help indices
  converting help for package 'BiocGenerics'
    finding HTML links ... done
    BiocGenerics-package                    html  
Rd warning: C:/Users/biocbuild/bbs-3.12-bioc/tmpdir/Rtmp8Yvh0C/R.INSTALL10b45b05abc/BiocGenerics/man/BiocGenerics-package.Rd:32: file link 'rbind' in package 'BiocGenerics' does not exist and so has been treated as a topic
Rd warning: C:/Users/biocbuild/bbs-3.12-bioc/tmpdir/Rtmp8Yvh0C/R.INSTALL10b45b05abc/BiocGenerics/man/BiocGenerics-package.Rd:36: file link 'rowSums' in package 'BiocGenerics' does not exist and so has been treated as a topic
Rd warning: C:/Users/biocbuild/bbs-3.12-bioc/tmpdir/Rtmp8Yvh0C/R.INSTALL10b45b05abc/BiocGenerics/man/BiocGenerics-package.Rd:37: file link 'colMeans' in package 'BiocGenerics' does not exist and so has been treated as a topic
Rd warning: C:/Users/biocbuild/bbs-3.12-bioc/tmpdir/Rtmp8Yvh0C/R.INSTALL10b45b05abc/BiocGenerics/man/BiocGenerics-package.Rd:38: file link 'rowMeans' in package 'BiocGenerics' does not exist and so has been treated as a topic
Rd warning: C:/Users/biocbuild/bbs-3.12-bioc/tmpdir/Rtmp8Yvh0C/R.INSTALL10b45b05abc/BiocGenerics/man/BiocGenerics-package.Rd:43: file link 'anyDuplicated' in package 'BiocGenerics' does not exist and so has been treated as a topic
Rd warning: C:/Users/biocbuild/bbs-3.12-bioc/tmpdir/Rtmp8Yvh0C/R.INSTALL10b45b05abc/BiocGenerics/man/BiocGenerics-package.Rd:48: file link 'pmax' in package 'BiocGenerics' does not exist and so has been treated as a topic
Rd warning: C:/Users/biocbuild/bbs-3.12-bioc/tmpdir/Rtmp8Yvh0C/R.INSTALL10b45b05abc/BiocGenerics/man/BiocGenerics-package.Rd:49: file link 'pmin' in package 'BiocGenerics' does not exist and so has been treated as a topic
Rd warning: C:/Users/biocbuild/bbs-3.12-bioc/tmpdir/Rtmp8Yvh0C/R.INSTALL10b45b05abc/BiocGenerics/man/BiocGenerics-package.Rd:50: file link 'pmax.int' in package 'BiocGenerics' does not exist and so has been treated as a topic
Rd warning: C:/Users/biocbuild/bbs-3.12-bioc/tmpdir/Rtmp8Yvh0C/R.INSTALL10b45b05abc/BiocGenerics/man/BiocGenerics-package.Rd:51: file link 'pmin.int' in package 'BiocGenerics' does not exist and so has been treated as a topic
Rd warning: C:/Users/biocbuild/bbs-3.12-bioc/tmpdir/Rtmp8Yvh0C/R.INSTALL10b45b05abc/BiocGenerics/man/BiocGenerics-package.Rd:54: file link 'Reduce' in package 'BiocGenerics' does not exist and so has been treated as a topic
Rd warning: C:/Users/biocbuild/bbs-3.12-bioc/tmpdir/Rtmp8Yvh0C/R.INSTALL10b45b05abc/BiocGenerics/man/BiocGenerics-package.Rd:55: file link 'Filter' in package 'BiocGenerics' does not exist and so has been treated as a topic
Rd warning: C:/Users/biocbuild/bbs-3.12-bioc/tmpdir/Rtmp8Yvh0C/R.INSTALL10b45b05abc/BiocGenerics/man/BiocGenerics-package.Rd:56: file link 'Find' in package 'BiocGenerics' does not exist and so has been treated as a topic
Rd warning: C:/Users/biocbuild/bbs-3.12-bioc/tmpdir/Rtmp8Yvh0C/R.INSTALL10b45b05abc/BiocGenerics/man/BiocGenerics-package.Rd:57: file link 'Map' in package 'BiocGenerics' does not exist and so has been treated as a topic
Rd warning: C:/Users/biocbuild/bbs-3.12-bioc/tmpdir/Rtmp8Yvh0C/R.INSTALL10b45b05abc/BiocGenerics/man/BiocGenerics-package.Rd:58: file link 'Position' in package 'BiocGenerics' does not exist and so has been treated as a topic
Rd warning: C:/Users/biocbuild/bbs-3.12-bioc/tmpdir/Rtmp8Yvh0C/R.INSTALL10b45b05abc/BiocGenerics/man/BiocGenerics-package.Rd:61: file link 'mget' in package 'BiocGenerics' does not exist and so has been treated as a topic
Rd warning: C:/Users/biocbuild/bbs-3.12-bioc/tmpdir/Rtmp8Yvh0C/R.INSTALL10b45b05abc/BiocGenerics/man/BiocGenerics-package.Rd:64: file link 'grepl' in package 'BiocGenerics' does not exist and so has been treated as a topic
Rd warning: C:/Users/biocbuild/bbs-3.12-bioc/tmpdir/Rtmp8Yvh0C/R.INSTALL10b45b05abc/BiocGenerics/man/BiocGenerics-package.Rd:69: file link 'sapply' in package 'BiocGenerics' does not exist and so has been treated as a topic
Rd warning: C:/Users/biocbuild/bbs-3.12-bioc/tmpdir/Rtmp8Yvh0C/R.INSTALL10b45b05abc/BiocGenerics/man/BiocGenerics-package.Rd:74: file link '%in%' in package 'BiocGenerics' does not exist and so has been treated as a topic
Rd warning: C:/Users/biocbuild/bbs-3.12-bioc/tmpdir/Rtmp8Yvh0C/R.INSTALL10b45b05abc/BiocGenerics/man/BiocGenerics-package.Rd:77: file link 'ncol' in package 'BiocGenerics' does not exist and so has been treated as a topic
Rd warning: C:/Users/biocbuild/bbs-3.12-bioc/tmpdir/Rtmp8Yvh0C/R.INSTALL10b45b05abc/BiocGenerics/man/BiocGenerics-package.Rd:78: file link 'NROW' in package 'BiocGenerics' does not exist and so has been treated as a topic
Rd warning: C:/Users/biocbuild/bbs-3.12-bioc/tmpdir/Rtmp8Yvh0C/R.INSTALL10b45b05abc/BiocGenerics/man/BiocGenerics-package.Rd:79: file link 'NCOL' in package 'BiocGenerics' does not exist and so has been treated as a topic
Rd warning: C:/Users/biocbuild/bbs-3.12-bioc/tmpdir/Rtmp8Yvh0C/R.INSTALL10b45b05abc/BiocGenerics/man/BiocGenerics-package.Rd:87: file link 'rep.int' in package 'BiocGenerics' does not exist and so has been treated as a topic
Rd warning: C:/Users/biocbuild/bbs-3.12-bioc/tmpdir/Rtmp8Yvh0C/R.INSTALL10b45b05abc/BiocGenerics/man/BiocGenerics-package.Rd:89: file link 'rownames' in package 'BiocGenerics' does not exist and so has been treated as a topic
Rd warning: C:/Users/biocbuild/bbs-3.12-bioc/tmpdir/Rtmp8Yvh0C/R.INSTALL10b45b05abc/BiocGenerics/man/BiocGenerics-package.Rd:90: file link 'rownames<-' in package 'BiocGenerics' does not exist and so has been treated as a topic
Rd warning: C:/Users/biocbuild/bbs-3.12-bioc/tmpdir/Rtmp8Yvh0C/R.INSTALL10b45b05abc/BiocGenerics/man/BiocGenerics-package.Rd:91: file link 'colnames' in package 'BiocGenerics' does not exist and so has been treated as a topic
Rd warning: C:/Users/biocbuild/bbs-3.12-bioc/tmpdir/Rtmp8Yvh0C/R.INSTALL10b45b05abc/BiocGenerics/man/BiocGenerics-package.Rd:92: file link 'colnames<-' in package 'BiocGenerics' does not exist and so has been treated as a topic
Rd warning: C:/Users/biocbuild/bbs-3.12-bioc/tmpdir/Rtmp8Yvh0C/R.INSTALL10b45b05abc/BiocGenerics/man/BiocGenerics-package.Rd:95: file link 'union' in package 'BiocGenerics' does not exist and so has been treated as a topic
Rd warning: C:/Users/biocbuild/bbs-3.12-bioc/tmpdir/Rtmp8Yvh0C/R.INSTALL10b45b05abc/BiocGenerics/man/BiocGenerics-package.Rd:96: file link 'intersect' in package 'BiocGenerics' does not exist and so has been treated as a topic
Rd warning: C:/Users/biocbuild/bbs-3.12-bioc/tmpdir/Rtmp8Yvh0C/R.INSTALL10b45b05abc/BiocGenerics/man/BiocGenerics-package.Rd:97: file link 'setdiff' in package 'BiocGenerics' does not exist and so has been treated as a topic
Rd warning: C:/Users/biocbuild/bbs-3.12-bioc/tmpdir/Rtmp8Yvh0C/R.INSTALL10b45b05abc/BiocGenerics/man/BiocGenerics-package.Rd:102: file link 'start<-' in package 'BiocGenerics' does not exist and so has been treated as a topic
Rd warning: C:/Users/biocbuild/bbs-3.12-bioc/tmpdir/Rtmp8Yvh0C/R.INSTALL10b45b05abc/BiocGenerics/man/BiocGenerics-package.Rd:103: file link 'end' in package 'BiocGenerics' does not exist and so has been treated as a topic
Rd warning: C:/Users/biocbuild/bbs-3.12-bioc/tmpdir/Rtmp8Yvh0C/R.INSTALL10b45b05abc/BiocGenerics/man/BiocGenerics-package.Rd:104: file link 'end<-' in package 'BiocGenerics' does not exist and so has been treated as a topic
Rd warning: C:/Users/biocbuild/bbs-3.12-bioc/tmpdir/Rtmp8Yvh0C/R.INSTALL10b45b05abc/BiocGenerics/man/BiocGenerics-package.Rd:105: file link 'width' in package 'BiocGenerics' does not exist and so has been treated as a topic
Rd warning: C:/Users/biocbuild/bbs-3.12-bioc/tmpdir/Rtmp8Yvh0C/R.INSTALL10b45b05abc/BiocGenerics/man/BiocGenerics-package.Rd:106: file link 'width<-' in package 'BiocGenerics' does not exist and so has been treated as a topic
Rd warning: C:/Users/biocbuild/bbs-3.12-bioc/tmpdir/Rtmp8Yvh0C/R.INSTALL10b45b05abc/BiocGenerics/man/BiocGenerics-package.Rd:107: file link 'pos' in package 'BiocGenerics' does not exist and so has been treated as a topic
Rd warning: C:/Users/biocbuild/bbs-3.12-bioc/tmpdir/Rtmp8Yvh0C/R.INSTALL10b45b05abc/BiocGenerics/man/BiocGenerics-package.Rd:124: file link 'which.max' in package 'BiocGenerics' does not exist and so has been treated as a topic
Rd warning: C:/Users/biocbuild/bbs-3.12-bioc/tmpdir/Rtmp8Yvh0C/R.INSTALL10b45b05abc/BiocGenerics/man/BiocGenerics-package.Rd:152: file link 'clusterCall' in package 'BiocGenerics' does not exist and so has been treated as a topic
Rd warning: C:/Users/biocbuild/bbs-3.12-bioc/tmpdir/Rtmp8Yvh0C/R.INSTALL10b45b05abc/BiocGenerics/man/BiocGenerics-package.Rd:154: file link 'clusterApplyLB' in package 'BiocGenerics' does not exist and so has been treated as a topic
Rd warning: C:/Users/biocbuild/bbs-3.12-bioc/tmpdir/Rtmp8Yvh0C/R.INSTALL10b45b05abc/BiocGenerics/man/BiocGenerics-package.Rd:155: file link 'clusterEvalQ' in package 'BiocGenerics' does not exist and so has been treated as a topic
Rd warning: C:/Users/biocbuild/bbs-3.12-bioc/tmpdir/Rtmp8Yvh0C/R.INSTALL10b45b05abc/BiocGenerics/man/BiocGenerics-package.Rd:156: file link 'clusterExport' in package 'BiocGenerics' does not exist and so has been treated as a topic
Rd warning: C:/Users/biocbuild/bbs-3.12-bioc/tmpdir/Rtmp8Yvh0C/R.INSTALL10b45b05abc/BiocGenerics/man/BiocGenerics-package.Rd:157: file link 'clusterMap' in package 'BiocGenerics' does not exist and so has been treated as a topic
Rd warning: C:/Users/biocbuild/bbs-3.12-bioc/tmpdir/Rtmp8Yvh0C/R.INSTALL10b45b05abc/BiocGenerics/man/BiocGenerics-package.Rd:158: file link 'clusterSplit' in package 'BiocGenerics' does not exist and so has been treated as a topic
Rd warning: C:/Users/biocbuild/bbs-3.12-bioc/tmpdir/Rtmp8Yvh0C/R.INSTALL10b45b05abc/BiocGenerics/man/BiocGenerics-package.Rd:159: file link 'parLapply' in package 'BiocGenerics' does not exist and so has been treated as a topic
Rd warning: C:/Users/biocbuild/bbs-3.12-bioc/tmpdir/Rtmp8Yvh0C/R.INSTALL10b45b05abc/BiocGenerics/man/BiocGenerics-package.Rd:160: file link 'parSapply' in package 'BiocGenerics' does not exist and so has been treated as a topic
Rd warning: C:/Users/biocbuild/bbs-3.12-bioc/tmpdir/Rtmp8Yvh0C/R.INSTALL10b45b05abc/BiocGenerics/man/BiocGenerics-package.Rd:161: file link 'parApply' in package 'BiocGenerics' does not exist and so has been treated as a topic
Rd warning: C:/Users/biocbuild/bbs-3.12-bioc/tmpdir/Rtmp8Yvh0C/R.INSTALL10b45b05abc/BiocGenerics/man/BiocGenerics-package.Rd:162: file link 'parRapply' in package 'BiocGenerics' does not exist and so has been treated as a topic
Rd warning: C:/Users/biocbuild/bbs-3.12-bioc/tmpdir/Rtmp8Yvh0C/R.INSTALL10b45b05abc/BiocGenerics/man/BiocGenerics-package.Rd:163: file link 'parCapply' in package 'BiocGenerics' does not exist and so has been treated as a topic
Rd warning: C:/Users/biocbuild/bbs-3.12-bioc/tmpdir/Rtmp8Yvh0C/R.INSTALL10b45b05abc/BiocGenerics/man/BiocGenerics-package.Rd:164: file link 'parLapplyLB' in package 'BiocGenerics' does not exist and so has been treated as a topic
Rd warning: C:/Users/biocbuild/bbs-3.12-bioc/tmpdir/Rtmp8Yvh0C/R.INSTALL10b45b05abc/BiocGenerics/man/BiocGenerics-package.Rd:165: file link 'parSapplyLB' in package 'BiocGenerics' does not exist and so has been treated as a topic
Rd warning: C:/Users/biocbuild/bbs-3.12-bioc/tmpdir/Rtmp8Yvh0C/R.INSTALL10b45b05abc/BiocGenerics/man/BiocGenerics-package.Rd:172: file link 'annotation<-' in package 'BiocGenerics' does not exist and so has been treated as a topic
Rd warning: C:/Users/biocbuild/bbs-3.12-bioc/tmpdir/Rtmp8Yvh0C/R.INSTALL10b45b05abc/BiocGenerics/man/BiocGenerics-package.Rd:177: file link 'dbfile' in package 'BiocGenerics' does not exist and so has been treated as a topic
Rd warning: C:/Users/biocbuild/bbs-3.12-bioc/tmpdir/Rtmp8Yvh0C/R.INSTALL10b45b05abc/BiocGenerics/man/BiocGenerics-package.Rd:187: file link 'organism' in package 'BiocGenerics' does not exist and so has been treated as a topic
Rd warning: C:/Users/biocbuild/bbs-3.12-bioc/tmpdir/Rtmp8Yvh0C/R.INSTALL10b45b05abc/BiocGenerics/man/BiocGenerics-package.Rd:188: file link 'organism<-' in package 'BiocGenerics' does not exist and so has been treated as a topic
Rd warning: C:/Users/biocbuild/bbs-3.12-bioc/tmpdir/Rtmp8Yvh0C/R.INSTALL10b45b05abc/BiocGenerics/man/BiocGenerics-package.Rd:189: file link 'species' in package 'BiocGenerics' does not exist and so has been treated as a topic
Rd warning: C:/Users/biocbuild/bbs-3.12-bioc/tmpdir/Rtmp8Yvh0C/R.INSTALL10b45b05abc/BiocGenerics/man/BiocGenerics-package.Rd:190: file link 'species<-' in package 'BiocGenerics' does not exist and so has been treated as a topic
Rd warning: C:/Users/biocbuild/bbs-3.12-bioc/tmpdir/Rtmp8Yvh0C/R.INSTALL10b45b05abc/BiocGenerics/man/BiocGenerics-package.Rd:193: file link 'path<-' in package 'BiocGenerics' does not exist and so has been treated as a topic
Rd warning: C:/Users/biocbuild/bbs-3.12-bioc/tmpdir/Rtmp8Yvh0C/R.INSTALL10b45b05abc/BiocGenerics/man/BiocGenerics-package.Rd:194: file link 'basename' in package 'BiocGenerics' does not exist and so has been treated as a topic
Rd warning: C:/Users/biocbuild/bbs-3.12-bioc/tmpdir/Rtmp8Yvh0C/R.INSTALL10b45b05abc/BiocGenerics/man/BiocGenerics-package.Rd:195: file link 'basename<-' in package 'BiocGenerics' does not exist and so has been treated as a topic
Rd warning: C:/Users/biocbuild/bbs-3.12-bioc/tmpdir/Rtmp8Yvh0C/R.INSTALL10b45b05abc/BiocGenerics/man/BiocGenerics-package.Rd:196: file link 'dirname' in package 'BiocGenerics' does not exist and so has been treated as a topic
Rd warning: C:/Users/biocbuild/bbs-3.12-bioc/tmpdir/Rtmp8Yvh0C/R.INSTALL10b45b05abc/BiocGenerics/man/BiocGenerics-package.Rd:197: file link 'dirname<-' in package 'BiocGenerics' does not exist and so has been treated as a topic
Rd warning: C:/Users/biocbuild/bbs-3.12-bioc/tmpdir/Rtmp8Yvh0C/R.INSTALL10b45b05abc/BiocGenerics/man/BiocGenerics-package.Rd:204: file link 'score<-' in package 'BiocGenerics' does not exist and so has been treated as a topic
Rd warning: C:/Users/biocbuild/bbs-3.12-bioc/tmpdir/Rtmp8Yvh0C/R.INSTALL10b45b05abc/BiocGenerics/man/BiocGenerics-package.Rd:207: file link 'strand<-' in package 'BiocGenerics' does not exist and so has been treated as a topic
Rd warning: C:/Users/biocbuild/bbs-3.12-bioc/tmpdir/Rtmp8Yvh0C/R.INSTALL10b45b05abc/BiocGenerics/man/BiocGenerics-package.Rd:208: file link 'invertStrand' in package 'BiocGenerics' does not exist and so has been treated as a topic
Rd warning: C:/Users/biocbuild/bbs-3.12-bioc/tmpdir/Rtmp8Yvh0C/R.INSTALL10b45b05abc/BiocGenerics/man/BiocGenerics-package.Rd:213: file link 'type<-' in package 'BiocGenerics' does not exist and so has been treated as a topic
Rd warning: C:/Users/biocbuild/bbs-3.12-bioc/tmpdir/Rtmp8Yvh0C/R.INSTALL10b45b05abc/BiocGenerics/man/BiocGenerics-package.Rd:252: file link 'selectMethod' in package 'methods' does not exist and so has been treated as a topic
    Extremes                                html  
Rd warning: C:/Users/biocbuild/bbs-3.12-bioc/tmpdir/Rtmp8Yvh0C/R.INSTALL10b45b05abc/BiocGenerics/man/Extremes.Rd:18: file link 'pmax' in package 'base' does not exist and so has been treated as a topic
Rd warning: C:/Users/biocbuild/bbs-3.12-bioc/tmpdir/Rtmp8Yvh0C/R.INSTALL10b45b05abc/BiocGenerics/man/Extremes.Rd:38: file link 'pmax' in package 'base' does not exist and so has been treated as a topic
Rd warning: C:/Users/biocbuild/bbs-3.12-bioc/tmpdir/Rtmp8Yvh0C/R.INSTALL10b45b05abc/BiocGenerics/man/Extremes.Rd:44: file link 'pmax' in package 'base' does not exist and so has been treated as a topic
Rd warning: C:/Users/biocbuild/bbs-3.12-bioc/tmpdir/Rtmp8Yvh0C/R.INSTALL10b45b05abc/BiocGenerics/man/Extremes.Rd:53: file link 'pmax' in package 'base' does not exist and so has been treated as a topic
Rd warning: C:/Users/biocbuild/bbs-3.12-bioc/tmpdir/Rtmp8Yvh0C/R.INSTALL10b45b05abc/BiocGenerics/man/Extremes.Rd:59: file link 'selectMethod' in package 'methods' does not exist and so has been treated as a topic
Rd warning: C:/Users/biocbuild/bbs-3.12-bioc/tmpdir/Rtmp8Yvh0C/R.INSTALL10b45b05abc/BiocGenerics/man/Extremes.Rd:62: file link 'pmax,Rle-method' in package 'S4Vectors' does not exist and so has been treated as a topic
Rd warning: C:/Users/biocbuild/bbs-3.12-bioc/tmpdir/Rtmp8Yvh0C/R.INSTALL10b45b05abc/BiocGenerics/man/Extremes.Rd:64: file link 'Rle' in package 'S4Vectors' does not exist and so has been treated as a topic
    IQR                                     html  
Rd warning: C:/Users/biocbuild/bbs-3.12-bioc/tmpdir/Rtmp8Yvh0C/R.INSTALL10b45b05abc/BiocGenerics/man/IQR.Rd:44: file link 'selectMethod' in package 'methods' does not exist and so has been treated as a topic
    Ontology                                html  
Rd warning: C:/Users/biocbuild/bbs-3.12-bioc/tmpdir/Rtmp8Yvh0C/R.INSTALL10b45b05abc/BiocGenerics/man/Ontology.Rd:26: file link 'selectMethod' in package 'methods' does not exist and so has been treated as a topic
Rd warning: C:/Users/biocbuild/bbs-3.12-bioc/tmpdir/Rtmp8Yvh0C/R.INSTALL10b45b05abc/BiocGenerics/man/Ontology.Rd:29: file link 'Ontology,GOTerms-method' in package 'AnnotationDbi' does not exist and so has been treated as a topic
Rd warning: C:/Users/biocbuild/bbs-3.12-bioc/tmpdir/Rtmp8Yvh0C/R.INSTALL10b45b05abc/BiocGenerics/man/Ontology.Rd:31: file link 'GOTerms' in package 'AnnotationDbi' does not exist and so has been treated as a topic
    S3-classes-as-S4-classes                html  
    annotation                              html  
Rd warning: C:/Users/biocbuild/bbs-3.12-bioc/tmpdir/Rtmp8Yvh0C/R.INSTALL10b45b05abc/BiocGenerics/man/annotation.Rd:34: file link 'selectMethod' in package 'methods' does not exist and so has been treated as a topic
Rd warning: C:/Users/biocbuild/bbs-3.12-bioc/tmpdir/Rtmp8Yvh0C/R.INSTALL10b45b05abc/BiocGenerics/man/annotation.Rd:37: file link 'annotation,eSet-method' in package 'Biobase' does not exist and so has been treated as a topic
Rd warning: C:/Users/biocbuild/bbs-3.12-bioc/tmpdir/Rtmp8Yvh0C/R.INSTALL10b45b05abc/BiocGenerics/man/annotation.Rd:39: file link 'eSet' in package 'Biobase' does not exist and so has been treated as a topic
    append                                  html  
Rd warning: C:/Users/biocbuild/bbs-3.12-bioc/tmpdir/Rtmp8Yvh0C/R.INSTALL10b45b05abc/BiocGenerics/man/append.Rd:54: file link 'selectMethod' in package 'methods' does not exist and so has been treated as a topic
Rd warning: C:/Users/biocbuild/bbs-3.12-bioc/tmpdir/Rtmp8Yvh0C/R.INSTALL10b45b05abc/BiocGenerics/man/append.Rd:57: file link 'append,Vector,Vector-method' in package 'S4Vectors' does not exist and so has been treated as a topic
Rd warning: C:/Users/biocbuild/bbs-3.12-bioc/tmpdir/Rtmp8Yvh0C/R.INSTALL10b45b05abc/BiocGenerics/man/append.Rd:59: file link 'Vector' in package 'S4Vectors' does not exist and so has been treated as a topic
    as.data.frame                           html  
Rd warning: C:/Users/biocbuild/bbs-3.12-bioc/tmpdir/Rtmp8Yvh0C/R.INSTALL10b45b05abc/BiocGenerics/man/as.data.frame.Rd:53: file link 'selectMethod' in package 'methods' does not exist and so has been treated as a topic
Rd warning: C:/Users/biocbuild/bbs-3.12-bioc/tmpdir/Rtmp8Yvh0C/R.INSTALL10b45b05abc/BiocGenerics/man/as.data.frame.Rd:56: file link 'as.data.frame,DataFrame-method' in package 'S4Vectors' does not exist and so has been treated as a topic
Rd warning: C:/Users/biocbuild/bbs-3.12-bioc/tmpdir/Rtmp8Yvh0C/R.INSTALL10b45b05abc/BiocGenerics/man/as.data.frame.Rd:58: missing file link 'as.data.frame,IntegerRanges-method'
Rd warning: C:/Users/biocbuild/bbs-3.12-bioc/tmpdir/Rtmp8Yvh0C/R.INSTALL10b45b05abc/BiocGenerics/man/as.data.frame.Rd:60: file link 'DataFrame' in package 'S4Vectors' does not exist and so has been treated as a topic
Rd warning: C:/Users/biocbuild/bbs-3.12-bioc/tmpdir/Rtmp8Yvh0C/R.INSTALL10b45b05abc/BiocGenerics/man/as.data.frame.Rd:61: file link 'IntegerRanges' in package 'IRanges' does not exist and so has been treated as a topic
    as.list                                 html  
Rd warning: C:/Users/biocbuild/bbs-3.12-bioc/tmpdir/Rtmp8Yvh0C/R.INSTALL10b45b05abc/BiocGenerics/man/as.list.Rd:12: file link 'as.list' in package 'base' does not exist and so has been treated as a topic
Rd warning: C:/Users/biocbuild/bbs-3.12-bioc/tmpdir/Rtmp8Yvh0C/R.INSTALL10b45b05abc/BiocGenerics/man/as.list.Rd:37: file link 'as.list' in package 'base' does not exist and so has been treated as a topic
Rd warning: C:/Users/biocbuild/bbs-3.12-bioc/tmpdir/Rtmp8Yvh0C/R.INSTALL10b45b05abc/BiocGenerics/man/as.list.Rd:43: file link 'selectMethod' in package 'methods' does not exist and so has been treated as a topic
Rd warning: C:/Users/biocbuild/bbs-3.12-bioc/tmpdir/Rtmp8Yvh0C/R.INSTALL10b45b05abc/BiocGenerics/man/as.list.Rd:46: file link 'as.list,List-method' in package 'S4Vectors' does not exist and so has been treated as a topic
Rd warning: C:/Users/biocbuild/bbs-3.12-bioc/tmpdir/Rtmp8Yvh0C/R.INSTALL10b45b05abc/BiocGenerics/man/as.list.Rd:48: file link 'List' in package 'S4Vectors' does not exist and so has been treated as a topic
    as.vector                               html  
Rd warning: C:/Users/biocbuild/bbs-3.12-bioc/tmpdir/Rtmp8Yvh0C/R.INSTALL10b45b05abc/BiocGenerics/man/as.vector.Rd:15: file link 'as.vector' in package 'base' does not exist and so has been treated as a topic
Rd warning: C:/Users/biocbuild/bbs-3.12-bioc/tmpdir/Rtmp8Yvh0C/R.INSTALL10b45b05abc/BiocGenerics/man/as.vector.Rd:30: file link 'as.vector' in package 'base' does not exist and so has been treated as a topic
Rd warning: C:/Users/biocbuild/bbs-3.12-bioc/tmpdir/Rtmp8Yvh0C/R.INSTALL10b45b05abc/BiocGenerics/man/as.vector.Rd:38: file link 'as.vector' in package 'base' does not exist and so has been treated as a topic
Rd warning: C:/Users/biocbuild/bbs-3.12-bioc/tmpdir/Rtmp8Yvh0C/R.INSTALL10b45b05abc/BiocGenerics/man/as.vector.Rd:47: file link 'as.vector' in package 'base' does not exist and so has been treated as a topic
Rd warning: C:/Users/biocbuild/bbs-3.12-bioc/tmpdir/Rtmp8Yvh0C/R.INSTALL10b45b05abc/BiocGenerics/man/as.vector.Rd:53: file link 'selectMethod' in package 'methods' does not exist and so has been treated as a topic
Rd warning: C:/Users/biocbuild/bbs-3.12-bioc/tmpdir/Rtmp8Yvh0C/R.INSTALL10b45b05abc/BiocGenerics/man/as.vector.Rd:56: file link 'as.vector,Rle-method' in package 'S4Vectors' does not exist and so has been treated as a topic
Rd warning: C:/Users/biocbuild/bbs-3.12-bioc/tmpdir/Rtmp8Yvh0C/R.INSTALL10b45b05abc/BiocGenerics/man/as.vector.Rd:57: file link 'as.vector,AtomicList-method' in package 'IRanges' does not exist and so has been treated as a topic
Rd warning: C:/Users/biocbuild/bbs-3.12-bioc/tmpdir/Rtmp8Yvh0C/R.INSTALL10b45b05abc/BiocGenerics/man/as.vector.Rd:59: file link 'Rle' in package 'S4Vectors' does not exist and so has been treated as a topic
Rd warning: C:/Users/biocbuild/bbs-3.12-bioc/tmpdir/Rtmp8Yvh0C/R.INSTALL10b45b05abc/BiocGenerics/man/as.vector.Rd:60: file link 'AtomicList' in package 'IRanges' does not exist and so has been treated as a topic
    boxplot                                 html  
Rd warning: C:/Users/biocbuild/bbs-3.12-bioc/tmpdir/Rtmp8Yvh0C/R.INSTALL10b45b05abc/BiocGenerics/man/boxplot.Rd:44: file link 'selectMethod' in package 'methods' does not exist and so has been treated as a topic
Rd warning: C:/Users/biocbuild/bbs-3.12-bioc/tmpdir/Rtmp8Yvh0C/R.INSTALL10b45b05abc/BiocGenerics/man/boxplot.Rd:47: file link 'boxplot,AffyBatch-method' in package 'affy' does not exist and so has been treated as a topic
Rd warning: C:/Users/biocbuild/bbs-3.12-bioc/tmpdir/Rtmp8Yvh0C/R.INSTALL10b45b05abc/BiocGenerics/man/boxplot.Rd:49: file link 'AffyBatch' in package 'affy' does not exist and so has been treated as a topic
    cbind                                   html  
Rd warning: C:/Users/biocbuild/bbs-3.12-bioc/tmpdir/Rtmp8Yvh0C/R.INSTALL10b45b05abc/BiocGenerics/man/cbind.Rd:53: file link 'selectMethod' in package 'methods' does not exist and so has been treated as a topic
Rd warning: C:/Users/biocbuild/bbs-3.12-bioc/tmpdir/Rtmp8Yvh0C/R.INSTALL10b45b05abc/BiocGenerics/man/cbind.Rd:56: file link 'rbind,RectangularData-method' in package 'S4Vectors' does not exist and so has been treated as a topic
Rd warning: C:/Users/biocbuild/bbs-3.12-bioc/tmpdir/Rtmp8Yvh0C/R.INSTALL10b45b05abc/BiocGenerics/man/cbind.Rd:57: file link 'cbind,DataFrame-method' in package 'S4Vectors' does not exist and so has been treated as a topic
Rd warning: C:/Users/biocbuild/bbs-3.12-bioc/tmpdir/Rtmp8Yvh0C/R.INSTALL10b45b05abc/BiocGenerics/man/cbind.Rd:59: file link 'RectangularData' in package 'S4Vectors' does not exist and so has been treated as a topic
Rd warning: C:/Users/biocbuild/bbs-3.12-bioc/tmpdir/Rtmp8Yvh0C/R.INSTALL10b45b05abc/BiocGenerics/man/cbind.Rd:60: file link 'DataFrame' in package 'S4Vectors' does not exist and so has been treated as a topic
    clusterApply                            html  
Rd warning: C:/Users/biocbuild/bbs-3.12-bioc/tmpdir/Rtmp8Yvh0C/R.INSTALL10b45b05abc/BiocGenerics/man/clusterApply.Rd:98: file link 'selectMethod' in package 'methods' does not exist and so has been treated as a topic
    colSums                                 html  
Rd warning: C:/Users/biocbuild/bbs-3.12-bioc/tmpdir/Rtmp8Yvh0C/R.INSTALL10b45b05abc/BiocGenerics/man/colSums.Rd:56: file link 'selectMethod' in package 'methods' does not exist and so has been treated as a topic
Rd warning: C:/Users/biocbuild/bbs-3.12-bioc/tmpdir/Rtmp8Yvh0C/R.INSTALL10b45b05abc/BiocGenerics/man/colSums.Rd:59: file link 'colSums,DelayedMatrix-method' in package 'DelayedArray' does not exist and so has been treated as a topic
Rd warning: C:/Users/biocbuild/bbs-3.12-bioc/tmpdir/Rtmp8Yvh0C/R.INSTALL10b45b05abc/BiocGenerics/man/colSums.Rd:62: file link 'DelayedMatrix' in package 'DelayedArray' does not exist and so has been treated as a topic
    combine                                 html  
Rd warning: C:/Users/biocbuild/bbs-3.12-bioc/tmpdir/Rtmp8Yvh0C/R.INSTALL10b45b05abc/BiocGenerics/man/combine.Rd:69: file link 'AnnotatedDataFrame' in package 'Biobase' does not exist and so has been treated as a topic
Rd warning: C:/Users/biocbuild/bbs-3.12-bioc/tmpdir/Rtmp8Yvh0C/R.INSTALL10b45b05abc/BiocGenerics/man/combine.Rd:70: file link 'MIAME' in package 'Biobase' does not exist and so has been treated as a topic
Rd warning: C:/Users/biocbuild/bbs-3.12-bioc/tmpdir/Rtmp8Yvh0C/R.INSTALL10b45b05abc/BiocGenerics/man/combine.Rd:71: file link 'eSet' in package 'Biobase' does not exist and so has been treated as a topic
Rd warning: C:/Users/biocbuild/bbs-3.12-bioc/tmpdir/Rtmp8Yvh0C/R.INSTALL10b45b05abc/BiocGenerics/man/combine.Rd:84: file link 'combine,AnnotatedDataFrame,AnnotatedDataFrame-method' in package 'Biobase' does not exist and so has been treated as a topic
Rd warning: C:/Users/biocbuild/bbs-3.12-bioc/tmpdir/Rtmp8Yvh0C/R.INSTALL10b45b05abc/BiocGenerics/man/combine.Rd:85: file link 'combine,AssayData,AssayData-method' in package 'Biobase' does not exist and so has been treated as a topic
Rd warning: C:/Users/biocbuild/bbs-3.12-bioc/tmpdir/Rtmp8Yvh0C/R.INSTALL10b45b05abc/BiocGenerics/man/combine.Rd:86: file link 'combine,MIAME,MIAME-method' in package 'Biobase' does not exist and so has been treated as a topic
Rd warning: C:/Users/biocbuild/bbs-3.12-bioc/tmpdir/Rtmp8Yvh0C/R.INSTALL10b45b05abc/BiocGenerics/man/combine.Rd:87: file link 'combine,eSet,eSet-method' in package 'Biobase' does not exist and so has been treated as a topic
Rd warning: C:/Users/biocbuild/bbs-3.12-bioc/tmpdir/Rtmp8Yvh0C/R.INSTALL10b45b05abc/BiocGenerics/man/combine.Rd:96: file link 'selectMethod' in package 'methods' does not exist and so has been treated as a topic
    dbconn                                  html  
Rd warning: C:/Users/biocbuild/bbs-3.12-bioc/tmpdir/Rtmp8Yvh0C/R.INSTALL10b45b05abc/BiocGenerics/man/dbconn.Rd:36: file link 'selectMethod' in package 'methods' does not exist and so has been treated as a topic
Rd warning: C:/Users/biocbuild/bbs-3.12-bioc/tmpdir/Rtmp8Yvh0C/R.INSTALL10b45b05abc/BiocGenerics/man/dbconn.Rd:39: file link 'dbconn,AnnotationDb-method' in package 'AnnotationDbi' does not exist and so has been treated as a topic
Rd warning: C:/Users/biocbuild/bbs-3.12-bioc/tmpdir/Rtmp8Yvh0C/R.INSTALL10b45b05abc/BiocGenerics/man/dbconn.Rd:41: file link 'dbconn' in package 'AnnotationDbi' does not exist and so has been treated as a topic
    density                                 html  
Rd warning: C:/Users/biocbuild/bbs-3.12-bioc/tmpdir/Rtmp8Yvh0C/R.INSTALL10b45b05abc/BiocGenerics/man/density.Rd:45: file link 'selectMethod' in package 'methods' does not exist and so has been treated as a topic
Rd warning: C:/Users/biocbuild/bbs-3.12-bioc/tmpdir/Rtmp8Yvh0C/R.INSTALL10b45b05abc/BiocGenerics/man/density.Rd:48: file link 'density,flowClust-method' in package 'flowClust' does not exist and so has been treated as a topic
    dge                                     html  
    dims                                    html  
Rd warning: C:/Users/biocbuild/bbs-3.12-bioc/tmpdir/Rtmp8Yvh0C/R.INSTALL10b45b05abc/BiocGenerics/man/dims.Rd:27: file link 'selectMethod' in package 'methods' does not exist and so has been treated as a topic
Rd warning: C:/Users/biocbuild/bbs-3.12-bioc/tmpdir/Rtmp8Yvh0C/R.INSTALL10b45b05abc/BiocGenerics/man/dims.Rd:30: file link 'dims,eSet-method' in package 'Biobase' does not exist and so has been treated as a topic
Rd warning: C:/Users/biocbuild/bbs-3.12-bioc/tmpdir/Rtmp8Yvh0C/R.INSTALL10b45b05abc/BiocGenerics/man/dims.Rd:32: file link 'eSet' in package 'Biobase' does not exist and so has been treated as a topic
    do.call                                 html  
Rd warning: C:/Users/biocbuild/bbs-3.12-bioc/tmpdir/Rtmp8Yvh0C/R.INSTALL10b45b05abc/BiocGenerics/man/do.call.Rd:61: file link 'selectMethod' in package 'methods' does not exist and so has been treated as a topic
    duplicated                              html  
Rd warning: C:/Users/biocbuild/bbs-3.12-bioc/tmpdir/Rtmp8Yvh0C/R.INSTALL10b45b05abc/BiocGenerics/man/duplicated.Rd:69: file link 'selectMethod' in package 'methods' does not exist and so has been treated as a topic
Rd warning: C:/Users/biocbuild/bbs-3.12-bioc/tmpdir/Rtmp8Yvh0C/R.INSTALL10b45b05abc/BiocGenerics/man/duplicated.Rd:72: file link 'duplicated,Rle-method' in package 'S4Vectors' does not exist and so has been treated as a topic
Rd warning: C:/Users/biocbuild/bbs-3.12-bioc/tmpdir/Rtmp8Yvh0C/R.INSTALL10b45b05abc/BiocGenerics/man/duplicated.Rd:74: file link 'Rle' in package 'S4Vectors' does not exist and so has been treated as a topic
    eval                                    html  
Rd warning: C:/Users/biocbuild/bbs-3.12-bioc/tmpdir/Rtmp8Yvh0C/R.INSTALL10b45b05abc/BiocGenerics/man/eval.Rd:58: file link 'selectMethod' in package 'methods' does not exist and so has been treated as a topic
Rd warning: C:/Users/biocbuild/bbs-3.12-bioc/tmpdir/Rtmp8Yvh0C/R.INSTALL10b45b05abc/BiocGenerics/man/eval.Rd:61: file link 'eval,expression,Vector-method' in package 'IRanges' does not exist and so has been treated as a topic
Rd warning: C:/Users/biocbuild/bbs-3.12-bioc/tmpdir/Rtmp8Yvh0C/R.INSTALL10b45b05abc/BiocGenerics/man/eval.Rd:64: file link 'Vector' in package 'S4Vectors' does not exist and so has been treated as a topic
    evalq                                   html  
Rd warning: C:/Users/biocbuild/bbs-3.12-bioc/tmpdir/Rtmp8Yvh0C/R.INSTALL10b45b05abc/BiocGenerics/man/evalq.Rd:12: file link 'evalq' in package 'base' does not exist and so has been treated as a topic
Rd warning: C:/Users/biocbuild/bbs-3.12-bioc/tmpdir/Rtmp8Yvh0C/R.INSTALL10b45b05abc/BiocGenerics/man/evalq.Rd:34: file link 'evalq' in package 'base' does not exist and so has been treated as a topic
Rd warning: C:/Users/biocbuild/bbs-3.12-bioc/tmpdir/Rtmp8Yvh0C/R.INSTALL10b45b05abc/BiocGenerics/man/evalq.Rd:40: file link 'evalq' in package 'base' does not exist and so has been treated as a topic
Rd warning: C:/Users/biocbuild/bbs-3.12-bioc/tmpdir/Rtmp8Yvh0C/R.INSTALL10b45b05abc/BiocGenerics/man/evalq.Rd:45: file link 'evalq' in package 'base' does not exist and so has been treated as a topic
    fileName                                html  
Rd warning: C:/Users/biocbuild/bbs-3.12-bioc/tmpdir/Rtmp8Yvh0C/R.INSTALL10b45b05abc/BiocGenerics/man/fileName.Rd:29: file link 'selectMethod' in package 'methods' does not exist and so has been treated as a topic
Rd warning: C:/Users/biocbuild/bbs-3.12-bioc/tmpdir/Rtmp8Yvh0C/R.INSTALL10b45b05abc/BiocGenerics/man/fileName.Rd:32: file link 'fileName,MSmap-method' in package 'MSnbase' does not exist and so has been treated as a topic
Rd warning: C:/Users/biocbuild/bbs-3.12-bioc/tmpdir/Rtmp8Yvh0C/R.INSTALL10b45b05abc/BiocGenerics/man/fileName.Rd:34: file link 'MSmap' in package 'MSnbase' does not exist and so has been treated as a topic
    funprog                                 html  
Rd warning: C:/Users/biocbuild/bbs-3.12-bioc/tmpdir/Rtmp8Yvh0C/R.INSTALL10b45b05abc/BiocGenerics/man/funprog.Rd:26: file link 'Reduce' in package 'base' does not exist and so has been treated as a topic
Rd warning: C:/Users/biocbuild/bbs-3.12-bioc/tmpdir/Rtmp8Yvh0C/R.INSTALL10b45b05abc/BiocGenerics/man/funprog.Rd:43: file link 'Reduce' in package 'base' does not exist and so has been treated as a topic
Rd warning: C:/Users/biocbuild/bbs-3.12-bioc/tmpdir/Rtmp8Yvh0C/R.INSTALL10b45b05abc/BiocGenerics/man/funprog.Rd:55: file link 'Reduce' in package 'base' does not exist and so has been treated as a topic
Rd warning: C:/Users/biocbuild/bbs-3.12-bioc/tmpdir/Rtmp8Yvh0C/R.INSTALL10b45b05abc/BiocGenerics/man/funprog.Rd:64: file link 'Reduce' in package 'base' does not exist and so has been treated as a topic
Rd warning: C:/Users/biocbuild/bbs-3.12-bioc/tmpdir/Rtmp8Yvh0C/R.INSTALL10b45b05abc/BiocGenerics/man/funprog.Rd:70: file link 'selectMethod' in package 'methods' does not exist and so has been treated as a topic
Rd warning: C:/Users/biocbuild/bbs-3.12-bioc/tmpdir/Rtmp8Yvh0C/R.INSTALL10b45b05abc/BiocGenerics/man/funprog.Rd:73: file link 'Reduce,List-method' in package 'S4Vectors' does not exist and so has been treated as a topic
Rd warning: C:/Users/biocbuild/bbs-3.12-bioc/tmpdir/Rtmp8Yvh0C/R.INSTALL10b45b05abc/BiocGenerics/man/funprog.Rd:75: file link 'List' in package 'S4Vectors' does not exist and so has been treated as a topic
    get                                     html  
Rd warning: C:/Users/biocbuild/bbs-3.12-bioc/tmpdir/Rtmp8Yvh0C/R.INSTALL10b45b05abc/BiocGenerics/man/get.Rd:64: file link 'selectMethod' in package 'methods' does not exist and so has been treated as a topic
Rd warning: C:/Users/biocbuild/bbs-3.12-bioc/tmpdir/Rtmp8Yvh0C/R.INSTALL10b45b05abc/BiocGenerics/man/get.Rd:67: file link 'get,ANY,Bimap,missing-method' in package 'AnnotationDbi' does not exist and so has been treated as a topic
    grep                                    html  
Rd warning: C:/Users/biocbuild/bbs-3.12-bioc/tmpdir/Rtmp8Yvh0C/R.INSTALL10b45b05abc/BiocGenerics/man/grep.Rd:56: file link 'selectMethod' in package 'methods' does not exist and so has been treated as a topic
    image                                   html  
Rd warning: C:/Users/biocbuild/bbs-3.12-bioc/tmpdir/Rtmp8Yvh0C/R.INSTALL10b45b05abc/BiocGenerics/man/image.Rd:46: file link 'selectMethod' in package 'methods' does not exist and so has been treated as a topic
Rd warning: C:/Users/biocbuild/bbs-3.12-bioc/tmpdir/Rtmp8Yvh0C/R.INSTALL10b45b05abc/BiocGenerics/man/image.Rd:49: file link 'image,AffyBatch-method' in package 'affy' does not exist and so has been treated as a topic
Rd warning: C:/Users/biocbuild/bbs-3.12-bioc/tmpdir/Rtmp8Yvh0C/R.INSTALL10b45b05abc/BiocGenerics/man/image.Rd:51: file link 'AffyBatch' in package 'affy' does not exist and so has been treated as a topic
    is.unsorted                             html  
Rd warning: C:/Users/biocbuild/bbs-3.12-bioc/tmpdir/Rtmp8Yvh0C/R.INSTALL10b45b05abc/BiocGenerics/man/is.unsorted.Rd:63: file link 'selectMethod' in package 'methods' does not exist and so has been treated as a topic
Rd warning: C:/Users/biocbuild/bbs-3.12-bioc/tmpdir/Rtmp8Yvh0C/R.INSTALL10b45b05abc/BiocGenerics/man/is.unsorted.Rd:66: file link 'is.unsorted,GenomicRanges-method' in package 'GenomicRanges' does not exist and so has been treated as a topic
Rd warning: C:/Users/biocbuild/bbs-3.12-bioc/tmpdir/Rtmp8Yvh0C/R.INSTALL10b45b05abc/BiocGenerics/man/is.unsorted.Rd:69: file link 'GenomicRanges' in package 'GenomicRanges' does not exist and so has been treated as a topic
    lapply                                  html  
Rd warning: C:/Users/biocbuild/bbs-3.12-bioc/tmpdir/Rtmp8Yvh0C/R.INSTALL10b45b05abc/BiocGenerics/man/lapply.Rd:61: file link 'selectMethod' in package 'methods' does not exist and so has been treated as a topic
Rd warning: C:/Users/biocbuild/bbs-3.12-bioc/tmpdir/Rtmp8Yvh0C/R.INSTALL10b45b05abc/BiocGenerics/man/lapply.Rd:64: file link 'lapply,List-method' in package 'S4Vectors' does not exist and so has been treated as a topic
Rd warning: C:/Users/biocbuild/bbs-3.12-bioc/tmpdir/Rtmp8Yvh0C/R.INSTALL10b45b05abc/BiocGenerics/man/lapply.Rd:66: file link 'List' in package 'S4Vectors' does not exist and so has been treated as a topic
    mad                                     html  
Rd warning: C:/Users/biocbuild/bbs-3.12-bioc/tmpdir/Rtmp8Yvh0C/R.INSTALL10b45b05abc/BiocGenerics/man/mad.Rd:46: file link 'selectMethod' in package 'methods' does not exist and so has been treated as a topic
    mapply                                  html  
Rd warning: C:/Users/biocbuild/bbs-3.12-bioc/tmpdir/Rtmp8Yvh0C/R.INSTALL10b45b05abc/BiocGenerics/man/mapply.Rd:9: file link 'sapply' in package 'BiocGenerics' does not exist and so has been treated as a topic
Rd warning: C:/Users/biocbuild/bbs-3.12-bioc/tmpdir/Rtmp8Yvh0C/R.INSTALL10b45b05abc/BiocGenerics/man/mapply.Rd:54: file link 'selectMethod' in package 'methods' does not exist and so has been treated as a topic
    match                                   html  
Rd warning: C:/Users/biocbuild/bbs-3.12-bioc/tmpdir/Rtmp8Yvh0C/R.INSTALL10b45b05abc/BiocGenerics/man/match.Rd:66: file link 'selectMethod' in package 'methods' does not exist and so has been treated as a topic
Rd warning: C:/Users/biocbuild/bbs-3.12-bioc/tmpdir/Rtmp8Yvh0C/R.INSTALL10b45b05abc/BiocGenerics/man/match.Rd:69: file link 'match,Hits,Hits-method' in package 'S4Vectors' does not exist and so has been treated as a topic
Rd warning: C:/Users/biocbuild/bbs-3.12-bioc/tmpdir/Rtmp8Yvh0C/R.INSTALL10b45b05abc/BiocGenerics/man/match.Rd:70: file link '%in%,Rle,ANY-method' in package 'S4Vectors' does not exist and so has been treated as a topic
Rd warning: C:/Users/biocbuild/bbs-3.12-bioc/tmpdir/Rtmp8Yvh0C/R.INSTALL10b45b05abc/BiocGenerics/man/match.Rd:72: file link 'Hits' in package 'S4Vectors' does not exist and so has been treated as a topic
Rd warning: C:/Users/biocbuild/bbs-3.12-bioc/tmpdir/Rtmp8Yvh0C/R.INSTALL10b45b05abc/BiocGenerics/man/match.Rd:73: file link 'Rle' in package 'S4Vectors' does not exist and so has been treated as a topic
    mean                                    html  
Rd warning: C:/Users/biocbuild/bbs-3.12-bioc/tmpdir/Rtmp8Yvh0C/R.INSTALL10b45b05abc/BiocGenerics/man/mean.Rd:46: file link 'selectMethod' in package 'methods' does not exist and so has been treated as a topic
Rd warning: C:/Users/biocbuild/bbs-3.12-bioc/tmpdir/Rtmp8Yvh0C/R.INSTALL10b45b05abc/BiocGenerics/man/mean.Rd:49: file link 'mean,Rle-method' in package 'S4Vectors' does not exist and so has been treated as a topic
Rd warning: C:/Users/biocbuild/bbs-3.12-bioc/tmpdir/Rtmp8Yvh0C/R.INSTALL10b45b05abc/BiocGenerics/man/mean.Rd:51: file link 'Rle' in package 'S4Vectors' does not exist and so has been treated as a topic
    normalize                               html  
Rd warning: C:/Users/biocbuild/bbs-3.12-bioc/tmpdir/Rtmp8Yvh0C/R.INSTALL10b45b05abc/BiocGenerics/man/normalize.Rd:38: file link 'selectMethod' in package 'methods' does not exist and so has been treated as a topic
Rd warning: C:/Users/biocbuild/bbs-3.12-bioc/tmpdir/Rtmp8Yvh0C/R.INSTALL10b45b05abc/BiocGenerics/man/normalize.Rd:41: file link 'normalize,AffyBatch-method' in package 'affy' does not exist and so has been treated as a topic
Rd warning: C:/Users/biocbuild/bbs-3.12-bioc/tmpdir/Rtmp8Yvh0C/R.INSTALL10b45b05abc/BiocGenerics/man/normalize.Rd:42: file link 'normalize,MSnExp-method' in package 'MSnbase' does not exist and so has been treated as a topic
Rd warning: C:/Users/biocbuild/bbs-3.12-bioc/tmpdir/Rtmp8Yvh0C/R.INSTALL10b45b05abc/BiocGenerics/man/normalize.Rd:44: file link 'AffyBatch' in package 'affy' does not exist and so has been treated as a topic
Rd warning: C:/Users/biocbuild/bbs-3.12-bioc/tmpdir/Rtmp8Yvh0C/R.INSTALL10b45b05abc/BiocGenerics/man/normalize.Rd:45: file link 'MSnExp' in package 'MSnbase' does not exist and so has been treated as a topic
    nrow                                    html  
Rd warning: C:/Users/biocbuild/bbs-3.12-bioc/tmpdir/Rtmp8Yvh0C/R.INSTALL10b45b05abc/BiocGenerics/man/nrow.Rd:50: file link 'selectMethod' in package 'methods' does not exist and so has been treated as a topic
Rd warning: C:/Users/biocbuild/bbs-3.12-bioc/tmpdir/Rtmp8Yvh0C/R.INSTALL10b45b05abc/BiocGenerics/man/nrow.Rd:53: file link 'nrow,DataFrame-method' in package 'S4Vectors' does not exist and so has been treated as a topic
Rd warning: C:/Users/biocbuild/bbs-3.12-bioc/tmpdir/Rtmp8Yvh0C/R.INSTALL10b45b05abc/BiocGenerics/man/nrow.Rd:55: file link 'DataFrame' in package 'S4Vectors' does not exist and so has been treated as a topic
    order                                   html  
Rd warning: C:/Users/biocbuild/bbs-3.12-bioc/tmpdir/Rtmp8Yvh0C/R.INSTALL10b45b05abc/BiocGenerics/man/order.Rd:73: file link 'selectMethod' in package 'methods' does not exist and so has been treated as a topic
Rd warning: C:/Users/biocbuild/bbs-3.12-bioc/tmpdir/Rtmp8Yvh0C/R.INSTALL10b45b05abc/BiocGenerics/man/order.Rd:76: missing file link 'order,IntegerRanges-method'
Rd warning: C:/Users/biocbuild/bbs-3.12-bioc/tmpdir/Rtmp8Yvh0C/R.INSTALL10b45b05abc/BiocGenerics/man/order.Rd:78: file link 'IntegerRanges' in package 'IRanges' does not exist and so has been treated as a topic
    organism_species                        html  
Rd warning: C:/Users/biocbuild/bbs-3.12-bioc/tmpdir/Rtmp8Yvh0C/R.INSTALL10b45b05abc/BiocGenerics/man/organism_species.Rd:63: file link 'selectMethod' in package 'methods' does not exist and so has been treated as a topic
Rd warning: C:/Users/biocbuild/bbs-3.12-bioc/tmpdir/Rtmp8Yvh0C/R.INSTALL10b45b05abc/BiocGenerics/man/organism_species.Rd:66: file link 'organism,character-method' in package 'annotate' does not exist and so has been treated as a topic
Rd warning: C:/Users/biocbuild/bbs-3.12-bioc/tmpdir/Rtmp8Yvh0C/R.INSTALL10b45b05abc/BiocGenerics/man/organism_species.Rd:67: file link 'organism,chromLocation-method' in package 'annotate' does not exist and so has been treated as a topic
Rd warning: C:/Users/biocbuild/bbs-3.12-bioc/tmpdir/Rtmp8Yvh0C/R.INSTALL10b45b05abc/BiocGenerics/man/organism_species.Rd:69: file link 'chromLocation' in package 'annotate' does not exist and so has been treated as a topic
Rd warning: C:/Users/biocbuild/bbs-3.12-bioc/tmpdir/Rtmp8Yvh0C/R.INSTALL10b45b05abc/BiocGenerics/man/organism_species.Rd:72: file link 'species,AnnotationDb-method' in package 'AnnotationDbi' does not exist and so has been treated as a topic
Rd warning: C:/Users/biocbuild/bbs-3.12-bioc/tmpdir/Rtmp8Yvh0C/R.INSTALL10b45b05abc/BiocGenerics/man/organism_species.Rd:74: file link 'AnnotationDb' in package 'AnnotationDbi' does not exist and so has been treated as a topic
    paste                                   html  
Rd warning: C:/Users/biocbuild/bbs-3.12-bioc/tmpdir/Rtmp8Yvh0C/R.INSTALL10b45b05abc/BiocGenerics/man/paste.Rd:49: file link 'selectMethod' in package 'methods' does not exist and so has been treated as a topic
Rd warning: C:/Users/biocbuild/bbs-3.12-bioc/tmpdir/Rtmp8Yvh0C/R.INSTALL10b45b05abc/BiocGenerics/man/paste.Rd:52: file link 'paste,Rle-method' in package 'S4Vectors' does not exist and so has been treated as a topic
Rd warning: C:/Users/biocbuild/bbs-3.12-bioc/tmpdir/Rtmp8Yvh0C/R.INSTALL10b45b05abc/BiocGenerics/man/paste.Rd:54: file link 'Rle' in package 'S4Vectors' does not exist and so has been treated as a topic
    path                                    html  
Rd warning: C:/Users/biocbuild/bbs-3.12-bioc/tmpdir/Rtmp8Yvh0C/R.INSTALL10b45b05abc/BiocGenerics/man/path.Rd:91: file link 'selectMethod' in package 'methods' does not exist and so has been treated as a topic
Rd warning: C:/Users/biocbuild/bbs-3.12-bioc/tmpdir/Rtmp8Yvh0C/R.INSTALL10b45b05abc/BiocGenerics/man/path.Rd:94: file link 'path,RsamtoolsFile-method' in package 'Rsamtools' does not exist and so has been treated as a topic
Rd warning: C:/Users/biocbuild/bbs-3.12-bioc/tmpdir/Rtmp8Yvh0C/R.INSTALL10b45b05abc/BiocGenerics/man/path.Rd:96: file link 'RsamtoolsFile' in package 'Rsamtools' does not exist and so has been treated as a topic
    plotMA                                  html  
Rd warning: C:/Users/biocbuild/bbs-3.12-bioc/tmpdir/Rtmp8Yvh0C/R.INSTALL10b45b05abc/BiocGenerics/man/plotMA.Rd:36: file link 'selectMethod' in package 'methods' does not exist and so has been treated as a topic
    plotPCA                                 html  
Rd warning: C:/Users/biocbuild/bbs-3.12-bioc/tmpdir/Rtmp8Yvh0C/R.INSTALL10b45b05abc/BiocGenerics/man/plotPCA.Rd:36: file link 'selectMethod' in package 'methods' does not exist and so has been treated as a topic
    rank                                    html  
Rd warning: C:/Users/biocbuild/bbs-3.12-bioc/tmpdir/Rtmp8Yvh0C/R.INSTALL10b45b05abc/BiocGenerics/man/rank.Rd:70: file link 'selectMethod' in package 'methods' does not exist and so has been treated as a topic
Rd warning: C:/Users/biocbuild/bbs-3.12-bioc/tmpdir/Rtmp8Yvh0C/R.INSTALL10b45b05abc/BiocGenerics/man/rank.Rd:73: file link 'rank,Vector-method' in package 'S4Vectors' does not exist and so has been treated as a topic
Rd warning: C:/Users/biocbuild/bbs-3.12-bioc/tmpdir/Rtmp8Yvh0C/R.INSTALL10b45b05abc/BiocGenerics/man/rank.Rd:75: file link 'Vector' in package 'S4Vectors' does not exist and so has been treated as a topic
    relist                                  html  
Rd warning: C:/Users/biocbuild/bbs-3.12-bioc/tmpdir/Rtmp8Yvh0C/R.INSTALL10b45b05abc/BiocGenerics/man/relist.Rd:46: file link 'selectMethod' in package 'methods' does not exist and so has been treated as a topic
Rd warning: C:/Users/biocbuild/bbs-3.12-bioc/tmpdir/Rtmp8Yvh0C/R.INSTALL10b45b05abc/BiocGenerics/man/relist.Rd:49: file link 'relist,ANY,List-method' in package 'IRanges' does not exist and so has been treated as a topic
Rd warning: C:/Users/biocbuild/bbs-3.12-bioc/tmpdir/Rtmp8Yvh0C/R.INSTALL10b45b05abc/BiocGenerics/man/relist.Rd:51: file link 'List' in package 'S4Vectors' does not exist and so has been treated as a topic
    rep                                     html  
Rd warning: C:/Users/biocbuild/bbs-3.12-bioc/tmpdir/Rtmp8Yvh0C/R.INSTALL10b45b05abc/BiocGenerics/man/rep.Rd:12: file link 'rep.int' in package 'base' does not exist and so has been treated as a topic
Rd warning: C:/Users/biocbuild/bbs-3.12-bioc/tmpdir/Rtmp8Yvh0C/R.INSTALL10b45b05abc/BiocGenerics/man/rep.Rd:27: file link 'rep.int' in package 'base' does not exist and so has been treated as a topic
Rd warning: C:/Users/biocbuild/bbs-3.12-bioc/tmpdir/Rtmp8Yvh0C/R.INSTALL10b45b05abc/BiocGenerics/man/rep.Rd:33: file link 'rep.int' in package 'base' does not exist and so has been treated as a topic
Rd warning: C:/Users/biocbuild/bbs-3.12-bioc/tmpdir/Rtmp8Yvh0C/R.INSTALL10b45b05abc/BiocGenerics/man/rep.Rd:42: file link 'rep.int' in package 'base' does not exist and so has been treated as a topic
Rd warning: C:/Users/biocbuild/bbs-3.12-bioc/tmpdir/Rtmp8Yvh0C/R.INSTALL10b45b05abc/BiocGenerics/man/rep.Rd:48: file link 'selectMethod' in package 'methods' does not exist and so has been treated as a topic
Rd warning: C:/Users/biocbuild/bbs-3.12-bioc/tmpdir/Rtmp8Yvh0C/R.INSTALL10b45b05abc/BiocGenerics/man/rep.Rd:51: file link 'rep.int,Rle-method' in package 'S4Vectors' does not exist and so has been treated as a topic
Rd warning: C:/Users/biocbuild/bbs-3.12-bioc/tmpdir/Rtmp8Yvh0C/R.INSTALL10b45b05abc/BiocGenerics/man/rep.Rd:53: file link 'Rle' in package 'S4Vectors' does not exist and so has been treated as a topic
    residuals                               html  
Rd warning: C:/Users/biocbuild/bbs-3.12-bioc/tmpdir/Rtmp8Yvh0C/R.INSTALL10b45b05abc/BiocGenerics/man/residuals.Rd:41: file link 'selectMethod' in package 'methods' does not exist and so has been treated as a topic
Rd warning: C:/Users/biocbuild/bbs-3.12-bioc/tmpdir/Rtmp8Yvh0C/R.INSTALL10b45b05abc/BiocGenerics/man/residuals.Rd:44: file link 'residuals,PLMset-method' in package 'affyPLM' does not exist and so has been treated as a topic
Rd warning: C:/Users/biocbuild/bbs-3.12-bioc/tmpdir/Rtmp8Yvh0C/R.INSTALL10b45b05abc/BiocGenerics/man/residuals.Rd:46: file link 'PLMset' in package 'affyPLM' does not exist and so has been treated as a topic
    row_colnames                            html  
Rd warning: C:/Users/biocbuild/bbs-3.12-bioc/tmpdir/Rtmp8Yvh0C/R.INSTALL10b45b05abc/BiocGenerics/man/row_colnames.Rd:17: file link 'rownames' in package 'base' does not exist and so has been treated as a topic
Rd warning: C:/Users/biocbuild/bbs-3.12-bioc/tmpdir/Rtmp8Yvh0C/R.INSTALL10b45b05abc/BiocGenerics/man/row_colnames.Rd:36: file link 'rownames' in package 'base' does not exist and so has been treated as a topic
Rd warning: C:/Users/biocbuild/bbs-3.12-bioc/tmpdir/Rtmp8Yvh0C/R.INSTALL10b45b05abc/BiocGenerics/man/row_colnames.Rd:50: file link 'rownames' in package 'base' does not exist and so has been treated as a topic
Rd warning: C:/Users/biocbuild/bbs-3.12-bioc/tmpdir/Rtmp8Yvh0C/R.INSTALL10b45b05abc/BiocGenerics/man/row_colnames.Rd:59: file link 'rownames' in package 'base' does not exist and so has been treated as a topic
Rd warning: C:/Users/biocbuild/bbs-3.12-bioc/tmpdir/Rtmp8Yvh0C/R.INSTALL10b45b05abc/BiocGenerics/man/row_colnames.Rd:66: file link 'selectMethod' in package 'methods' does not exist and so has been treated as a topic
Rd warning: C:/Users/biocbuild/bbs-3.12-bioc/tmpdir/Rtmp8Yvh0C/R.INSTALL10b45b05abc/BiocGenerics/man/row_colnames.Rd:69: file link 'rownames,DataFrame-method' in package 'S4Vectors' does not exist and so has been treated as a topic
Rd warning: C:/Users/biocbuild/bbs-3.12-bioc/tmpdir/Rtmp8Yvh0C/R.INSTALL10b45b05abc/BiocGenerics/man/row_colnames.Rd:71: file link 'DataFrame' in package 'S4Vectors' does not exist and so has been treated as a topic
    score                                   html  
Rd warning: C:/Users/biocbuild/bbs-3.12-bioc/tmpdir/Rtmp8Yvh0C/R.INSTALL10b45b05abc/BiocGenerics/man/score.Rd:34: file link 'selectMethod' in package 'methods' does not exist and so has been treated as a topic
Rd warning: C:/Users/biocbuild/bbs-3.12-bioc/tmpdir/Rtmp8Yvh0C/R.INSTALL10b45b05abc/BiocGenerics/man/score.Rd:37: file link 'score,GenomicRanges-method' in package 'GenomicRanges' does not exist and so has been treated as a topic
Rd warning: C:/Users/biocbuild/bbs-3.12-bioc/tmpdir/Rtmp8Yvh0C/R.INSTALL10b45b05abc/BiocGenerics/man/score.Rd:39: file link 'GenomicRanges' in package 'GenomicRanges' does not exist and so has been treated as a topic
    sets                                    html  
Rd warning: C:/Users/biocbuild/bbs-3.12-bioc/tmpdir/Rtmp8Yvh0C/R.INSTALL10b45b05abc/BiocGenerics/man/sets.Rd:17: file link 'union' in package 'base' does not exist and so has been treated as a topic
Rd warning: C:/Users/biocbuild/bbs-3.12-bioc/tmpdir/Rtmp8Yvh0C/R.INSTALL10b45b05abc/BiocGenerics/man/sets.Rd:39: file link 'union' in package 'base' does not exist and so has been treated as a topic
Rd warning: C:/Users/biocbuild/bbs-3.12-bioc/tmpdir/Rtmp8Yvh0C/R.INSTALL10b45b05abc/BiocGenerics/man/sets.Rd:57: file link 'GenomicRanges' in package 'GenomicRanges' does not exist and so has been treated as a topic
Rd warning: C:/Users/biocbuild/bbs-3.12-bioc/tmpdir/Rtmp8Yvh0C/R.INSTALL10b45b05abc/BiocGenerics/man/sets.Rd:65: file link 'union' in package 'base' does not exist and so has been treated as a topic
Rd warning: C:/Users/biocbuild/bbs-3.12-bioc/tmpdir/Rtmp8Yvh0C/R.INSTALL10b45b05abc/BiocGenerics/man/sets.Rd:71: file link 'selectMethod' in package 'methods' does not exist and so has been treated as a topic
Rd warning: C:/Users/biocbuild/bbs-3.12-bioc/tmpdir/Rtmp8Yvh0C/R.INSTALL10b45b05abc/BiocGenerics/man/sets.Rd:74: file link 'union,GenomicRanges,GenomicRanges-method' in package 'GenomicRanges' does not exist and so has been treated as a topic
Rd warning: C:/Users/biocbuild/bbs-3.12-bioc/tmpdir/Rtmp8Yvh0C/R.INSTALL10b45b05abc/BiocGenerics/man/sets.Rd:77: file link 'GenomicRanges' in package 'GenomicRanges' does not exist and so has been treated as a topic
    sort                                    html  
Rd warning: C:/Users/biocbuild/bbs-3.12-bioc/tmpdir/Rtmp8Yvh0C/R.INSTALL10b45b05abc/BiocGenerics/man/sort.Rd:62: file link 'selectMethod' in package 'methods' does not exist and so has been treated as a topic
Rd warning: C:/Users/biocbuild/bbs-3.12-bioc/tmpdir/Rtmp8Yvh0C/R.INSTALL10b45b05abc/BiocGenerics/man/sort.Rd:65: file link 'sort,Vector-method' in package 'S4Vectors' does not exist and so has been treated as a topic
Rd warning: C:/Users/biocbuild/bbs-3.12-bioc/tmpdir/Rtmp8Yvh0C/R.INSTALL10b45b05abc/BiocGenerics/man/sort.Rd:67: file link 'Vector' in package 'S4Vectors' does not exist and so has been treated as a topic
    start                                   html  
Rd warning: C:/Users/biocbuild/bbs-3.12-bioc/tmpdir/Rtmp8Yvh0C/R.INSTALL10b45b05abc/BiocGenerics/man/start.Rd:64: file link 'selectMethod' in package 'methods' does not exist and so has been treated as a topic
Rd warning: C:/Users/biocbuild/bbs-3.12-bioc/tmpdir/Rtmp8Yvh0C/R.INSTALL10b45b05abc/BiocGenerics/man/start.Rd:67: file link 'start,IRanges-method' in package 'IRanges' does not exist and so has been treated as a topic
Rd warning: C:/Users/biocbuild/bbs-3.12-bioc/tmpdir/Rtmp8Yvh0C/R.INSTALL10b45b05abc/BiocGenerics/man/start.Rd:69: file link 'IRanges' in package 'IRanges' does not exist and so has been treated as a topic
Rd warning: C:/Users/biocbuild/bbs-3.12-bioc/tmpdir/Rtmp8Yvh0C/R.INSTALL10b45b05abc/BiocGenerics/man/start.Rd:71: file link 'pos,UnstitchedIPos-method' in package 'IRanges' does not exist and so has been treated as a topic
Rd warning: C:/Users/biocbuild/bbs-3.12-bioc/tmpdir/Rtmp8Yvh0C/R.INSTALL10b45b05abc/BiocGenerics/man/start.Rd:73: file link 'UnstitchedIPos' in package 'IRanges' does not exist and so has been treated as a topic
    strand                                  html  
Rd warning: C:/Users/biocbuild/bbs-3.12-bioc/tmpdir/Rtmp8Yvh0C/R.INSTALL10b45b05abc/BiocGenerics/man/strand.Rd:73: file link 'selectMethod' in package 'methods' does not exist and so has been treated as a topic
Rd warning: C:/Users/biocbuild/bbs-3.12-bioc/tmpdir/Rtmp8Yvh0C/R.INSTALL10b45b05abc/BiocGenerics/man/strand.Rd:76: file link 'strand,GRanges-method' in package 'GenomicRanges' does not exist and so has been treated as a topic
Rd warning: C:/Users/biocbuild/bbs-3.12-bioc/tmpdir/Rtmp8Yvh0C/R.INSTALL10b45b05abc/BiocGenerics/man/strand.Rd:78: file link 'GRanges' in package 'GenomicRanges' does not exist and so has been treated as a topic
    subset                                  html  
Rd warning: C:/Users/biocbuild/bbs-3.12-bioc/tmpdir/Rtmp8Yvh0C/R.INSTALL10b45b05abc/BiocGenerics/man/subset.Rd:46: file link 'selectMethod' in package 'methods' does not exist and so has been treated as a topic
Rd warning: C:/Users/biocbuild/bbs-3.12-bioc/tmpdir/Rtmp8Yvh0C/R.INSTALL10b45b05abc/BiocGenerics/man/subset.Rd:49: file link 'subset,RectangularData-method' in package 'S4Vectors' does not exist and so has been treated as a topic
Rd warning: C:/Users/biocbuild/bbs-3.12-bioc/tmpdir/Rtmp8Yvh0C/R.INSTALL10b45b05abc/BiocGenerics/man/subset.Rd:51: file link 'RectangularData' in package 'S4Vectors' does not exist and so has been treated as a topic
    t                                       html  
Rd warning: C:/Users/biocbuild/bbs-3.12-bioc/tmpdir/Rtmp8Yvh0C/R.INSTALL10b45b05abc/BiocGenerics/man/t.Rd:44: file link 'selectMethod' in package 'methods' does not exist and so has been treated as a topic
Rd warning: C:/Users/biocbuild/bbs-3.12-bioc/tmpdir/Rtmp8Yvh0C/R.INSTALL10b45b05abc/BiocGenerics/man/t.Rd:47: file link 't,Hits-method' in package 'S4Vectors' does not exist and so has been treated as a topic
Rd warning: C:/Users/biocbuild/bbs-3.12-bioc/tmpdir/Rtmp8Yvh0C/R.INSTALL10b45b05abc/BiocGenerics/man/t.Rd:49: file link 'Hits' in package 'S4Vectors' does not exist and so has been treated as a topic
    table                                   html  
Rd warning: C:/Users/biocbuild/bbs-3.12-bioc/tmpdir/Rtmp8Yvh0C/R.INSTALL10b45b05abc/BiocGenerics/man/table.Rd:46: file link 'selectMethod' in package 'methods' does not exist and so has been treated as a topic
Rd warning: C:/Users/biocbuild/bbs-3.12-bioc/tmpdir/Rtmp8Yvh0C/R.INSTALL10b45b05abc/BiocGenerics/man/table.Rd:49: file link 'table,Rle-method' in package 'S4Vectors' does not exist and so has been treated as a topic
Rd warning: C:/Users/biocbuild/bbs-3.12-bioc/tmpdir/Rtmp8Yvh0C/R.INSTALL10b45b05abc/BiocGenerics/man/table.Rd:51: file link 'Rle' in package 'S4Vectors' does not exist and so has been treated as a topic
    tapply                                  html  
Rd warning: C:/Users/biocbuild/bbs-3.12-bioc/tmpdir/Rtmp8Yvh0C/R.INSTALL10b45b05abc/BiocGenerics/man/tapply.Rd:64: file link 'selectMethod' in package 'methods' does not exist and so has been treated as a topic
Rd warning: C:/Users/biocbuild/bbs-3.12-bioc/tmpdir/Rtmp8Yvh0C/R.INSTALL10b45b05abc/BiocGenerics/man/tapply.Rd:67: file link 'tapply,Vector,ANY-method' in package 'IRanges' does not exist and so has been treated as a topic
Rd warning: C:/Users/biocbuild/bbs-3.12-bioc/tmpdir/Rtmp8Yvh0C/R.INSTALL10b45b05abc/BiocGenerics/man/tapply.Rd:69: file link 'Vector' in package 'S4Vectors' does not exist and so has been treated as a topic
    testPackage                             html  
    toTable                                 html  
Rd warning: C:/Users/biocbuild/bbs-3.12-bioc/tmpdir/Rtmp8Yvh0C/R.INSTALL10b45b05abc/BiocGenerics/man/toTable.Rd:37: file link 'selectMethod' in package 'methods' does not exist and so has been treated as a topic
Rd warning: C:/Users/biocbuild/bbs-3.12-bioc/tmpdir/Rtmp8Yvh0C/R.INSTALL10b45b05abc/BiocGenerics/man/toTable.Rd:40: file link 'toTable,Bimap-method' in package 'AnnotationDbi' does not exist and so has been treated as a topic
    type                                    html  
Rd warning: C:/Users/biocbuild/bbs-3.12-bioc/tmpdir/Rtmp8Yvh0C/R.INSTALL10b45b05abc/BiocGenerics/man/type.Rd:45: file link 'selectMethod' in package 'methods' does not exist and so has been treated as a topic
Rd warning: C:/Users/biocbuild/bbs-3.12-bioc/tmpdir/Rtmp8Yvh0C/R.INSTALL10b45b05abc/BiocGenerics/man/type.Rd:48: file link 'type,ANY-method' in package 'DelayedArray' does not exist and so has been treated as a topic
Rd warning: C:/Users/biocbuild/bbs-3.12-bioc/tmpdir/Rtmp8Yvh0C/R.INSTALL10b45b05abc/BiocGenerics/man/type.Rd:51: file link 'type,PairwiseAlignments-method' in package 'Biostrings' does not exist and so has been treated as a topic
Rd warning: C:/Users/biocbuild/bbs-3.12-bioc/tmpdir/Rtmp8Yvh0C/R.INSTALL10b45b05abc/BiocGenerics/man/type.Rd:53: file link 'PairwiseAlignments' in package 'Biostrings' does not exist and so has been treated as a topic
    unique                                  html  
Rd warning: C:/Users/biocbuild/bbs-3.12-bioc/tmpdir/Rtmp8Yvh0C/R.INSTALL10b45b05abc/BiocGenerics/man/unique.Rd:57: file link 'selectMethod' in package 'methods' does not exist and so has been treated as a topic
Rd warning: C:/Users/biocbuild/bbs-3.12-bioc/tmpdir/Rtmp8Yvh0C/R.INSTALL10b45b05abc/BiocGenerics/man/unique.Rd:60: file link 'unique,Rle-method' in package 'S4Vectors' does not exist and so has been treated as a topic
Rd warning: C:/Users/biocbuild/bbs-3.12-bioc/tmpdir/Rtmp8Yvh0C/R.INSTALL10b45b05abc/BiocGenerics/man/unique.Rd:62: file link 'Rle' in package 'S4Vectors' does not exist and so has been treated as a topic
    unlist                                  html  
Rd warning: C:/Users/biocbuild/bbs-3.12-bioc/tmpdir/Rtmp8Yvh0C/R.INSTALL10b45b05abc/BiocGenerics/man/unlist.Rd:51: file link 'selectMethod' in package 'methods' does not exist and so has been treated as a topic
Rd warning: C:/Users/biocbuild/bbs-3.12-bioc/tmpdir/Rtmp8Yvh0C/R.INSTALL10b45b05abc/BiocGenerics/man/unlist.Rd:54: file link 'unlist,List-method' in package 'S4Vectors' does not exist and so has been treated as a topic
Rd warning: C:/Users/biocbuild/bbs-3.12-bioc/tmpdir/Rtmp8Yvh0C/R.INSTALL10b45b05abc/BiocGenerics/man/unlist.Rd:56: file link 'List' in package 'S4Vectors' does not exist and so has been treated as a topic
    unsplit                                 html  
Rd warning: C:/Users/biocbuild/bbs-3.12-bioc/tmpdir/Rtmp8Yvh0C/R.INSTALL10b45b05abc/BiocGenerics/man/unsplit.Rd:14: file link 'unsplit' in package 'base' does not exist and so has been treated as a topic
Rd warning: C:/Users/biocbuild/bbs-3.12-bioc/tmpdir/Rtmp8Yvh0C/R.INSTALL10b45b05abc/BiocGenerics/man/unsplit.Rd:33: file link 'unsplit' in package 'base' does not exist and so has been treated as a topic
Rd warning: C:/Users/biocbuild/bbs-3.12-bioc/tmpdir/Rtmp8Yvh0C/R.INSTALL10b45b05abc/BiocGenerics/man/unsplit.Rd:39: file link 'unsplit' in package 'base' does not exist and so has been treated as a topic
Rd warning: C:/Users/biocbuild/bbs-3.12-bioc/tmpdir/Rtmp8Yvh0C/R.INSTALL10b45b05abc/BiocGenerics/man/unsplit.Rd:48: file link 'unsplit' in package 'base' does not exist and so has been treated as a topic
Rd warning: C:/Users/biocbuild/bbs-3.12-bioc/tmpdir/Rtmp8Yvh0C/R.INSTALL10b45b05abc/BiocGenerics/man/unsplit.Rd:54: file link 'selectMethod' in package 'methods' does not exist and so has been treated as a topic
Rd warning: C:/Users/biocbuild/bbs-3.12-bioc/tmpdir/Rtmp8Yvh0C/R.INSTALL10b45b05abc/BiocGenerics/man/unsplit.Rd:57: file link 'unsplit,List-method' in package 'IRanges' does not exist and so has been treated as a topic
Rd warning: C:/Users/biocbuild/bbs-3.12-bioc/tmpdir/Rtmp8Yvh0C/R.INSTALL10b45b05abc/BiocGenerics/man/unsplit.Rd:59: file link 'List' in package 'S4Vectors' does not exist and so has been treated as a topic
    updateObject                            html  
Rd warning: C:/Users/biocbuild/bbs-3.12-bioc/tmpdir/Rtmp8Yvh0C/R.INSTALL10b45b05abc/BiocGenerics/man/updateObject.Rd:130: file link 'selectMethod' in package 'methods' does not exist and so has been treated as a topic
    var                                     html  
Rd warning: C:/Users/biocbuild/bbs-3.12-bioc/tmpdir/Rtmp8Yvh0C/R.INSTALL10b45b05abc/BiocGenerics/man/var.Rd:14: file link 'var' in package 'stats' does not exist and so has been treated as a topic
Rd warning: C:/Users/biocbuild/bbs-3.12-bioc/tmpdir/Rtmp8Yvh0C/R.INSTALL10b45b05abc/BiocGenerics/man/var.Rd:32: file link 'var' in package 'stats' does not exist and so has been treated as a topic
Rd warning: C:/Users/biocbuild/bbs-3.12-bioc/tmpdir/Rtmp8Yvh0C/R.INSTALL10b45b05abc/BiocGenerics/man/var.Rd:36: file link 'var' in package 'stats' does not exist and so has been treated as a topic
Rd warning: C:/Users/biocbuild/bbs-3.12-bioc/tmpdir/Rtmp8Yvh0C/R.INSTALL10b45b05abc/BiocGenerics/man/var.Rd:45: file link 'var' in package 'stats' does not exist and so has been treated as a topic
Rd warning: C:/Users/biocbuild/bbs-3.12-bioc/tmpdir/Rtmp8Yvh0C/R.INSTALL10b45b05abc/BiocGenerics/man/var.Rd:51: file link 'selectMethod' in package 'methods' does not exist and so has been treated as a topic
    weights                                 html  
Rd warning: C:/Users/biocbuild/bbs-3.12-bioc/tmpdir/Rtmp8Yvh0C/R.INSTALL10b45b05abc/BiocGenerics/man/weights.Rd:47: file link 'selectMethod' in package 'methods' does not exist and so has been treated as a topic
Rd warning: C:/Users/biocbuild/bbs-3.12-bioc/tmpdir/Rtmp8Yvh0C/R.INSTALL10b45b05abc/BiocGenerics/man/weights.Rd:50: file link 'weights,PLMset-method' in package 'affyPLM' does not exist and so has been treated as a topic
Rd warning: C:/Users/biocbuild/bbs-3.12-bioc/tmpdir/Rtmp8Yvh0C/R.INSTALL10b45b05abc/BiocGenerics/man/weights.Rd:52: file link 'PLMset' in package 'affyPLM' does not exist and so has been treated as a topic
    which                                   html  
Rd warning: C:/Users/biocbuild/bbs-3.12-bioc/tmpdir/Rtmp8Yvh0C/R.INSTALL10b45b05abc/BiocGenerics/man/which.Rd:49: file link 'selectMethod' in package 'methods' does not exist and so has been treated as a topic
Rd warning: C:/Users/biocbuild/bbs-3.12-bioc/tmpdir/Rtmp8Yvh0C/R.INSTALL10b45b05abc/BiocGenerics/man/which.Rd:52: file link 'which,DelayedArray-method' in package 'DelayedArray' does not exist and so has been treated as a topic
Rd warning: C:/Users/biocbuild/bbs-3.12-bioc/tmpdir/Rtmp8Yvh0C/R.INSTALL10b45b05abc/BiocGenerics/man/which.Rd:54: file link 'DelayedArray' in package 'DelayedArray' does not exist and so has been treated as a topic
    which.min                               html  
Rd warning: C:/Users/biocbuild/bbs-3.12-bioc/tmpdir/Rtmp8Yvh0C/R.INSTALL10b45b05abc/BiocGenerics/man/which.min.Rd:50: file link 'NumericList' in package 'IRanges' does not exist and so has been treated as a topic
Rd warning: C:/Users/biocbuild/bbs-3.12-bioc/tmpdir/Rtmp8Yvh0C/R.INSTALL10b45b05abc/BiocGenerics/man/which.min.Rd:62: file link 'selectMethod' in package 'methods' does not exist and so has been treated as a topic
Rd warning: C:/Users/biocbuild/bbs-3.12-bioc/tmpdir/Rtmp8Yvh0C/R.INSTALL10b45b05abc/BiocGenerics/man/which.min.Rd:65: file link 'which.max,NumericList-method' in package 'IRanges' does not exist and so has been treated as a topic
Rd warning: C:/Users/biocbuild/bbs-3.12-bioc/tmpdir/Rtmp8Yvh0C/R.INSTALL10b45b05abc/BiocGenerics/man/which.min.Rd:67: file link 'NumericList' in package 'IRanges' does not exist and so has been treated as a topic
    xtabs                                   html  
Rd warning: C:/Users/biocbuild/bbs-3.12-bioc/tmpdir/Rtmp8Yvh0C/R.INSTALL10b45b05abc/BiocGenerics/man/xtabs.Rd:52: file link 'selectMethod' in package 'methods' does not exist and so has been treated as a topic
Rd warning: C:/Users/biocbuild/bbs-3.12-bioc/tmpdir/Rtmp8Yvh0C/R.INSTALL10b45b05abc/BiocGenerics/man/xtabs.Rd:55: file link 'xtabs,DataFrame-method' in package 'S4Vectors' does not exist and so has been treated as a topic
Rd warning: C:/Users/biocbuild/bbs-3.12-bioc/tmpdir/Rtmp8Yvh0C/R.INSTALL10b45b05abc/BiocGenerics/man/xtabs.Rd:57: file link 'DataFrame' in package 'S4Vectors' does not exist and so has been treated as a topic
** building package indices
** testing if installed package can be loaded from temporary location
** testing if installed package can be loaded from final location
** testing if installed package keeps a record of temporary installation path

install for x64

* installing *source* package 'BiocGenerics' ...
** testing if installed package can be loaded
* MD5 sums
packaged installation of 'BiocGenerics' as BiocGenerics_0.35.4.zip
* DONE (BiocGenerics)
* installing to library 'C:/Users/biocbuild/bbs-3.12-bioc/R/library'
package 'BiocGenerics' successfully unpacked and MD5 sums checked