Back to Multiple platform build/check report for BioC 3.12
A[B]CDEFGHIJKLMNOPQRSTUVWXYZ

BUILD report for BiocDockerManager on merida1

This page was generated on 2020-09-27 10:24:52 -0400 (Sun, 27 Sep 2020).

TO THE DEVELOPERS/MAINTAINERS OF THE BiocDockerManager PACKAGE: Please make sure to use the following settings in order to reproduce any error or warning you see on this page.
Package 151/1923HostnameOS / ArchINSTALLBUILDCHECKBUILD BIN
BiocDockerManager 1.1.5
Bioconductor Package Maintainer
Snapshot Date: 2020-09-26 14:42:06 -0400 (Sat, 26 Sep 2020)
URL: https://git.bioconductor.org/packages/BiocDockerManager
Branch: master
Last Commit: 478fb9d
Last Changed Date: 2020-09-08 13:40:46 -0400 (Tue, 08 Sep 2020)
malbec1 Linux (Ubuntu 18.04.4 LTS) / x86_64  OK  OK  OK UNNEEDED, same version exists in internal repository
nebbiolo1 Linux (Ubuntu 20.04.1 LTS) / x86_64  OK  OK  OK 
tokay1 Windows Server 2012 R2 Standard / x64  OK  OK  OK  NA 
riesling1 Windows Server 2019 Standard / x64  OK  OK  ERROR  OK 
merida1 macOS 10.14.6 Mojave / x86_64  OK [ OK ] OK  NA 

Summary

Package: BiocDockerManager
Version: 1.1.5
Command: /Library/Frameworks/R.framework/Versions/Current/Resources/bin/R CMD build --keep-empty-dirs --no-resave-data BiocDockerManager
StartedAt: 2020-09-26 22:38:40 -0400 (Sat, 26 Sep 2020)
EndedAt: 2020-09-26 22:39:30 -0400 (Sat, 26 Sep 2020)
EllapsedTime: 49.9 seconds
RetCode: 0
Status:  OK 
PackageFile: BiocDockerManager_1.1.5.tar.gz
PackageFileSize: 233.8 KiB

Command output

##############################################################################
##############################################################################
###
### Running command:
###
###   /Library/Frameworks/R.framework/Versions/Current/Resources/bin/R CMD build --keep-empty-dirs --no-resave-data BiocDockerManager
###
##############################################################################
##############################################################################


* checking for file ‘BiocDockerManager/DESCRIPTION’ ... OK
* preparing ‘BiocDockerManager’:
* checking DESCRIPTION meta-information ... OK
* installing the package to build vignettes
* creating vignettes ... OK
* checking for LF line-endings in source and make files and shell scripts
* checking for empty or unneeded directories
* building ‘BiocDockerManager_1.1.5.tar.gz’