Back to Multiple platform build/check report for BioC 3.12
A[B]CDEFGHIJKLMNOPQRSTUVWXYZ

BUILD BIN report for BiocCheck on merida1

This page was generated on 2020-09-30 10:17:38 -0400 (Wed, 30 Sep 2020).

TO THE DEVELOPERS/MAINTAINERS OF THE BiocCheck PACKAGE: Please make sure to use the following settings in order to reproduce any error or warning you see on this page.
Package 150/1923HostnameOS / ArchINSTALLBUILDCHECKBUILD BIN
BiocCheck 1.25.13
Bioconductor Package Maintainer
Snapshot Date: 2020-09-29 14:42:23 -0400 (Tue, 29 Sep 2020)
URL: https://git.bioconductor.org/packages/BiocCheck
Branch: master
Last Commit: fa8d333
Last Changed Date: 2020-09-17 12:59:46 -0400 (Thu, 17 Sep 2020)
malbec1 Linux (Ubuntu 18.04.4 LTS) / x86_64  OK  OK  OK UNNEEDED, same version exists in internal repository
nebbiolo1 Linux (Ubuntu 20.04.1 LTS) / x86_64  OK  OK  OK 
tokay1 Windows Server 2012 R2 Standard / x64  OK  OK  OK  OK UNNEEDED, same version exists in internal repository
riesling1 Windows Server 2019 Standard / x64  OK  OK  OK  OK 
merida1 macOS 10.14.6 Mojave / x86_64  OK  OK  OK [ OK ]UNNEEDED, same version exists in internal repository

Summary

Package: BiocCheck
Version: 1.25.13
Command: rm -rf BiocCheck.buildbin-libdir && mkdir BiocCheck.buildbin-libdir && /Users/biocbuild/BBS/utils/build-universal.sh BiocCheck_1.25.13.tar.gz /Library/Frameworks/R.framework/Versions/Current/Resources/bin/R BiocCheck.buildbin-libdir
StartedAt: 2020-09-30 08:57:30 -0400 (Wed, 30 Sep 2020)
EndedAt: 2020-09-30 08:58:47 -0400 (Wed, 30 Sep 2020)
EllapsedTime: 77.1 seconds
RetCode: 0
Status:  OK 
PackageFile: BiocCheck_1.25.13.tgz
PackageFileSize: 4.362 MiB

Command output

##############################################################################
##############################################################################
###
### Running command:
###
###   rm -rf BiocCheck.buildbin-libdir && mkdir BiocCheck.buildbin-libdir && /Users/biocbuild/BBS/utils/build-universal.sh BiocCheck_1.25.13.tar.gz /Library/Frameworks/R.framework/Versions/Current/Resources/bin/R BiocCheck.buildbin-libdir
###
##############################################################################
##############################################################################


>>>>>>> 
>>>>>>> INSTALLATION WITH 'R CMD INSTALL --preclean --no-multiarch --library=BiocCheck.buildbin-libdir BiocCheck_1.25.13.tar.gz'
>>>>>>> 

* installing *source* package ‘BiocCheck’ ...
** using staged installation
** R
** inst
** byte-compile and prepare package for lazy loading
** help
*** installing help indices
** building package indices
** installing vignettes
** testing if installed package can be loaded from temporary location
** testing if installed package can be loaded from final location
** testing if installed package keeps a record of temporary installation path
* DONE (BiocCheck)