Back to Multiple platform build/check report for BioC 3.12
A[B]CDEFGHIJKLMNOPQRSTUVWXYZ

CHECK report for BiocCaseStudies on nebbiolo1

This page was generated on 2020-09-27 10:13:56 -0400 (Sun, 27 Sep 2020).

TO THE DEVELOPERS/MAINTAINERS OF THE BiocCaseStudies PACKAGE: Please make sure to use the following settings in order to reproduce any error or warning you see on this page.
Package 149/1923HostnameOS / ArchINSTALLBUILDCHECKBUILD BIN
BiocCaseStudies 1.51.0
Bioconductor Package Maintainer
Snapshot Date: 2020-09-26 14:42:06 -0400 (Sat, 26 Sep 2020)
URL: https://git.bioconductor.org/packages/BiocCaseStudies
Branch: master
Last Commit: 436d015
Last Changed Date: 2020-04-27 14:16:09 -0400 (Mon, 27 Apr 2020)
malbec1 Linux (Ubuntu 18.04.4 LTS) / x86_64  OK  OK  OK UNNEEDED, same version exists in internal repository
nebbiolo1 Linux (Ubuntu 20.04.1 LTS) / x86_64  OK  OK [ OK ]
tokay1 Windows Server 2012 R2 Standard / x64  OK  OK  OK  OK UNNEEDED, same version exists in internal repository
riesling1 Windows Server 2019 Standard / x64  OK  OK  OK  OK 
merida1 macOS 10.14.6 Mojave / x86_64  OK  OK  OK  OK UNNEEDED, same version exists in internal repository

Summary

Package: BiocCaseStudies
Version: 1.51.0
Command: /home/biocbuild/bbs-3.12-bioc/R/bin/R CMD check --install=check:BiocCaseStudies.install-out.txt --library=/home/biocbuild/bbs-3.12-bioc/R/library --no-vignettes --timings BiocCaseStudies_1.51.0.tar.gz
StartedAt: 2020-09-26 19:58:41 -0400 (Sat, 26 Sep 2020)
EndedAt: 2020-09-26 20:00:35 -0400 (Sat, 26 Sep 2020)
EllapsedTime: 113.8 seconds
RetCode: 0
Status:  OK 
CheckDir: BiocCaseStudies.Rcheck
Warnings: 0

Command output

##############################################################################
##############################################################################
###
### Running command:
###
###   /home/biocbuild/bbs-3.12-bioc/R/bin/R CMD check --install=check:BiocCaseStudies.install-out.txt --library=/home/biocbuild/bbs-3.12-bioc/R/library --no-vignettes --timings BiocCaseStudies_1.51.0.tar.gz
###
##############################################################################
##############################################################################


* using log directory ‘/home/biocbuild/bbs-3.12-bioc/meat/BiocCaseStudies.Rcheck’
* using R version 4.0.2 (2020-06-22)
* using platform: x86_64-pc-linux-gnu (64-bit)
* using session charset: UTF-8
* using option ‘--no-vignettes’
* checking for file ‘BiocCaseStudies/DESCRIPTION’ ... OK
* this is package ‘BiocCaseStudies’ version ‘1.51.0’
* checking package namespace information ... OK
* checking package dependencies ... OK
* checking if this is a source package ... OK
* checking if there is a namespace ... OK
* checking for hidden files and directories ... OK
* checking for portable file names ... OK
* checking for sufficient/correct file permissions ... OK
* checking whether package ‘BiocCaseStudies’ can be installed ... OK
* checking installed package size ... OK
* checking package directory ... OK
* checking DESCRIPTION meta-information ... NOTE
Package listed in more than one of Depends, Imports, Suggests, Enhances:
  ‘Biobase’
A package should be listed in only one of these fields.
* checking top-level files ... OK
* checking for left-over files ... OK
* checking index information ... OK
* checking package subdirectories ... OK
* checking R files for non-ASCII characters ... OK
* checking R files for syntax errors ... OK
* checking whether the package can be loaded ... OK
* checking whether the package can be loaded with stated dependencies ... OK
* checking whether the package can be unloaded cleanly ... OK
* checking whether the namespace can be loaded with stated dependencies ... OK
* checking whether the namespace can be unloaded cleanly ... OK
* checking dependencies in R code ... NOTE
Packages in Depends field not imported from:
  ‘Biobase’ ‘methods’ ‘tools’
  These packages need to be imported from (in the NAMESPACE file)
  for when this namespace is loaded but not attached.
* checking S3 generic/method consistency ... OK
* checking replacement functions ... OK
* checking foreign function calls ... OK
* checking R code for possible problems ... NOTE
fixedWidthCat: no visible global function definition for
  ‘capture.output’
fixedWidthCat: no visible global function definition for ‘strbreak’
mySessionInfo: no visible global function definition for ‘sessionInfo’
packages2install : <anonymous>: no visible global function definition
  for ‘packageDescription’
packages2install : <anonymous>: no visible global function definition
  for ‘is’
parseLibVers: no visible global function definition for
  ‘packageDescription’
requiredPackages : <anonymous>: no visible global function definition
  for ‘packageDescription’
requiredPackages : <anonymous>: no visible global function definition
  for ‘is’
resample: no visible global function definition for ‘pData’
resample: no visible binding for global variable ‘sd’
resample: no visible global function definition for ‘segments’
Undefined global functions or variables:
  capture.output is pData packageDescription sd segments sessionInfo
  strbreak
Consider adding
  importFrom("graphics", "segments")
  importFrom("methods", "is")
  importFrom("stats", "sd")
  importFrom("utils", "capture.output", "packageDescription",
             "sessionInfo")
to your NAMESPACE file (and ensure that your DESCRIPTION Imports field
contains 'methods').
* checking Rd files ... OK
* checking Rd metadata ... OK
* checking Rd cross-references ... OK
* checking for missing documentation entries ... OK
* checking for code/documentation mismatches ... OK
* checking Rd \usage sections ... OK
* checking Rd contents ... OK
* checking for unstated dependencies in examples ... OK
* checking examples ... OK
* checking PDF version of manual ... OK
* DONE

Status: 3 NOTEs
See
  ‘/home/biocbuild/bbs-3.12-bioc/meat/BiocCaseStudies.Rcheck/00check.log’
for details.



Installation output

BiocCaseStudies.Rcheck/00install.out

##############################################################################
##############################################################################
###
### Running command:
###
###   /home/biocbuild/bbs-3.12-bioc/R/bin/R CMD INSTALL BiocCaseStudies
###
##############################################################################
##############################################################################


* installing to library ‘/home/biocbuild/bbs-3.12-bioc/R/library’
* installing *source* package ‘BiocCaseStudies’ ...
** using staged installation
** R
** byte-compile and prepare package for lazy loading
** help
*** installing help indices
** building package indices
** testing if installed package can be loaded from temporary location
** testing if installed package can be loaded from final location
** testing if installed package keeps a record of temporary installation path
* DONE (BiocCaseStudies)

Tests output


Example timings

BiocCaseStudies.Rcheck/BiocCaseStudies-Ex.timings

nameusersystemelapsed
fixedWidthCat0.0040.0010.004
requiredPackages0.0010.0000.000