Back to Multiple platform build/check report for BioC 3.12
A[B]CDEFGHIJKLMNOPQRSTUVWXYZ

BUILD report for BioTIP on tokay1

This page was generated on 2020-12-01 11:58:03 -0500 (Tue, 01 Dec 2020).

TO THE DEVELOPERS/MAINTAINERS OF THE BioTIP PACKAGE: Please make sure to use the following settings in order to reproduce any error or warning you see on this page.
Package 188/1974HostnameOS / ArchINSTALLBUILDCHECKBUILD BIN
BioTIP 1.4.0
Yuxi (Jennifer) Sun , Zhezhen Wang , and X Holly Yang
Snapshot Date: 2020-11-30 14:42:56 -0500 (Mon, 30 Nov 2020)
URL: https://git.bioconductor.org/packages/BioTIP
Branch: RELEASE_3_12
Last Commit: 7fbbf0f
Last Changed Date: 2020-10-27 11:49:44 -0500 (Tue, 27 Oct 2020)
malbec1 Linux (Ubuntu 18.04.4 LTS) / x86_64  OK  OK  WARNINGS UNNEEDED, same version exists in internal repository
nebbiolo1 Linux (Ubuntu 20.04.1 LTS) / x86_64  OK  OK  WARNINGS 
tokay1 Windows Server 2012 R2 Standard / x64  OK [ OK ] WARNINGS  OK UNNEEDED, same version exists in internal repository
merida1 macOS 10.14.6 Mojave / x86_64  OK  OK  WARNINGS  OK UNNEEDED, same version exists in internal repository

Summary

Package: BioTIP
Version: 1.4.0
Command: chmod a+r BioTIP -R && C:\Users\biocbuild\bbs-3.12-bioc\R\bin\R.exe CMD build --keep-empty-dirs --no-resave-data BioTIP
StartedAt: 2020-11-30 19:56:12 -0500 (Mon, 30 Nov 2020)
EndedAt: 2020-11-30 19:58:51 -0500 (Mon, 30 Nov 2020)
EllapsedTime: 158.9 seconds
RetCode: 0
Status:  OK  
PackageFile: BioTIP_1.4.0.tar.gz
PackageFileSize: 8.498 MiB

Command output

##############################################################################
##############################################################################
###
### Running command:
###
###   chmod a+r BioTIP -R && C:\Users\biocbuild\bbs-3.12-bioc\R\bin\R.exe CMD build --keep-empty-dirs --no-resave-data BioTIP
###
##############################################################################
##############################################################################


* checking for file 'BioTIP/DESCRIPTION' ... OK
* preparing 'BioTIP':
* checking DESCRIPTION meta-information ... OK
* installing the package to build vignettes
* creating vignettes ... OK
* checking for LF line-endings in source and make files and shell scripts
* checking for empty or unneeded directories
* building 'BioTIP_1.4.0.tar.gz'