Back to Multiple platform build/check report for BioC 3.12
A[B]CDEFGHIJKLMNOPQRSTUVWXYZ

CHECK report for BioNetStat on nebbiolo1

This page was generated on 2021-02-22 12:33:17 -0500 (Mon, 22 Feb 2021).

To the developers/maintainers of the BioNetStat package:
Please make sure to use the following settings in order to reproduce any error or warning you see on this page.
Package 183/1974HostnameOS / ArchINSTALLBUILDCHECKBUILD BIN
BioNetStat 1.10.2
Vinicius Jardim
Snapshot Date: 2021-02-21 14:52:07 -0500 (Sun, 21 Feb 2021)
URL: https://git.bioconductor.org/packages/BioNetStat
Branch: RELEASE_3_12
Last Commit: 587049e
Last Changed Date: 2021-01-31 18:51:03 -0500 (Sun, 31 Jan 2021)
malbec1Linux (Ubuntu 18.04.5 LTS) / x86_64  OK    OK    OK  UNNEEDED, same version exists in internal repository
nebbiolo1Linux (Ubuntu 20.04.2 LTS) / x86_64  OK    OK    OK  
tokay1Windows Server 2012 R2 Standard / x64  OK    OK    OK    OK  UNNEEDED, same version exists in internal repository
merida1macOS 10.14.6 Mojave / x86_64  OK    OK    OK    OK  UNNEEDED, same version exists in internal repository

Summary

Package: BioNetStat
Version: 1.10.2
Command: /home/biocbuild/bbs-3.12-bioc/R/bin/R CMD check --install=check:BioNetStat.install-out.txt --library=/home/biocbuild/bbs-3.12-bioc/R/library --no-vignettes --timings BioNetStat_1.10.2.tar.gz
StartedAt: 2021-02-21 20:23:01 -0500 (Sun, 21 Feb 2021)
EndedAt: 2021-02-21 20:27:42 -0500 (Sun, 21 Feb 2021)
EllapsedTime: 280.5 seconds
RetCode: 0
Status:   OK  
CheckDir: BioNetStat.Rcheck
Warnings: 0

Command output

##############################################################################
##############################################################################
###
### Running command:
###
###   /home/biocbuild/bbs-3.12-bioc/R/bin/R CMD check --install=check:BioNetStat.install-out.txt --library=/home/biocbuild/bbs-3.12-bioc/R/library --no-vignettes --timings BioNetStat_1.10.2.tar.gz
###
##############################################################################
##############################################################################


* using log directory ‘/home/biocbuild/bbs-3.12-bioc/meat/BioNetStat.Rcheck’
* using R version 4.0.3 (2020-10-10)
* using platform: x86_64-pc-linux-gnu (64-bit)
* using session charset: UTF-8
* using option ‘--no-vignettes’
* checking for file ‘BioNetStat/DESCRIPTION’ ... OK
* checking extension type ... Package
* this is package ‘BioNetStat’ version ‘1.10.2’
* package encoding: UTF-8
* checking package namespace information ... OK
* checking package dependencies ... OK
* checking if this is a source package ... OK
* checking if there is a namespace ... OK
* checking for hidden files and directories ... OK
* checking for portable file names ... OK
* checking for sufficient/correct file permissions ... OK
* checking whether package ‘BioNetStat’ can be installed ... OK
* checking installed package size ... OK
* checking package directory ... OK
* checking ‘build’ directory ... OK
* checking DESCRIPTION meta-information ... OK
* checking top-level files ... OK
* checking for left-over files ... OK
* checking index information ... OK
* checking package subdirectories ... NOTE
Found the following CITATION file in a non-standard place:
  CITATION
Most likely ‘inst/CITATION’ should be used instead.
* checking R files for non-ASCII characters ... OK
* checking R files for syntax errors ... OK
* checking whether the package can be loaded ... OK
* checking whether the package can be loaded with stated dependencies ... OK
* checking whether the package can be unloaded cleanly ... OK
* checking whether the namespace can be loaded with stated dependencies ... OK
* checking whether the namespace can be unloaded cleanly ... OK
* checking dependencies in R code ... NOTE
Namespaces in Imports field not imported from:
  ‘BiocParallel’ ‘RColorBrewer’ ‘RJSONIO’ ‘ggplot2’ ‘knitr’ ‘pheatmap’
  ‘plyr’ ‘stats’ ‘utils’ ‘whisker’ ‘yaml’
  All declared Imports should be used.
Packages in Depends field not imported from:
  ‘DT’ ‘shiny’ ‘shinyBS’
  These packages need to be imported from (in the NAMESPACE file)
  for when this namespace is loaded but not attached.
* checking S3 generic/method consistency ... OK
* checking replacement functions ... OK
* checking foreign function calls ... OK
* checking R code for possible problems ... NOTE
adjacencyMatrix : <anonymous>: no visible global function definition
  for ‘cor’
adjacencyMatrix : <anonymous>: no visible global function definition
  for ‘p.adjust’
betweennessCentralityTest: no visible global function definition for
  ‘bplapply’
betweennessCentralityVertexTest: no visible global function definition
  for ‘bplapply’
closenessCentralityTest: no visible global function definition for
  ‘bplapply’
closenessCentralityVertexTest: no visible global function definition
  for ‘bplapply’
clusteringCoefficientTest : <anonymous>: no visible global function
  definition for ‘dist’
clusteringCoefficientTest : <anonymous> : <anonymous>: no visible
  global function definition for ‘dist’
clusteringCoefficientTest: no visible global function definition for
  ‘bplapply’
clusteringCoefficientVertexTest: no visible global function definition
  for ‘bplapply’
degreeCentralityTest: no visible global function definition for
  ‘bplapply’
degreeCentralityVertexTest: no visible global function definition for
  ‘bplapply’
degreeDistributionTest: no visible global function definition for
  ‘bplapply’
diffNetAnalysis: no visible binding for global variable ‘expr’
diffNetAnalysis: no visible global function definition for ‘p.adjust’
doLabels: no visible global function definition for ‘read.csv’
edgeBetweennessEdgeTest: no visible global function definition for
  ‘bplapply’
edgeBetweennessTest: no visible global function definition for
  ‘bplapply’
edgesResInt : <anonymous>: no visible global function definition for
  ‘dist’
eigenvectorCentralityTest: no visible global function definition for
  ‘bplapply’
eigenvectorCentralityVertexTest: no visible global function definition
  for ‘bplapply’
gaussianDensity: no visible global function definition for ‘bw.nrd0’
gaussianDensity: no visible global function definition for ‘density’
pathPlot: no visible binding for global variable ‘median’
readVarFile: no visible global function definition for ‘read.table’
resInt : <anonymous>: no visible global function definition for ‘dist’
retEdgesTable: no visible global function definition for ‘p.adjust’
retTable: no visible global function definition for ‘p.adjust’
spectralDistributionTest: no visible global function definition for
  ‘bplapply’
spectralEntropyTest: no visible global function definition for
  ‘bplapply’
var.list: no visible global function definition for ‘aggregate’
Undefined global functions or variables:
  aggregate bplapply bw.nrd0 cor density dist expr median p.adjust
  read.csv read.table
Consider adding
  importFrom("stats", "aggregate", "bw.nrd0", "cor", "density", "dist",
             "median", "p.adjust")
  importFrom("utils", "read.csv", "read.table")
to your NAMESPACE file.
* checking Rd files ... OK
* checking Rd metadata ... OK
* checking Rd cross-references ... OK
* checking for missing documentation entries ... OK
* checking for code/documentation mismatches ... OK
* checking Rd \usage sections ... OK
* checking Rd contents ... OK
* checking for unstated dependencies in examples ... OK
* checking contents of ‘data’ directory ... OK
* checking data for non-ASCII characters ... OK
* checking data for ASCII and uncompressed saves ... OK
* checking files in ‘vignettes’ ... OK
* checking examples ... OK
Examples with CPU (user + system) or elapsed time > 5s
                    user system elapsed
networkTest        9.213  0.020   9.233
centralityPathPlot 6.217  0.792  10.465
pathPlot           5.492  0.632   6.125
* checking for unstated dependencies in vignettes ... OK
* checking package vignettes in ‘inst/doc’ ... OK
* checking running R code from vignettes ... SKIPPED
* checking re-building of vignette outputs ... SKIPPED
* checking PDF version of manual ... OK
* DONE

Status: 3 NOTEs
See
  ‘/home/biocbuild/bbs-3.12-bioc/meat/BioNetStat.Rcheck/00check.log’
for details.



Installation output

BioNetStat.Rcheck/00install.out

##############################################################################
##############################################################################
###
### Running command:
###
###   /home/biocbuild/bbs-3.12-bioc/R/bin/R CMD INSTALL BioNetStat
###
##############################################################################
##############################################################################


* installing to library ‘/home/biocbuild/bbs-3.12-bioc/R/library’
* installing *source* package ‘BioNetStat’ ...
** using staged installation
** R
** data
** inst
** byte-compile and prepare package for lazy loading
** help
*** installing help indices
** building package indices
** installing vignettes
** testing if installed package can be loaded from temporary location
** testing if installed package can be loaded from final location
** testing if installed package keeps a record of temporary installation path
* DONE (BioNetStat)

Tests output


Example timings

BioNetStat.Rcheck/BioNetStat-Ex.timings

nameusersystemelapsed
KLdegree0.0120.0040.017
KLspectrum0.0130.0060.018
adjacencyMatrix0.0010.0000.001
centralityPathPlot 6.217 0.79210.465
diffNetAnalysis1.1890.0471.239
doLabels0.0790.0010.079
edgeTest0.0470.0080.055
labels0.0000.0010.001
nDegreeDensities0.0390.0110.049
nSpectralDensities0.0850.0000.084
networkFeature0.0520.0160.068
networkTest9.2130.0209.233
nodeScores0.0420.0120.053
nodeTest0.0700.0080.078
pathPlot5.4920.6326.125
readSetFile0.0610.0000.064
readVarFile0.0780.0000.078
runBioNetStat000
varFile0.0020.0030.006