Back to Multiple platform build/check report for BioC 3.12
A[B]CDEFGHIJKLMNOPQRSTUVWXYZ

BUILD report for BioMM on nebbiolo1

This page was generated on 2020-10-01 10:50:15 -0400 (Thu, 01 Oct 2020).

TO THE DEVELOPERS/MAINTAINERS OF THE BioMM PACKAGE: Please make sure to use the following settings in order to reproduce any error or warning you see on this page.
Package 171/1923HostnameOS / ArchINSTALLBUILDCHECKBUILD BIN
BioMM 1.5.9
Junfang Chen
Snapshot Date: 2020-09-30 14:42:00 -0400 (Wed, 30 Sep 2020)
URL: https://git.bioconductor.org/packages/BioMM
Branch: master
Last Commit: d5b0c3b
Last Changed Date: 2020-09-09 09:05:56 -0400 (Wed, 09 Sep 2020)
malbec1 Linux (Ubuntu 18.04.4 LTS) / x86_64  OK  OK  OK UNNEEDED, same version exists in internal repository
nebbiolo1 Linux (Ubuntu 20.04.1 LTS) / x86_64  OK [ OK ] OK 
tokay1 Windows Server 2012 R2 Standard / x64  OK  OK  OK  OK UNNEEDED, same version exists in internal repository
riesling1 Windows Server 2019 Standard / x64  OK  OK  OK  OK 
merida1 macOS 10.14.6 Mojave / x86_64  OK  OK  OK  NA 

Summary

Package: BioMM
Version: 1.5.9
Command: /home/biocbuild/bbs-3.12-bioc/R/bin/R CMD build --keep-empty-dirs --no-resave-data BioMM
StartedAt: 2020-09-30 19:11:03 -0400 (Wed, 30 Sep 2020)
EndedAt: 2020-09-30 19:12:48 -0400 (Wed, 30 Sep 2020)
EllapsedTime: 105.4 seconds
RetCode: 0
Status:  OK 
PackageFile: BioMM_1.5.9.tar.gz
PackageFileSize: 2.844 MiB

Command output

##############################################################################
##############################################################################
###
### Running command:
###
###   /home/biocbuild/bbs-3.12-bioc/R/bin/R CMD build --keep-empty-dirs --no-resave-data BioMM
###
##############################################################################
##############################################################################


* checking for file ‘BioMM/DESCRIPTION’ ... OK
* preparing ‘BioMM’:
* checking DESCRIPTION meta-information ... OK
* installing the package to build vignettes
* creating vignettes ... OK
* checking for LF line-endings in source and make files and shell scripts
* checking for empty or unneeded directories
* building ‘BioMM_1.5.9.tar.gz’