Back to Multiple platform build/check report for BioC 3.12
A[B]CDEFGHIJKLMNOPQRSTUVWXYZ

INSTALL report for BioCor on tokay1

This page was generated on 2020-12-01 11:58:01 -0500 (Tue, 01 Dec 2020).

TO THE DEVELOPERS/MAINTAINERS OF THE BioCor PACKAGE: Please make sure to use the following settings in order to reproduce any error or warning you see on this page.
Package 165/1974HostnameOS / ArchINSTALLBUILDCHECKBUILD BIN
BioCor 1.14.0
LluĂ­s Revilla Sancho
Snapshot Date: 2020-11-30 14:42:56 -0500 (Mon, 30 Nov 2020)
URL: https://git.bioconductor.org/packages/BioCor
Branch: RELEASE_3_12
Last Commit: a64a874
Last Changed Date: 2020-10-27 11:22:31 -0500 (Tue, 27 Oct 2020)
malbec1 Linux (Ubuntu 18.04.4 LTS) / x86_64  OK  OK  OK UNNEEDED, same version exists in internal repository
nebbiolo1 Linux (Ubuntu 20.04.1 LTS) / x86_64  OK  OK  OK 
tokay1 Windows Server 2012 R2 Standard / x64 [ OK ] OK  OK  OK UNNEEDED, same version exists in internal repository
merida1 macOS 10.14.6 Mojave / x86_64  OK  OK  OK  OK UNNEEDED, same version exists in internal repository

Summary

Package: BioCor
Version: 1.14.0
Command: C:\cygwin\bin\curl.exe -O https://malbec1.bioconductor.org/BBS/3.12/bioc/src/contrib/BioCor_1.14.0.tar.gz && rm -rf BioCor.buildbin-libdir && mkdir BioCor.buildbin-libdir && C:\Users\biocbuild\bbs-3.12-bioc\R\bin\R.exe CMD INSTALL --merge-multiarch --build --library=BioCor.buildbin-libdir BioCor_1.14.0.tar.gz && C:\Users\biocbuild\bbs-3.12-bioc\R\bin\R.exe CMD INSTALL BioCor_1.14.0.zip && rm BioCor_1.14.0.tar.gz BioCor_1.14.0.zip
StartedAt: 2020-11-30 18:35:11 -0500 (Mon, 30 Nov 2020)
EndedAt: 2020-11-30 18:35:43 -0500 (Mon, 30 Nov 2020)
EllapsedTime: 31.4 seconds
RetCode: 0
Status:  OK  

Command output

##############################################################################
##############################################################################
###
### Running command:
###
###   C:\cygwin\bin\curl.exe -O https://malbec1.bioconductor.org/BBS/3.12/bioc/src/contrib/BioCor_1.14.0.tar.gz && rm -rf BioCor.buildbin-libdir && mkdir BioCor.buildbin-libdir && C:\Users\biocbuild\bbs-3.12-bioc\R\bin\R.exe CMD INSTALL --merge-multiarch --build --library=BioCor.buildbin-libdir BioCor_1.14.0.tar.gz && C:\Users\biocbuild\bbs-3.12-bioc\R\bin\R.exe CMD INSTALL BioCor_1.14.0.zip && rm BioCor_1.14.0.tar.gz BioCor_1.14.0.zip
###
##############################################################################
##############################################################################


  % Total    % Received % Xferd  Average Speed   Time    Time     Time  Current
                                 Dload  Upload   Total   Spent    Left  Speed

  0     0    0     0    0     0      0      0 --:--:-- --:--:-- --:--:--     0
100  109k  100  109k    0     0  1618k      0 --:--:-- --:--:-- --:--:-- 1704k

install for i386

* installing *source* package 'BioCor' ...
** using staged installation
** R
** byte-compile and prepare package for lazy loading
Creating a generic function from function 'clusterGeneSim' in package 'BioCor'
Creating a generic function from function 'clusterSim' in package 'BioCor'
Creating a generic function from function 'geneSim' in package 'BioCor'
Creating a generic function from function 'mclusterGeneSim' in package 'BioCor'
Creating a generic function from function 'mclusterSim' in package 'BioCor'
Creating a generic function from function 'mgeneSim' in package 'BioCor'
Creating a generic function from function 'mpathSim' in package 'BioCor'
Creating a generic function from function 'pathSim' in package 'BioCor'
** help
*** installing help indices
  converting help for package 'BioCor'
    finding HTML links ... done
    AintoB                                  html  
    BioCor-package                          html  
    addSimilarities                         html  
    clusterGeneSim                          html  
    clusterSim                              html  
    combinadic                              html  
    combineScores                           html  
    combineSources                          html  
    conversions                             html  
    diceSim                                 html  
    duplicateIndices                        html  
    geneSim                                 html  
    incidence-list-method                   html  
    inverseList                             html  
    mclusterGeneSim                         html  
    mclusterSim                             html  
    mgeneSim                                html  
    mpathSim                                html  
    pathSim                                 html  
    removeDup                               html  
    seq2mat                                 html  
    similarities                            html  
    weighted                                html  
*** copying figures
** building package indices
** installing vignettes
** testing if installed package can be loaded from temporary location
** testing if installed package can be loaded from final location
** testing if installed package keeps a record of temporary installation path

install for x64

* installing *source* package 'BioCor' ...
** testing if installed package can be loaded
* MD5 sums
packaged installation of 'BioCor' as BioCor_1.14.0.zip
* DONE (BioCor)
* installing to library 'C:/Users/biocbuild/bbs-3.12-bioc/R/library'
package 'BioCor' successfully unpacked and MD5 sums checked