Back to Multiple platform build/check report for BioC 3.12
A[B]CDEFGHIJKLMNOPQRSTUVWXYZ

BUILD report for BicARE on riesling1

This page was generated on 2020-10-21 12:13:47 -0400 (Wed, 21 Oct 2020).

TO THE DEVELOPERS/MAINTAINERS OF THE BicARE PACKAGE: Please make sure to use the following settings in order to reproduce any error or warning you see on this page.
Package 140/1939HostnameOS / ArchINSTALLBUILDCHECKBUILD BIN
BicARE 1.47.0
Pierre Gestraud
Snapshot Date: 2020-10-20 14:40:34 -0400 (Tue, 20 Oct 2020)
URL: https://git.bioconductor.org/packages/BicARE
Branch: master
Last Commit: 45cb7bc
Last Changed Date: 2020-04-27 14:18:27 -0400 (Mon, 27 Apr 2020)
malbec1 Linux (Ubuntu 18.04.4 LTS) / x86_64  OK  OK  OK UNNEEDED, same version exists in internal repository
nebbiolo1 Linux (Ubuntu 20.04.1 LTS) / x86_64  OK  OK  OK 
tokay1 Windows Server 2012 R2 Standard / x64  OK  OK  OK  OK UNNEEDED, same version exists in internal repository
riesling1 Windows Server 2019 Standard / x64  OK [ OK ] OK  OK 
merida1 macOS 10.14.6 Mojave / x86_64  OK  OK  OK  OK UNNEEDED, same version exists in internal repository

Summary

Package: BicARE
Version: 1.47.0
Command: chmod a+r BicARE -R && D:\biocbuild\bbs-3.12-bioc\R\bin\R.exe CMD build --keep-empty-dirs --no-resave-data BicARE
StartedAt: 2020-10-20 17:54:11 -0400 (Tue, 20 Oct 2020)
EndedAt: 2020-10-20 17:56:18 -0400 (Tue, 20 Oct 2020)
EllapsedTime: 126.5 seconds
RetCode: 0
Status:  OK  
PackageFile: BicARE_1.47.0.tar.gz
PackageFileSize: 350.5 KiB

Command output

##############################################################################
##############################################################################
###
### Running command:
###
###   chmod a+r BicARE -R && D:\biocbuild\bbs-3.12-bioc\R\bin\R.exe CMD build --keep-empty-dirs --no-resave-data BicARE
###
##############################################################################
##############################################################################


* checking for file 'BicARE/DESCRIPTION' ... OK
* preparing 'BicARE':
* checking DESCRIPTION meta-information ... OK
* cleaning src
* installing the package to build vignettes
* creating vignettes ... OK
* cleaning src
* checking for LF line-endings in source and make files and shell scripts
* checking for empty or unneeded directories
* looking to see if a 'data/datalist' file should be added
* building 'BicARE_1.47.0.tar.gz'