Back to Multiple platform build/check report for BioC 3.12
A[B]CDEFGHIJKLMNOPQRSTUVWXYZ

BUILD BIN report for BgeeCall on tokay1

This page was generated on 2021-01-17 11:52:45 -0500 (Sun, 17 Jan 2021).

TO THE DEVELOPERS/MAINTAINERS OF THE BgeeCall PACKAGE: Please make sure to use the following settings in order to reproduce any error or warning you see on this page.
Package 140/1974HostnameOS / ArchINSTALLBUILDCHECKBUILD BIN
BgeeCall 1.6.2
Julien Wollbrett
Snapshot Date: 2021-01-16 14:41:12 -0500 (Sat, 16 Jan 2021)
URL: https://git.bioconductor.org/packages/BgeeCall
Branch: RELEASE_3_12
Last Commit: 1b74dcf
Last Changed Date: 2020-12-10 05:55:05 -0500 (Thu, 10 Dec 2020)
malbec1 Linux (Ubuntu 18.04.5 LTS) / x86_64  OK  ERROR  skipped 
nebbiolo1 Linux (Ubuntu 20.04.1 LTS) / x86_64  OK  OK  OK 
tokay1 Windows Server 2012 R2 Standard / x64  OK  OK  OK [ OK ]UNNEEDED, same version exists in internal repository
merida1 macOS 10.14.6 Mojave / x86_64  OK  OK  OK  OK UNNEEDED, same version exists in internal repository

Summary

Package: BgeeCall
Version: 1.6.2
Command: rm -rf BgeeCall.buildbin-libdir && mkdir BgeeCall.buildbin-libdir && C:\Users\biocbuild\bbs-3.12-bioc\R\bin\R.exe CMD INSTALL --merge-multiarch --build --library=BgeeCall.buildbin-libdir BgeeCall_1.6.2.tar.gz
StartedAt: 2021-01-17 08:49:18 -0500 (Sun, 17 Jan 2021)
EndedAt: 2021-01-17 08:51:08 -0500 (Sun, 17 Jan 2021)
EllapsedTime: 109.8 seconds
RetCode: 0
Status:  OK  
PackageFile: BgeeCall_1.6.2.zip
PackageFileSize: 5.905 MiB

Command output

##############################################################################
##############################################################################
###
### Running command:
###
###   rm -rf BgeeCall.buildbin-libdir && mkdir BgeeCall.buildbin-libdir && C:\Users\biocbuild\bbs-3.12-bioc\R\bin\R.exe CMD INSTALL --merge-multiarch --build --library=BgeeCall.buildbin-libdir BgeeCall_1.6.2.tar.gz
###
##############################################################################
##############################################################################



install for i386

* installing *source* package 'BgeeCall' ...
** using staged installation
** R
** inst
** byte-compile and prepare package for lazy loading
** help
*** installing help indices
  converting help for package 'BgeeCall'
    finding HTML links ... done
    AbundanceMetadata-class                 html  
    BgeeCall                                html  
    BgeeMetadata-class                      html  
    KallistoMetadata-class                  html  
    UserMetadata-class                      html  
    create_kallisto_index                   html  
    download_fasta_intergenic               html  
    download_kallisto                       html  
    generate_calls_workflow                 html  
    generate_presence_absence               html  
    generate_slurm_calls                    html  
    generate_slurm_indexes                  html  
    getIntergenicPrefix                     html  
    getIntergenicRelease                    html  
    getRunIds                               html  
    getSimpleArborescence                   html  
    getWorkingPath                          html  
    list_bgee_ref_intergenic_species        html  
    list_community_ref_intergenic_species   html  
    list_intergenic_release                 html  
    merge_transcriptome_and_intergenic      html  
    run_kallisto                            html  
    run_tximport                            html  
    setAnnotationFromFile                   html  
    setAnnotationFromObject                 html  
    setIntergenicRelease                    html  
    setOutputDir                            html  
    setRNASeqLibPath                        html  
    setRunIds                               html  
    setSimpleArborescence                   html  
    setTranscriptomeFromFile                html  
    setTranscriptomeFromObject              html  
    setWorkingPath                          html  
** building package indices
** installing vignettes
** testing if installed package can be loaded from temporary location
** testing if installed package can be loaded from final location
** testing if installed package keeps a record of temporary installation path

install for x64

* installing *source* package 'BgeeCall' ...
** testing if installed package can be loaded
* MD5 sums
packaged installation of 'BgeeCall' as BgeeCall_1.6.2.zip
* DONE (BgeeCall)